BEGIN:VCALENDAR
VERSION:2.0
PRODID:-//FAMÍLIES PEL VALENCIÀ - ECPv6.15.20//NONSGML v1.0//EN
CALSCALE:GREGORIAN
METHOD:PUBLISH
X-ORIGINAL-URL:https://familiespelvalencia.org
X-WR-CALDESC:Esdeveniments per FAMÍLIES PEL VALENCIÀ
REFRESH-INTERVAL;VALUE=DURATION:PT1H
X-Robots-Tag:noindex
X-PUBLISHED-TTL:PT1H
BEGIN:VTIMEZONE
TZID:Europe/Paris
BEGIN:DAYLIGHT
TZOFFSETFROM:+0100
TZOFFSETTO:+0200
TZNAME:CEST
DTSTART:20250330T010000
END:DAYLIGHT
BEGIN:STANDARD
TZOFFSETFROM:+0200
TZOFFSETTO:+0100
TZNAME:CET
DTSTART:20251026T010000
END:STANDARD
BEGIN:DAYLIGHT
TZOFFSETFROM:+0100
TZOFFSETTO:+0200
TZNAME:CEST
DTSTART:20260329T010000
END:DAYLIGHT
BEGIN:STANDARD
TZOFFSETFROM:+0200
TZOFFSETTO:+0100
TZNAME:CET
DTSTART:20261025T010000
END:STANDARD
BEGIN:DAYLIGHT
TZOFFSETFROM:+0100
TZOFFSETTO:+0200
TZNAME:CEST
DTSTART:20270328T010000
END:DAYLIGHT
BEGIN:STANDARD
TZOFFSETFROM:+0200
TZOFFSETTO:+0100
TZNAME:CET
DTSTART:20271031T010000
END:STANDARD
END:VTIMEZONE
BEGIN:VEVENT
DTSTART;TZID=Europe/Paris:20260419T193000
DTEND;TZID=Europe/Paris:20260419T203000
DTSTAMP:20260420T213400
CREATED:20260414T154331Z
LAST-MODIFIED:20260414T155619Z
UID:10001222-1776627000-1776630600@familiespelvalencia.org
SUMMARY:Molòleg "Manu Bàdenes"
DESCRIPTION:El festival Fora d’Òrbita d’Orba continua ampliant la seua mirada cap a les arts escèniques amb el monòleg de Manu Bàdenes\, una proposta que posa l’accent en la paraula\, l’humor i la connexió directa amb el públic. Amb un estil pròxim i un discurs carregat d’ironia\, Manu Bàdenes construeix un espectacle que convida a riure\, però també a observar la realitat quotidiana des d’una perspectiva crítica i lúcida. El monòleg combina reflexió i comèdia\, demostrant el potencial de l’humor com a eina per entendre el món i compartir inquietuds comunes. Fidel a l’esperit del Fora d’Òrbita\, aquesta actuació reforça l’aposta del festival per una programació diversa\, capaç de dialogar amb diferents sensibilitats i formats escènics\, i de convertir Orba en un espai de trobada cultural obert i viu. Una proposta per gaudir del teatre en la seua forma més directa\, deixar-se portar pel somriure i viure una experiència escènica sense filtres… fora d’òrbita. \nPúblic jove a partir de 16 anys i públic en general. \nPrograma complet Fora d’Òrbita:
URL:https://familiespelvalencia.org/activitat/mololeg-manu-badenes/
LOCATION:Orba.- Plaça de l’Ajuntament\, Plaça de l'Ajuntament\, Orba\, Marina Alta\, 03790
CATEGORIES:Comarques centrals
ATTACH;FMTTYPE=image/jpeg:https://familiespelvalencia.org/wp-content/uploads/2026/04/manu-3.jpg
END:VEVENT
BEGIN:VEVENT
DTSTART;TZID=Europe/Paris:20260419T180000
DTEND;TZID=Europe/Paris:20260419T190000
DTSTAMP:20260420T213400
CREATED:20260414T153706Z
LAST-MODIFIED:20260414T153718Z
UID:10001221-1776621600-1776625200@familiespelvalencia.org
SUMMARY:Teatre d'ombres. Només les flors
DESCRIPTION:Dins de la programació del festival Fora d’Òrbita d’Orba\, que aposta per propostes escèniques singulars i de qualitat\, arriba Només les flors\, un espectacle de teatre d’ombres de la Cia de Paper\, adreçat a públic jove a partir de 16 anys i públic en general. A través d’un delicat llenguatge visual i poètic\, l’obra construeix un relat suggeridor on la llum\, les ombres i les imatges prenen tot el protagonisme. Només les flors convida a una experiència íntima i evocadora\, que apel·la a l’emoció i a la reflexió\, demostrant la capacitat del teatre d’ombres per abordar temàtiques profundes amb sensibilitat i força expressiva. El festival Fora d’Òrbita consolida així la seua identitat com a espai de descoberta artística\, amb una programació diversa que connecta amb diferents edats i mirades\, i que situa Orba com un escenari obert a les arts escèniques contemporànies i a formats no convencionals. Una proposta per deixar-se portar per la bellesa visual i la narració simbòlica\, i viure el teatre des d’una perspectiva diferent… fora d’òrbita. \nCal reservar invitacions. \nPrograma complet Fora d’Òrbita:
URL:https://familiespelvalencia.org/activitat/teatre-dombres-nomes-les-flors/
LOCATION:Orba.- Plaça de l’Ajuntament\, Plaça de l'Ajuntament\, Orba\, Marina Alta\, 03790
CATEGORIES:Comarques centrals
ATTACH;FMTTYPE=image/jpeg:https://familiespelvalencia.org/wp-content/uploads/2026/04/Fora-dOrbita.jpeg
END:VEVENT
BEGIN:VEVENT
DTSTART;TZID=Europe/Paris:20260418T120000
DTEND;TZID=Europe/Paris:20260418T130000
DTSTAMP:20260420T213400
CREATED:20260414T152226Z
LAST-MODIFIED:20260414T152856Z
UID:10001220-1776513600-1776517200@familiespelvalencia.org
SUMMARY:Contacontes. "La llegenda de Sant Jordi" del Gran Jordiet Cia.
DESCRIPTION:Dins del festival Fora d’Òrbita d’Orba\, una cita cultural que converteix el poble en un espai de trobada al voltant de les arts escèniques contemporànies\, arriba aquesta proposta pensada especialment per al públic infantil i familiar: el contacontes La llegenda de Sant Jordi\, del Gran Jordiet Cia. Amb una mirada fresca\, divertida i pròxima\, l’espectacle revisita una de les llegendes més estimades de la nostra tradició\, apropant-la a les xiquetes i els xiquets a través de la narració oral\, l’humor i la participació del públic. Una manera viva i creativa de connectar amb el patrimoni cultural i fomentar l’amor pels contes i l’imaginari popular. El festival Fora d’Òrbita aposta per una programació diversa i de qualitat\, amb propostes que dialoguen amb l’espai públic\, el territori i els diferents públics\, i que converteixen Orba en un referent cultural de proximitat. Aquesta actuació s’emmarca plenament en l’esperit del festival: cultura accessible\, creadora i compartida. Una activitat ideal per gaudir en família i deixar-se portar per la màgia dels contes… fora d’òrbita i ben a prop. \nPrograma complet Fora d’Òrbita:
URL:https://familiespelvalencia.org/activitat/contacontes-la-llegenda-de-sant-jordi-del-gran-jordiet-cia/
LOCATION:Orba.- Plaça de l’Ajuntament\, Plaça de l'Ajuntament\, Orba\, Marina Alta\, 03790
CATEGORIES:Comarques centrals
ATTACH;FMTTYPE=image/jpeg:https://familiespelvalencia.org/wp-content/uploads/2026/04/Fora-dOrbita.jpeg
END:VEVENT
END:VCALENDAR