BEGIN:VCALENDAR
VERSION:2.0
PRODID:-//FAMÍLIES PEL VALENCIÀ - ECPv6.15.20//NONSGML v1.0//EN
CALSCALE:GREGORIAN
METHOD:PUBLISH
X-ORIGINAL-URL:https://familiespelvalencia.org
X-WR-CALDESC:Esdeveniments per FAMÍLIES PEL VALENCIÀ
REFRESH-INTERVAL;VALUE=DURATION:PT1H
X-Robots-Tag:noindex
X-PUBLISHED-TTL:PT1H
BEGIN:VTIMEZONE
TZID:Europe/Paris
BEGIN:DAYLIGHT
TZOFFSETFROM:+0100
TZOFFSETTO:+0200
TZNAME:CEST
DTSTART:20250330T010000
END:DAYLIGHT
BEGIN:STANDARD
TZOFFSETFROM:+0200
TZOFFSETTO:+0100
TZNAME:CET
DTSTART:20251026T010000
END:STANDARD
BEGIN:DAYLIGHT
TZOFFSETFROM:+0100
TZOFFSETTO:+0200
TZNAME:CEST
DTSTART:20260329T010000
END:DAYLIGHT
BEGIN:STANDARD
TZOFFSETFROM:+0200
TZOFFSETTO:+0100
TZNAME:CET
DTSTART:20261025T010000
END:STANDARD
BEGIN:DAYLIGHT
TZOFFSETFROM:+0100
TZOFFSETTO:+0200
TZNAME:CEST
DTSTART:20270328T010000
END:DAYLIGHT
BEGIN:STANDARD
TZOFFSETFROM:+0200
TZOFFSETTO:+0100
TZNAME:CET
DTSTART:20271031T010000
END:STANDARD
END:VTIMEZONE
BEGIN:VEVENT
DTSTART;TZID=Europe/Paris:20260417T173000
DTEND;TZID=Europe/Paris:20260417T183000
DTSTAMP:20260420T232439
CREATED:20260323T095519Z
LAST-MODIFIED:20260323T095519Z
UID:10001097-1776447000-1776450600@familiespelvalencia.org
SUMMARY:Contacontes. Animalades de faula.
DESCRIPTION:
URL:https://familiespelvalencia.org/activitat/contacontes-animalades-de-faula/
LOCATION:Biblioteca de Duanes\, Av. del Botanic Cabanilles\, 17\, Xàbia\, Marina Alta\, 03730
CATEGORIES:Comarques centrals
ATTACH;FMTTYPE=image/jpeg:https://familiespelvalencia.org/wp-content/uploads/2026/03/animalades-de-faula.jpg
END:VEVENT
BEGIN:VEVENT
DTSTART;TZID=Europe/Paris:20260417T110000
DTEND;TZID=Europe/Paris:20260417T123000
DTSTAMP:20260420T232439
CREATED:20260305T205455Z
LAST-MODIFIED:20260305T205802Z
UID:10001027-1776423600-1776429000@familiespelvalencia.org
SUMMARY:Concert. Trobadorets
DESCRIPTION:El festival Xàbia Folk 2026 obri la seua 24a edició amb una proposta pensada especialment per a les famílies: el concert de Trobadorets\, referent de la música infantil i familiar en valencià. La formació presentarà Creixem\, un espectacle festiu\, didàctic i molt participatiu que convida menuts i grans a cantar\, ballar i xalar plegats a ritme de música d’arrel valenciana. Amb més de quinze anys de trajectòria\, Trobadorets ha sabut convertir cada actuació en una festa compartida\, plena de valors\, energia i complicitat amb el públic. El concert s’emmarca dins d’un festival consolidat que aposta per la cultura popular\, els espais oberts i l’accés gratuït a la música en directe \nMés informació: Ajuntament de Xàbia
URL:https://familiespelvalencia.org/activitat/concert-trobadorets-14/
LOCATION:Plaça de l’esglesia.- Xàbia\, Plaça de l'esglesia\, Xàbia\, Marina Alta\, 03730
CATEGORIES:Comarques centrals
ATTACH;FMTTYPE=image/jpeg:https://familiespelvalencia.org/wp-content/uploads/2026/03/Xabia-Folk.jpg
END:VEVENT
BEGIN:VEVENT
DTSTART;TZID=Europe/Paris:20260327T173000
DTEND;TZID=Europe/Paris:20260327T183000
DTSTAMP:20260420T232439
CREATED:20260323T094924Z
LAST-MODIFIED:20260323T094957Z
UID:10001096-1774632600-1774636200@familiespelvalencia.org
SUMMARY:Contacontes. SelvAventures
DESCRIPTION:Dirigit a públic familiar
URL:https://familiespelvalencia.org/activitat/contacontes-selvaventures/
LOCATION:Biblioteca Pública Municipal.- Xàbia\, Carrer Major\, 9\, Xàbia\, Marina Alta\, 03730
CATEGORIES:Comarques centrals
ATTACH;FMTTYPE=image/jpeg:https://familiespelvalencia.org/wp-content/uploads/2026/03/artistic-close-up-of-colorful-childrens-books-stacked-with-toys-ideal-for-educational-themes.-4887079-scaled.jpg
END:VEVENT
BEGIN:VEVENT
DTSTART;TZID=Europe/Paris:20260227T173000
DTEND;TZID=Europe/Paris:20260227T183000
DTSTAMP:20260420T232439
CREATED:20260209T214907Z
LAST-MODIFIED:20260209T214907Z
UID:10000943-1772213400-1772217000@familiespelvalencia.org
SUMMARY:Contacontes. Una amistat inesperada
DESCRIPTION:“Una amistat inesperada” és una tendra proposta de contacontes infantil que convida els més menuts a endinsar-se en una aventura plena de màgia\, somriures i complicitat. Sota la frescor d’un gran arbre il·luminat amb fanalets\, una xiqueta i una criatura fantàstica comparteixen lectura amb animals del bosc\, creant una atmosfera càlida que parla d’amistat\, imaginació i descobertes sorprenents. L’activitat\, organitzada per Biblioteques Xàbia\, promet diversió assegurada i moments entranyables amb aquesta parella tan especial que demostra que les millors amistats sovint arriben quan menys t’ho esperes. Una aposta perfecta per a famílies que busquen una vesprada plena d’històries\, fantasia i emocions compartides.
URL:https://familiespelvalencia.org/activitat/contacontes-una-amistat-inesperada/
LOCATION:Biblioteca de Duanes\, Av. del Botanic Cabanilles\, 17\, Xàbia\, Marina Alta\, 03730
CATEGORIES:Comarques centrals
ATTACH;FMTTYPE=image/jpeg:https://familiespelvalencia.org/wp-content/uploads/2026/02/Una-amistat.jpg
END:VEVENT
END:VCALENDAR