BEGIN:VCALENDAR
VERSION:2.0
PRODID:-//FAMÍLIES PEL VALENCIÀ - ECPv6.15.20//NONSGML v1.0//EN
CALSCALE:GREGORIAN
METHOD:PUBLISH
X-WR-CALNAME:FAMÍLIES PEL VALENCIÀ
X-ORIGINAL-URL:https://familiespelvalencia.org
X-WR-CALDESC:Esdeveniments per FAMÍLIES PEL VALENCIÀ
REFRESH-INTERVAL;VALUE=DURATION:PT1H
X-Robots-Tag:noindex
X-PUBLISHED-TTL:PT1H
BEGIN:VTIMEZONE
TZID:Europe/Paris
BEGIN:DAYLIGHT
TZOFFSETFROM:+0100
TZOFFSETTO:+0200
TZNAME:CEST
DTSTART:20250330T010000
END:DAYLIGHT
BEGIN:STANDARD
TZOFFSETFROM:+0200
TZOFFSETTO:+0100
TZNAME:CET
DTSTART:20251026T010000
END:STANDARD
BEGIN:DAYLIGHT
TZOFFSETFROM:+0100
TZOFFSETTO:+0200
TZNAME:CEST
DTSTART:20260329T010000
END:DAYLIGHT
BEGIN:STANDARD
TZOFFSETFROM:+0200
TZOFFSETTO:+0100
TZNAME:CET
DTSTART:20261025T010000
END:STANDARD
BEGIN:DAYLIGHT
TZOFFSETFROM:+0100
TZOFFSETTO:+0200
TZNAME:CEST
DTSTART:20270328T010000
END:DAYLIGHT
BEGIN:STANDARD
TZOFFSETFROM:+0200
TZOFFSETTO:+0100
TZNAME:CET
DTSTART:20271031T010000
END:STANDARD
END:VTIMEZONE
BEGIN:VEVENT
DTSTART;TZID=Europe/Paris:20260424T100000
DTEND;TZID=Europe/Paris:20260426T190000
DTSTAMP:20260424T022735
CREATED:20260423T124815Z
LAST-MODIFIED:20260423T125406Z
UID:10001247-1777024800-1777230000@familiespelvalencia.org
SUMMARY:Fira del Llibre de Vila-real – Espai infantil Feretes i Cançonetes
DESCRIPTION:Del 24 al 26 d’abril\, la Fira del Llibre de Vila-real es converteix també en un punt de trobada per a les famílies gràcies a l’espai infantil i familiar Feretes i Cançonetes. Un entorn pensat perquè xiquetes i xiquets —i també les persones adultes— gaudisquen de la lectura a través del joc\, la creativitat i la música. Tallers\, ludoteca\, jocs\, activitats i molta diversió ompliran aquest espai que convida a somiar entre llibres i a viure la fira com un autèntic festival familiar. Una proposta ideal per compartir temps de qualitat\, fomentar l’amor per la lectura i passar-ho bé en comunitat.
URL:https://familiespelvalencia.org/activitat/fira-del-llibre-de-vila-real-espai-infantil-feretes-i-canconetes/
LOCATION:Parc Jaume I\, Vila-real\, Carrer Molí\, 12-36\, Vila-real\, Plana Baixa\, 12540
CATEGORIES:Comarques del nord
ATTACH;FMTTYPE=image/png:https://familiespelvalencia.org/wp-content/uploads/2026/04/Feretes-i-canconetes-Vila-Real.png
GEO:39.9326132;-0.1002101
X-APPLE-STRUCTURED-LOCATION;VALUE=URI;X-ADDRESS=Parc Jaume I Vila-real Carrer Molí 12-36 Vila-real Plana Baixa 12540;X-APPLE-RADIUS=500;X-TITLE=Carrer Molí\, 12-36:geo:-0.1002101,39.9326132
END:VEVENT
BEGIN:VEVENT
DTSTART;TZID=Europe/Paris:20260516T223000
DTEND;TZID=Europe/Paris:20260516T235900
DTSTAMP:20260424T022735
CREATED:20260423T131817Z
LAST-MODIFIED:20260423T131817Z
UID:10001249-1778970600-1778975940@familiespelvalencia.org
SUMMARY:Concert. Apologia + Esther + Auxili
DESCRIPTION:El dissabte 16 de maig\, la Plaça Major de Vila-real s’ompli de música en valencià amb una nova edició de Rock per la Llengua\, una cita potent pensada per al públic jove i per a totes les persones que volen viure les festes amb ritme i compromís cultural. L’escenari reunirà propostes ben diverses: la veu delicada i personal d’Esther\, l’energia festiva i contagiosa d’Auxili\, i la força del rock local d’Apologia\, en una combinació que promet una nit intensa i participativa. Un concert per gaudir\, cantar i reafirmar que la música en valencià també sona fort en els grans formats festius.
URL:https://familiespelvalencia.org/activitat/concert-apologia-esther-auxili/
LOCATION:Vila-Real (Plaça Major)\, Plaça Major\, Vila-Real\, Plana Baixa\, 12540
CATEGORIES:Comarques del nord
ATTACH;FMTTYPE=image/png:https://familiespelvalencia.org/wp-content/uploads/2026/04/Apologia-Esther-Auxili.png
GEO:39.9370112;-0.101246
X-APPLE-STRUCTURED-LOCATION;VALUE=URI;X-ADDRESS=Vila-Real (Plaça Major) Plaça Major Vila-Real Plana Baixa 12540;X-APPLE-RADIUS=500;X-TITLE=Plaça Major:geo:-0.101246,39.9370112
END:VEVENT
END:VCALENDAR