BEGIN:VCALENDAR
VERSION:2.0
PRODID:-//FAMÍLIES PEL VALENCIÀ - ECPv6.15.20//NONSGML v1.0//EN
CALSCALE:GREGORIAN
METHOD:PUBLISH
X-ORIGINAL-URL:https://familiespelvalencia.org
X-WR-CALDESC:Esdeveniments per FAMÍLIES PEL VALENCIÀ
REFRESH-INTERVAL;VALUE=DURATION:PT1H
X-Robots-Tag:noindex
X-PUBLISHED-TTL:PT1H
BEGIN:VTIMEZONE
TZID:Europe/Paris
BEGIN:DAYLIGHT
TZOFFSETFROM:+0100
TZOFFSETTO:+0200
TZNAME:CEST
DTSTART:20250330T010000
END:DAYLIGHT
BEGIN:STANDARD
TZOFFSETFROM:+0200
TZOFFSETTO:+0100
TZNAME:CET
DTSTART:20251026T010000
END:STANDARD
BEGIN:DAYLIGHT
TZOFFSETFROM:+0100
TZOFFSETTO:+0200
TZNAME:CEST
DTSTART:20260329T010000
END:DAYLIGHT
BEGIN:STANDARD
TZOFFSETFROM:+0200
TZOFFSETTO:+0100
TZNAME:CET
DTSTART:20261025T010000
END:STANDARD
BEGIN:DAYLIGHT
TZOFFSETFROM:+0100
TZOFFSETTO:+0200
TZNAME:CEST
DTSTART:20270328T010000
END:DAYLIGHT
BEGIN:STANDARD
TZOFFSETFROM:+0200
TZOFFSETTO:+0100
TZNAME:CET
DTSTART:20271031T010000
END:STANDARD
END:VTIMEZONE
BEGIN:VEVENT
DTSTART;TZID=Europe/Paris:20260427T173000
DTEND;TZID=Europe/Paris:20260427T183000
DTSTAMP:20260424T035934
CREATED:20260223T125754Z
LAST-MODIFIED:20260223T125754Z
UID:10000999-1777311000-1777314600@familiespelvalencia.org
SUMMARY:Pissiganya 2026 .- Grups de joc i conversa en valencià per a famílies
DESCRIPTION:Pissiganya és un activitat grupal en què pares i mares\, juntament amb les seues criatures es reunixen una volta al mes per a jugar i conversar en valencià a partir d’una proposta ludicoartística dinamitzada per Maria Gargallo. Aquesta iniciativa s’emmarca dins del projecte Creixent al caliu (www.creixentalcaliu.com)\, a través del qual volen posar en valor\, promoure i facilitar la transmissió lingüística i la presència social del valencià en la primera infància. \nActivitat per a famílies amb xiquets i xiquetes de 0 a 5 anys \n IMPORTANT: Cal inscripció prèvia. Les inscripcions s’accepten per ordre d’arribada fins a completar-ne la capacitat. \nMés informació: Ajuntament de València | Creixent al caliu
URL:https://familiespelvalencia.org/activitat/pissiganya-2026-grups-de-joc-i-conversa-en-valencia-per-a-families-4/2026-04-27/
LOCATION:Biblioteca d’Algirós – María Moliner\, C/ del Serpis\, 9\, (Barri Algirós)\, València\, València\, 46021
CATEGORIES:València - districte capital
ATTACH;FMTTYPE=image/gif:https://familiespelvalencia.org/wp-content/uploads/2026/02/Pissiganya-GIF.gif
GEO:39.4762622;-0.3491807
X-APPLE-STRUCTURED-LOCATION;VALUE=URI;X-ADDRESS=Biblioteca d’Algirós – María Moliner C/ del Serpis 9 (Barri Algirós) València València 46021;X-APPLE-RADIUS=500;X-TITLE=C/ del Serpis\, 9\, (Barri Algirós):geo:-0.3491807,39.4762622
END:VEVENT
BEGIN:VEVENT
DTSTART;TZID=Europe/Paris:20260429T180000
DTEND;TZID=Europe/Paris:20260429T190000
DTSTAMP:20260424T035934
CREATED:20260407T105000Z
LAST-MODIFIED:20260407T105000Z
UID:10001204-1777485600-1777489200@familiespelvalencia.org
SUMMARY:Contacontes. Allò que ens uneix
DESCRIPTION:A càrrec de Elisa M. Matallín \nAquesta activitat requereix d’inscripció prèvia
URL:https://familiespelvalencia.org/activitat/contacontes-allo-que-ens-uneix-2/
LOCATION:Biblioteca de Malilla.- Roís de Corella\, Carrer de l'Illa Cabrera\, 52\, València\, L'Horta\, 46026
CATEGORIES:València - districte capital
ATTACH;FMTTYPE=image/jpeg:https://familiespelvalencia.org/wp-content/uploads/2026/04/Allo-que-ens-uneix.jpg
GEO:39.4487188;-0.377251
X-APPLE-STRUCTURED-LOCATION;VALUE=URI;X-ADDRESS=Biblioteca de Malilla.- Roís de Corella Carrer de l'Illa Cabrera 52 València L'Horta 46026;X-APPLE-RADIUS=500;X-TITLE=Carrer de l'Illa Cabrera\, 52:geo:-0.377251,39.4487188
END:VEVENT
BEGIN:VEVENT
DTSTART;TZID=Europe/Paris:20260512T173000
DTEND;TZID=Europe/Paris:20260512T183000
DTSTAMP:20260424T035934
CREATED:20260223T124023Z
LAST-MODIFIED:20260223T124126Z
UID:10000985-1778607000-1778610600@familiespelvalencia.org
SUMMARY:Pissiganya 2026 .- Grups de joc i conversa en valencià per a famílies
DESCRIPTION:Pissiganya és un activitat grupal en què pares i mares\, juntament amb les seues criatures es reunixen una volta al mes per a jugar i conversar en valencià a partir d’una proposta ludicoartística dinamitzada per Maria Gargallo. Aquesta iniciativa s’emmarca dins del projecte Creixent al caliu (www.creixentalcaliu.com)\, a través del qual volen posar en valor\, promoure i facilitar la transmissió lingüística i la presència social del valencià en la primera infància. \nActivitat per a famílies amb xiquets i xiquetes de 0 a 5 anys \n IMPORTANT: Cal inscripció prèvia. Les inscripcions s’accepten per ordre d’arribada fins a completar-ne la capacitat. \nMés informació: Ajuntament de València | Creixent al caliu \n 
URL:https://familiespelvalencia.org/activitat/pissiganya-2026-grups-de-joc-i-conversa-en-valencia-per-a-families/2026-05-12/
LOCATION:Biblioteca de Na Rovella – Joaquim Martí i Gadea\, Avinguda. de l'Alcalde Gisbert Rico\, 20\, (Quatre Carreres)\, València\, València\, 46013
CATEGORIES:València - districte capital
ATTACH;FMTTYPE=image/gif:https://familiespelvalencia.org/wp-content/uploads/2026/02/Pissiganya-GIF.gif
GEO:39.4560973;-0.3604827
X-APPLE-STRUCTURED-LOCATION;VALUE=URI;X-ADDRESS=Biblioteca de Na Rovella – Joaquim Martí i Gadea Avinguda. de l'Alcalde Gisbert Rico 20 (Quatre Carreres) València València 46013;X-APPLE-RADIUS=500;X-TITLE=Avinguda. de l'Alcalde Gisbert Rico\, 20\, (Quatre Carreres):geo:-0.3604827,39.4560973
END:VEVENT
BEGIN:VEVENT
DTSTART;TZID=Europe/Paris:20260518T173000
DTEND;TZID=Europe/Paris:20260518T183000
DTSTAMP:20260424T035934
CREATED:20260223T125754Z
LAST-MODIFIED:20260223T125754Z
UID:10001000-1779125400-1779129000@familiespelvalencia.org
SUMMARY:Pissiganya 2026 .- Grups de joc i conversa en valencià per a famílies
DESCRIPTION:Pissiganya és un activitat grupal en què pares i mares\, juntament amb les seues criatures es reunixen una volta al mes per a jugar i conversar en valencià a partir d’una proposta ludicoartística dinamitzada per Maria Gargallo. Aquesta iniciativa s’emmarca dins del projecte Creixent al caliu (www.creixentalcaliu.com)\, a través del qual volen posar en valor\, promoure i facilitar la transmissió lingüística i la presència social del valencià en la primera infància. \nActivitat per a famílies amb xiquets i xiquetes de 0 a 5 anys \n IMPORTANT: Cal inscripció prèvia. Les inscripcions s’accepten per ordre d’arribada fins a completar-ne la capacitat. \nMés informació: Ajuntament de València | Creixent al caliu
URL:https://familiespelvalencia.org/activitat/pissiganya-2026-grups-de-joc-i-conversa-en-valencia-per-a-families-4/2026-05-18/
LOCATION:Biblioteca d’Algirós – María Moliner\, C/ del Serpis\, 9\, (Barri Algirós)\, València\, València\, 46021
CATEGORIES:València - districte capital
ATTACH;FMTTYPE=image/gif:https://familiespelvalencia.org/wp-content/uploads/2026/02/Pissiganya-GIF.gif
GEO:39.4762622;-0.3491807
X-APPLE-STRUCTURED-LOCATION;VALUE=URI;X-ADDRESS=Biblioteca d’Algirós – María Moliner C/ del Serpis 9 (Barri Algirós) València València 46021;X-APPLE-RADIUS=500;X-TITLE=C/ del Serpis\, 9\, (Barri Algirós):geo:-0.3491807,39.4762622
END:VEVENT
BEGIN:VEVENT
DTSTART;TZID=Europe/Paris:20260520T173000
DTEND;TZID=Europe/Paris:20260520T183000
DTSTAMP:20260424T035934
CREATED:20260223T125232Z
LAST-MODIFIED:20260223T125232Z
UID:10000995-1779298200-1779301800@familiespelvalencia.org
SUMMARY:Pissiganya 2026 .- Grups de joc i conversa en valencià per a famílies
DESCRIPTION:Pissiganya és un activitat grupal en què pares i mares\, juntament amb les seues criatures es reunixen una volta al mes per a jugar i conversar en valencià a partir d’una proposta ludicoartística dinamitzada per Maria Gargallo. Aquesta iniciativa s’emmarca dins del projecte Creixent al caliu (www.creixentalcaliu.com)\, a través del qual volen posar en valor\, promoure i facilitar la transmissió lingüística i la presència social del valencià en la primera infància. \nActivitat per a famílies amb xiquets i xiquetes de 0 a 5 anys \n IMPORTANT: Cal inscripció prèvia. Les inscripcions s’accepten per ordre d’arribada fins a completar-ne la capacitat. \nMés informació: Ajuntament de València | Creixent al caliu
URL:https://familiespelvalencia.org/activitat/pissiganya-2026-grups-de-joc-i-conversa-en-valencia-per-a-families-3/2026-05-20/
LOCATION:Biblioteca de Sant Marcel·lí  –  Clara Santiró\, C/ de Pius IX\, 2\, (Barri Jesús)\, València\, València\, 46017
CATEGORIES:València - districte capital
ATTACH;FMTTYPE=image/gif:https://familiespelvalencia.org/wp-content/uploads/2026/02/Pissiganya-GIF.gif
GEO:39.447147;-0.3926459
X-APPLE-STRUCTURED-LOCATION;VALUE=URI;X-ADDRESS=Biblioteca de Sant Marcel·lí  –  Clara Santiró C/ de Pius IX 2 (Barri Jesús) València València 46017;X-APPLE-RADIUS=500;X-TITLE=C/ de Pius IX\, 2\, (Barri Jesús):geo:-0.3926459,39.447147
END:VEVENT
BEGIN:VEVENT
DTSTART;TZID=Europe/Paris:20260521T173000
DTEND;TZID=Europe/Paris:20260521T183000
DTSTAMP:20260424T035934
CREATED:20260223T124753Z
LAST-MODIFIED:20260223T124753Z
UID:10000990-1779384600-1779388200@familiespelvalencia.org
SUMMARY:Pissiganya 2026 .- Grups de joc i conversa en valencià per a famílies
DESCRIPTION:Pissiganya és un activitat grupal en què pares i mares\, juntament amb les seues criatures es reunixen una volta al mes per a jugar i conversar en valencià a partir d’una proposta ludicoartística dinamitzada per Maria Gargallo. Aquesta iniciativa s’emmarca dins del projecte Creixent al caliu (www.creixentalcaliu.com)\, a través del qual volen posar en valor\, promoure i facilitar la transmissió lingüística i la presència social del valencià en la primera infància. \nActivitat per a famílies amb xiquets i xiquetes de 0 a 5 anys \n IMPORTANT: Cal inscripció prèvia. Les inscripcions s’accepten per ordre d’arribada fins a completar-ne la capacitat. \nMés informació: Ajuntament de València | Creixent al caliu
URL:https://familiespelvalencia.org/activitat/pissiganya-2026-grups-de-joc-i-conversa-en-valencia-per-a-families-2/2026-05-21/
LOCATION:Biblioteca de Benimaclet – Carola Reig\, C/ de Francesc Martínez\, 32 (Benimaclet)\, València\, 46020
CATEGORIES:València - districte capital
ATTACH;FMTTYPE=image/gif:https://familiespelvalencia.org/wp-content/uploads/2026/02/Pissiganya-GIF.gif
GEO:39.4881622;-0.3582104
X-APPLE-STRUCTURED-LOCATION;VALUE=URI;X-ADDRESS=Biblioteca de Benimaclet – Carola Reig C/ de Francesc Martínez 32 (Benimaclet) València 46020;X-APPLE-RADIUS=500;X-TITLE=C/ de Francesc Martínez\, 32 (Benimaclet):geo:-0.3582104,39.4881622
END:VEVENT
BEGIN:VEVENT
DTSTART;TZID=Europe/Paris:20260602T173000
DTEND;TZID=Europe/Paris:20260602T183000
DTSTAMP:20260424T035934
CREATED:20260223T124023Z
LAST-MODIFIED:20260223T124126Z
UID:10000986-1780421400-1780425000@familiespelvalencia.org
SUMMARY:Pissiganya 2026 .- Grups de joc i conversa en valencià per a famílies
DESCRIPTION:Pissiganya és un activitat grupal en què pares i mares\, juntament amb les seues criatures es reunixen una volta al mes per a jugar i conversar en valencià a partir d’una proposta ludicoartística dinamitzada per Maria Gargallo. Aquesta iniciativa s’emmarca dins del projecte Creixent al caliu (www.creixentalcaliu.com)\, a través del qual volen posar en valor\, promoure i facilitar la transmissió lingüística i la presència social del valencià en la primera infància. \nActivitat per a famílies amb xiquets i xiquetes de 0 a 5 anys \n IMPORTANT: Cal inscripció prèvia. Les inscripcions s’accepten per ordre d’arribada fins a completar-ne la capacitat. \nMés informació: Ajuntament de València | Creixent al caliu \n 
URL:https://familiespelvalencia.org/activitat/pissiganya-2026-grups-de-joc-i-conversa-en-valencia-per-a-families/2026-06-02/
LOCATION:Biblioteca de Na Rovella – Joaquim Martí i Gadea\, Avinguda. de l'Alcalde Gisbert Rico\, 20\, (Quatre Carreres)\, València\, València\, 46013
CATEGORIES:València - districte capital
ATTACH;FMTTYPE=image/gif:https://familiespelvalencia.org/wp-content/uploads/2026/02/Pissiganya-GIF.gif
GEO:39.4560973;-0.3604827
X-APPLE-STRUCTURED-LOCATION;VALUE=URI;X-ADDRESS=Biblioteca de Na Rovella – Joaquim Martí i Gadea Avinguda. de l'Alcalde Gisbert Rico 20 (Quatre Carreres) València València 46013;X-APPLE-RADIUS=500;X-TITLE=Avinguda. de l'Alcalde Gisbert Rico\, 20\, (Quatre Carreres):geo:-0.3604827,39.4560973
END:VEVENT
BEGIN:VEVENT
DTSTART;TZID=Europe/Paris:20260608T173000
DTEND;TZID=Europe/Paris:20260608T183000
DTSTAMP:20260424T035934
CREATED:20260223T125754Z
LAST-MODIFIED:20260223T125754Z
UID:10001001-1780939800-1780943400@familiespelvalencia.org
SUMMARY:Pissiganya 2026 .- Grups de joc i conversa en valencià per a famílies
DESCRIPTION:Pissiganya és un activitat grupal en què pares i mares\, juntament amb les seues criatures es reunixen una volta al mes per a jugar i conversar en valencià a partir d’una proposta ludicoartística dinamitzada per Maria Gargallo. Aquesta iniciativa s’emmarca dins del projecte Creixent al caliu (www.creixentalcaliu.com)\, a través del qual volen posar en valor\, promoure i facilitar la transmissió lingüística i la presència social del valencià en la primera infància. \nActivitat per a famílies amb xiquets i xiquetes de 0 a 5 anys \n IMPORTANT: Cal inscripció prèvia. Les inscripcions s’accepten per ordre d’arribada fins a completar-ne la capacitat. \nMés informació: Ajuntament de València | Creixent al caliu
URL:https://familiespelvalencia.org/activitat/pissiganya-2026-grups-de-joc-i-conversa-en-valencia-per-a-families-4/2026-06-08/
LOCATION:Biblioteca d’Algirós – María Moliner\, C/ del Serpis\, 9\, (Barri Algirós)\, València\, València\, 46021
CATEGORIES:València - districte capital
ATTACH;FMTTYPE=image/gif:https://familiespelvalencia.org/wp-content/uploads/2026/02/Pissiganya-GIF.gif
GEO:39.4762622;-0.3491807
X-APPLE-STRUCTURED-LOCATION;VALUE=URI;X-ADDRESS=Biblioteca d’Algirós – María Moliner C/ del Serpis 9 (Barri Algirós) València València 46021;X-APPLE-RADIUS=500;X-TITLE=C/ del Serpis\, 9\, (Barri Algirós):geo:-0.3491807,39.4762622
END:VEVENT
BEGIN:VEVENT
DTSTART;TZID=Europe/Paris:20260610T173000
DTEND;TZID=Europe/Paris:20260610T183000
DTSTAMP:20260424T035934
CREATED:20260223T125232Z
LAST-MODIFIED:20260223T125232Z
UID:10000996-1781112600-1781116200@familiespelvalencia.org
SUMMARY:Pissiganya 2026 .- Grups de joc i conversa en valencià per a famílies
DESCRIPTION:Pissiganya és un activitat grupal en què pares i mares\, juntament amb les seues criatures es reunixen una volta al mes per a jugar i conversar en valencià a partir d’una proposta ludicoartística dinamitzada per Maria Gargallo. Aquesta iniciativa s’emmarca dins del projecte Creixent al caliu (www.creixentalcaliu.com)\, a través del qual volen posar en valor\, promoure i facilitar la transmissió lingüística i la presència social del valencià en la primera infància. \nActivitat per a famílies amb xiquets i xiquetes de 0 a 5 anys \n IMPORTANT: Cal inscripció prèvia. Les inscripcions s’accepten per ordre d’arribada fins a completar-ne la capacitat. \nMés informació: Ajuntament de València | Creixent al caliu
URL:https://familiespelvalencia.org/activitat/pissiganya-2026-grups-de-joc-i-conversa-en-valencia-per-a-families-3/2026-06-10/
LOCATION:Biblioteca de Sant Marcel·lí  –  Clara Santiró\, C/ de Pius IX\, 2\, (Barri Jesús)\, València\, València\, 46017
CATEGORIES:València - districte capital
ATTACH;FMTTYPE=image/gif:https://familiespelvalencia.org/wp-content/uploads/2026/02/Pissiganya-GIF.gif
GEO:39.447147;-0.3926459
X-APPLE-STRUCTURED-LOCATION;VALUE=URI;X-ADDRESS=Biblioteca de Sant Marcel·lí  –  Clara Santiró C/ de Pius IX 2 (Barri Jesús) València València 46017;X-APPLE-RADIUS=500;X-TITLE=C/ de Pius IX\, 2\, (Barri Jesús):geo:-0.3926459,39.447147
END:VEVENT
BEGIN:VEVENT
DTSTART;TZID=Europe/Paris:20260611T173000
DTEND;TZID=Europe/Paris:20260611T183000
DTSTAMP:20260424T035934
CREATED:20260223T124753Z
LAST-MODIFIED:20260223T124753Z
UID:10000991-1781199000-1781202600@familiespelvalencia.org
SUMMARY:Pissiganya 2026 .- Grups de joc i conversa en valencià per a famílies
DESCRIPTION:Pissiganya és un activitat grupal en què pares i mares\, juntament amb les seues criatures es reunixen una volta al mes per a jugar i conversar en valencià a partir d’una proposta ludicoartística dinamitzada per Maria Gargallo. Aquesta iniciativa s’emmarca dins del projecte Creixent al caliu (www.creixentalcaliu.com)\, a través del qual volen posar en valor\, promoure i facilitar la transmissió lingüística i la presència social del valencià en la primera infància. \nActivitat per a famílies amb xiquets i xiquetes de 0 a 5 anys \n IMPORTANT: Cal inscripció prèvia. Les inscripcions s’accepten per ordre d’arribada fins a completar-ne la capacitat. \nMés informació: Ajuntament de València | Creixent al caliu
URL:https://familiespelvalencia.org/activitat/pissiganya-2026-grups-de-joc-i-conversa-en-valencia-per-a-families-2/2026-06-11/
LOCATION:Biblioteca de Benimaclet – Carola Reig\, C/ de Francesc Martínez\, 32 (Benimaclet)\, València\, 46020
CATEGORIES:València - districte capital
ATTACH;FMTTYPE=image/gif:https://familiespelvalencia.org/wp-content/uploads/2026/02/Pissiganya-GIF.gif
GEO:39.4881622;-0.3582104
X-APPLE-STRUCTURED-LOCATION;VALUE=URI;X-ADDRESS=Biblioteca de Benimaclet – Carola Reig C/ de Francesc Martínez 32 (Benimaclet) València 46020;X-APPLE-RADIUS=500;X-TITLE=C/ de Francesc Martínez\, 32 (Benimaclet):geo:-0.3582104,39.4881622
END:VEVENT
END:VCALENDAR