BEGIN:VCALENDAR
VERSION:2.0
PRODID:-//FAMÍLIES PEL VALENCIÀ - ECPv6.15.20//NONSGML v1.0//EN
CALSCALE:GREGORIAN
METHOD:PUBLISH
X-ORIGINAL-URL:https://familiespelvalencia.org
X-WR-CALDESC:Esdeveniments per FAMÍLIES PEL VALENCIÀ
REFRESH-INTERVAL;VALUE=DURATION:PT1H
X-Robots-Tag:noindex
X-PUBLISHED-TTL:PT1H
BEGIN:VTIMEZONE
TZID:Europe/Paris
BEGIN:DAYLIGHT
TZOFFSETFROM:+0100
TZOFFSETTO:+0200
TZNAME:CEST
DTSTART:20250330T010000
END:DAYLIGHT
BEGIN:STANDARD
TZOFFSETFROM:+0200
TZOFFSETTO:+0100
TZNAME:CET
DTSTART:20251026T010000
END:STANDARD
BEGIN:DAYLIGHT
TZOFFSETFROM:+0100
TZOFFSETTO:+0200
TZNAME:CEST
DTSTART:20260329T010000
END:DAYLIGHT
BEGIN:STANDARD
TZOFFSETFROM:+0200
TZOFFSETTO:+0100
TZNAME:CET
DTSTART:20261025T010000
END:STANDARD
BEGIN:DAYLIGHT
TZOFFSETFROM:+0100
TZOFFSETTO:+0200
TZNAME:CEST
DTSTART:20270328T010000
END:DAYLIGHT
BEGIN:STANDARD
TZOFFSETFROM:+0200
TZOFFSETTO:+0100
TZNAME:CET
DTSTART:20271031T010000
END:STANDARD
END:VTIMEZONE
BEGIN:VEVENT
DTSTART;TZID=Europe/Paris:20260423T180000
DTEND;TZID=Europe/Paris:20260423T190000
DTSTAMP:20260424T032107
CREATED:20260423T061911Z
LAST-MODIFIED:20260423T061911Z
UID:10001243-1776967200-1776970800@familiespelvalencia.org
SUMMARY:Contes Desbaratats
DESCRIPTION:Què passa quan les plantes creixen més del compte? i si els dibuixos desaparegueren dels llibres … què faries? Dante el gegant està embrutant el planeta! .. o no ha estat ell? Martina té por als monstres… com ho superarà? La resposta a aquestes preguntes i moltes més en “Contes Desbaratats” Contes contats amb titelles\, màgia\, disfresses\, Kamishibai\, teatre d’ombres i música en viu.
URL:https://familiespelvalencia.org/activitat/contes-desbaratats/
LOCATION:Biblioteca “Els nostres mestres”.- Finestrat\, Carrer Sant Josep\, 10-12\, Finestrat\, Marina Baixa\, 03500
CATEGORIES:Comarques centrals
ATTACH;FMTTYPE=image/jpeg:https://familiespelvalencia.org/wp-content/uploads/2026/04/Contes-desbaratats.-Finestrat.jpg
GEO:38.567738;-0.2109255
X-APPLE-STRUCTURED-LOCATION;VALUE=URI;X-ADDRESS=Biblioteca “Els nostres mestres”.- Finestrat Carrer Sant Josep 10-12 Finestrat Marina Baixa 03500;X-APPLE-RADIUS=500;X-TITLE=Carrer Sant Josep\, 10-12:geo:-0.2109255,38.567738
END:VEVENT
END:VCALENDAR