BEGIN:VCALENDAR
VERSION:2.0
PRODID:-//FAMÍLIES PEL VALENCIÀ - ECPv6.15.20//NONSGML v1.0//EN
CALSCALE:GREGORIAN
METHOD:PUBLISH
X-ORIGINAL-URL:https://familiespelvalencia.org
X-WR-CALDESC:Esdeveniments per FAMÍLIES PEL VALENCIÀ
REFRESH-INTERVAL;VALUE=DURATION:PT1H
X-Robots-Tag:noindex
X-PUBLISHED-TTL:PT1H
BEGIN:VTIMEZONE
TZID:Europe/Paris
BEGIN:DAYLIGHT
TZOFFSETFROM:+0100
TZOFFSETTO:+0200
TZNAME:CEST
DTSTART:20250330T010000
END:DAYLIGHT
BEGIN:STANDARD
TZOFFSETFROM:+0200
TZOFFSETTO:+0100
TZNAME:CET
DTSTART:20251026T010000
END:STANDARD
BEGIN:DAYLIGHT
TZOFFSETFROM:+0100
TZOFFSETTO:+0200
TZNAME:CEST
DTSTART:20260329T010000
END:DAYLIGHT
BEGIN:STANDARD
TZOFFSETFROM:+0200
TZOFFSETTO:+0100
TZNAME:CET
DTSTART:20261025T010000
END:STANDARD
BEGIN:DAYLIGHT
TZOFFSETFROM:+0100
TZOFFSETTO:+0200
TZNAME:CEST
DTSTART:20270328T010000
END:DAYLIGHT
BEGIN:STANDARD
TZOFFSETFROM:+0200
TZOFFSETTO:+0100
TZNAME:CET
DTSTART:20271031T010000
END:STANDARD
END:VTIMEZONE
BEGIN:VEVENT
DTSTART;TZID=Europe/Paris:20260102T170000
DTEND;TZID=Europe/Paris:20260102T200000
DTSTAMP:20260424T044533
CREATED:20260102T080129Z
LAST-MODIFIED:20260102T080224Z
UID:10000693-1767373200-1767384000@familiespelvalencia.org
SUMMARY:Contes de Nadal
DESCRIPTION:Vine a gaudir a la Biblioteca de Borriol de Contes de Nadal! Una activitat plena de màgia i il·lusió per compartir en família i descobrir històries que ens faran somiar.\nImportant: Per participar\, pots inscriure’t fins al dia anterior a la biblioteca o enviar un correu electrònic a biblioteca@borriol.es\, adjuntant el formulari que trobaràs a 👉 borriol.es/biblioteca.
URL:https://familiespelvalencia.org/activitat/contes-de-nadal/
LOCATION:Biblioteca Pública Municipal de Borriol\, Av. de Saragossa\, 100\, Borriol\, Plana Alta\, 12190
CATEGORIES:Comarques del nord
ATTACH;FMTTYPE=image/jpeg:https://familiespelvalencia.org/wp-content/uploads/2026/01/contes-nadal-biblioteca-borriol.jpg
GEO:40.0409383;-0.0693856
X-APPLE-STRUCTURED-LOCATION;VALUE=URI;X-ADDRESS=Biblioteca Pública Municipal de Borriol Av. de Saragossa 100 Borriol Plana Alta 12190;X-APPLE-RADIUS=500;X-TITLE=Av. de Saragossa\, 100:geo:-0.0693856,40.0409383
END:VEVENT
END:VCALENDAR