BEGIN:VCALENDAR
VERSION:2.0
PRODID:-//FAMÍLIES PEL VALENCIÀ - ECPv6.15.20//NONSGML v1.0//EN
CALSCALE:GREGORIAN
METHOD:PUBLISH
X-ORIGINAL-URL:https://familiespelvalencia.org
X-WR-CALDESC:Esdeveniments per FAMÍLIES PEL VALENCIÀ
REFRESH-INTERVAL;VALUE=DURATION:PT1H
X-Robots-Tag:noindex
X-PUBLISHED-TTL:PT1H
BEGIN:VTIMEZONE
TZID:Europe/Paris
BEGIN:DAYLIGHT
TZOFFSETFROM:+0100
TZOFFSETTO:+0200
TZNAME:CEST
DTSTART:20250330T010000
END:DAYLIGHT
BEGIN:STANDARD
TZOFFSETFROM:+0200
TZOFFSETTO:+0100
TZNAME:CET
DTSTART:20251026T010000
END:STANDARD
BEGIN:DAYLIGHT
TZOFFSETFROM:+0100
TZOFFSETTO:+0200
TZNAME:CEST
DTSTART:20260329T010000
END:DAYLIGHT
BEGIN:STANDARD
TZOFFSETFROM:+0200
TZOFFSETTO:+0100
TZNAME:CET
DTSTART:20261025T010000
END:STANDARD
BEGIN:DAYLIGHT
TZOFFSETFROM:+0100
TZOFFSETTO:+0200
TZNAME:CEST
DTSTART:20270328T010000
END:DAYLIGHT
BEGIN:STANDARD
TZOFFSETFROM:+0200
TZOFFSETTO:+0100
TZNAME:CET
DTSTART:20271031T010000
END:STANDARD
END:VTIMEZONE
BEGIN:VEVENT
DTSTART;TZID=Europe/Paris:20260110T173000
DTEND;TZID=Europe/Paris:20260110T190000
DTSTAMP:20260424T044844
CREATED:20260109T163850Z
LAST-MODIFIED:20260109T163850Z
UID:10000699-1768066200-1768071600@familiespelvalencia.org
SUMMARY:Concert Trobadorets
DESCRIPTION:Trobadorets arriba a Betxí amb “Creixem”\, un espectacle musical pensat per a tota la família. Cançons en valencià plenes de ritme\, alegria i valors que ens parlen de créixer junts\, estimar la nostra terra i gaudir de la música. Una proposta que combina diversió i educació\, ideal per a xiquets i xiquetes\, però també per a pares i mares que volen compartir una vesprada especial.
URL:https://familiespelvalencia.org/activitat/concert-trobadorets-6/
LOCATION:Plaça Major.- Betxí\, Plaça Major\, Betxí\, Plana Baixa\, 12549
CATEGORIES:Comarques del nord
ATTACH;FMTTYPE=image/jpeg:https://familiespelvalencia.org/wp-content/uploads/2026/01/Trobadorets-Betxi.jpg
GEO:39.9287792;-0.1973256
X-APPLE-STRUCTURED-LOCATION;VALUE=URI;X-ADDRESS=Plaça Major.- Betxí Plaça Major Betxí Plana Baixa 12549;X-APPLE-RADIUS=500;X-TITLE=Plaça Major:geo:-0.1973256,39.9287792
END:VEVENT
END:VCALENDAR