BEGIN:VCALENDAR
VERSION:2.0
PRODID:-//FAMÍLIES PEL VALENCIÀ - ECPv6.15.20//NONSGML v1.0//EN
CALSCALE:GREGORIAN
METHOD:PUBLISH
X-WR-CALNAME:FAMÍLIES PEL VALENCIÀ
X-ORIGINAL-URL:https://familiespelvalencia.org
X-WR-CALDESC:Esdeveniments per FAMÍLIES PEL VALENCIÀ
REFRESH-INTERVAL;VALUE=DURATION:PT1H
X-Robots-Tag:noindex
X-PUBLISHED-TTL:PT1H
BEGIN:VTIMEZONE
TZID:Europe/Paris
BEGIN:DAYLIGHT
TZOFFSETFROM:+0100
TZOFFSETTO:+0200
TZNAME:CEST
DTSTART:20240331T010000
END:DAYLIGHT
BEGIN:STANDARD
TZOFFSETFROM:+0200
TZOFFSETTO:+0100
TZNAME:CET
DTSTART:20241027T010000
END:STANDARD
BEGIN:DAYLIGHT
TZOFFSETFROM:+0100
TZOFFSETTO:+0200
TZNAME:CEST
DTSTART:20250330T010000
END:DAYLIGHT
BEGIN:STANDARD
TZOFFSETFROM:+0200
TZOFFSETTO:+0100
TZNAME:CET
DTSTART:20251026T010000
END:STANDARD
BEGIN:DAYLIGHT
TZOFFSETFROM:+0100
TZOFFSETTO:+0200
TZNAME:CEST
DTSTART:20260329T010000
END:DAYLIGHT
BEGIN:STANDARD
TZOFFSETFROM:+0200
TZOFFSETTO:+0100
TZNAME:CET
DTSTART:20261025T010000
END:STANDARD
END:VTIMEZONE
BEGIN:VEVENT
DTSTART;TZID=Europe/Paris:20251218T180000
DTEND;TZID=Europe/Paris:20251218T190000
DTSTAMP:20260424T050125
CREATED:20251216T215215Z
LAST-MODIFIED:20251216T215338Z
UID:10000631-1766080800-1766084400@familiespelvalencia.org
SUMMARY:Contacontes. La màquina del temps
DESCRIPTION:Cia. Tramant Teatre \nTenim dos tècnics de manteniment de perdudes i extraviaments nomenats Rotri i Mundi\, en este moment es troben molt atabalats buscant una rentadora perduda en l’espai-temps\, però malgrat tots els seus esforços el que trobaran serà una altra cosa\, trobaran la màquina de Temps Comptadora de Contes\, a on els portarà la maquina de contes ?\, a on els traslladarà? Tal vegada en este viatge ens trasllade al temps de Caputxeta Roja i un llop no tan feroç\, o a Blancaneus i els seus 7 nanets\, només hem de deixar transportar-nos per ells però també necessitarem l’ajuda del públic. \nMés informació: Ajuntament d’Albal
URL:https://familiespelvalencia.org/activitat/contacontes-la-maquina-del-temps/
LOCATION:Casa de la Cultura.- Albal\, Carrer de Sant Carles\, 80\, Albal\, L'Horta\, 46470
CATEGORIES:Comarques Túria–Xúquer
ATTACH;FMTTYPE=image/jpeg:https://familiespelvalencia.org/wp-content/uploads/2025/12/la-maquina-del-temps.jpg
GEO:39.39761;-0.4090127
X-APPLE-STRUCTURED-LOCATION;VALUE=URI;X-ADDRESS=Casa de la Cultura.- Albal Carrer de Sant Carles 80 Albal L'Horta 46470;X-APPLE-RADIUS=500;X-TITLE=Carrer de Sant Carles\, 80:geo:-0.4090127,39.39761
END:VEVENT
END:VCALENDAR