BEGIN:VCALENDAR
VERSION:2.0
PRODID:-//FAMÍLIES PEL VALENCIÀ - ECPv6.15.20//NONSGML v1.0//EN
CALSCALE:GREGORIAN
METHOD:PUBLISH
X-WR-CALNAME:FAMÍLIES PEL VALENCIÀ
X-ORIGINAL-URL:https://familiespelvalencia.org
X-WR-CALDESC:Esdeveniments per FAMÍLIES PEL VALENCIÀ
REFRESH-INTERVAL;VALUE=DURATION:PT1H
X-Robots-Tag:noindex
X-PUBLISHED-TTL:PT1H
BEGIN:VTIMEZONE
TZID:Europe/Paris
BEGIN:DAYLIGHT
TZOFFSETFROM:+0100
TZOFFSETTO:+0200
TZNAME:CEST
DTSTART:20250330T010000
END:DAYLIGHT
BEGIN:STANDARD
TZOFFSETFROM:+0200
TZOFFSETTO:+0100
TZNAME:CET
DTSTART:20251026T010000
END:STANDARD
BEGIN:DAYLIGHT
TZOFFSETFROM:+0100
TZOFFSETTO:+0200
TZNAME:CEST
DTSTART:20260329T010000
END:DAYLIGHT
BEGIN:STANDARD
TZOFFSETFROM:+0200
TZOFFSETTO:+0100
TZNAME:CET
DTSTART:20261025T010000
END:STANDARD
BEGIN:DAYLIGHT
TZOFFSETFROM:+0100
TZOFFSETTO:+0200
TZNAME:CEST
DTSTART:20270328T010000
END:DAYLIGHT
BEGIN:STANDARD
TZOFFSETFROM:+0200
TZOFFSETTO:+0100
TZNAME:CET
DTSTART:20271031T010000
END:STANDARD
END:VTIMEZONE
BEGIN:VEVENT
DTSTART;TZID=Europe/Paris:20260502T173000
DTEND;TZID=Europe/Paris:20260502T183000
DTSTAMP:20260420T203205
CREATED:20260202T203625Z
LAST-MODIFIED:20260202T203625Z
UID:10000861-1777743000-1777746600@familiespelvalencia.org
SUMMARY:Taller.- Contes a la vora del Rock
DESCRIPTION:En aquest taller descobrirem\, a través de diferents contes o històries\, com sona una bateria\, quines parts té\, com sonen diferents instruments de percussió i com els podem fer servir per tocar un ritme de rock. Experimentarem i identificarem a través de la veu i de la percussió corporal diferents qualitats del so\, com ara fort i fluix\, lent i ràpid o agut i greu. \nTaller recomanat per a famílies amb xiquets i xiquetes a partir de 4 anys. // Durada: 1 hora. \nMés informació i venda d’entrades: Web CaixaFòrum
URL:https://familiespelvalencia.org/activitat/taller-contes-a-la-vora-del-rock/2026-05-02/
LOCATION:Caixa Forum\, Ciutat de les Arts i les Ciències\, C/ Eduardo Primo Yúfera\, 1A\, València\, 46013
CATEGORIES:València - districte capital
ATTACH;FMTTYPE=image/webp:https://familiespelvalencia.org/wp-content/uploads/2026/02/Contes-a-la-vora-del-Rock.webp
GEO:39.4538716;-0.3498098
X-APPLE-STRUCTURED-LOCATION;VALUE=URI;X-ADDRESS=Caixa Forum Ciutat de les Arts i les Ciències C/ Eduardo Primo Yúfera 1A València 46013;X-APPLE-RADIUS=500;X-TITLE=Ciutat de les Arts i les Ciències\, C/ Eduardo Primo Yúfera\, 1A:geo:-0.3498098,39.4538716
END:VEVENT
BEGIN:VEVENT
DTSTART;TZID=Europe/Paris:20260503T113000
DTEND;TZID=Europe/Paris:20260503T123000
DTSTAMP:20260420T203205
CREATED:20260202T203625Z
LAST-MODIFIED:20260202T203625Z
UID:10000862-1777807800-1777811400@familiespelvalencia.org
SUMMARY:Taller.- Contes a la vora del Rock
DESCRIPTION:En aquest taller descobrirem\, a través de diferents contes o històries\, com sona una bateria\, quines parts té\, com sonen diferents instruments de percussió i com els podem fer servir per tocar un ritme de rock. Experimentarem i identificarem a través de la veu i de la percussió corporal diferents qualitats del so\, com ara fort i fluix\, lent i ràpid o agut i greu. \nTaller recomanat per a famílies amb xiquets i xiquetes a partir de 4 anys. // Durada: 1 hora. \nMés informació i venda d’entrades: Web CaixaFòrum
URL:https://familiespelvalencia.org/activitat/taller-contes-a-la-vora-del-rock/2026-05-03/
LOCATION:Caixa Forum\, Ciutat de les Arts i les Ciències\, C/ Eduardo Primo Yúfera\, 1A\, València\, 46013
CATEGORIES:València - districte capital
ATTACH;FMTTYPE=image/webp:https://familiespelvalencia.org/wp-content/uploads/2026/02/Contes-a-la-vora-del-Rock.webp
GEO:39.4538716;-0.3498098
X-APPLE-STRUCTURED-LOCATION;VALUE=URI;X-ADDRESS=Caixa Forum Ciutat de les Arts i les Ciències C/ Eduardo Primo Yúfera 1A València 46013;X-APPLE-RADIUS=500;X-TITLE=Ciutat de les Arts i les Ciències\, C/ Eduardo Primo Yúfera\, 1A:geo:-0.3498098,39.4538716
END:VEVENT
BEGIN:VEVENT
DTSTART;TZID=Europe/Paris:20260509T173000
DTEND;TZID=Europe/Paris:20260509T183000
DTSTAMP:20260420T203205
CREATED:20260202T203625Z
LAST-MODIFIED:20260202T203625Z
UID:10000863-1778347800-1778351400@familiespelvalencia.org
SUMMARY:Taller.- Contes a la vora del Rock
DESCRIPTION:En aquest taller descobrirem\, a través de diferents contes o històries\, com sona una bateria\, quines parts té\, com sonen diferents instruments de percussió i com els podem fer servir per tocar un ritme de rock. Experimentarem i identificarem a través de la veu i de la percussió corporal diferents qualitats del so\, com ara fort i fluix\, lent i ràpid o agut i greu. \nTaller recomanat per a famílies amb xiquets i xiquetes a partir de 4 anys. // Durada: 1 hora. \nMés informació i venda d’entrades: Web CaixaFòrum
URL:https://familiespelvalencia.org/activitat/taller-contes-a-la-vora-del-rock/2026-05-09/
LOCATION:Caixa Forum\, Ciutat de les Arts i les Ciències\, C/ Eduardo Primo Yúfera\, 1A\, València\, 46013
CATEGORIES:València - districte capital
ATTACH;FMTTYPE=image/webp:https://familiespelvalencia.org/wp-content/uploads/2026/02/Contes-a-la-vora-del-Rock.webp
GEO:39.4538716;-0.3498098
X-APPLE-STRUCTURED-LOCATION;VALUE=URI;X-ADDRESS=Caixa Forum Ciutat de les Arts i les Ciències C/ Eduardo Primo Yúfera 1A València 46013;X-APPLE-RADIUS=500;X-TITLE=Ciutat de les Arts i les Ciències\, C/ Eduardo Primo Yúfera\, 1A:geo:-0.3498098,39.4538716
END:VEVENT
BEGIN:VEVENT
DTSTART;TZID=Europe/Paris:20260510T113000
DTEND;TZID=Europe/Paris:20260510T123000
DTSTAMP:20260420T203205
CREATED:20260202T203625Z
LAST-MODIFIED:20260202T203625Z
UID:10000864-1778412600-1778416200@familiespelvalencia.org
SUMMARY:Taller.- Contes a la vora del Rock
DESCRIPTION:En aquest taller descobrirem\, a través de diferents contes o històries\, com sona una bateria\, quines parts té\, com sonen diferents instruments de percussió i com els podem fer servir per tocar un ritme de rock. Experimentarem i identificarem a través de la veu i de la percussió corporal diferents qualitats del so\, com ara fort i fluix\, lent i ràpid o agut i greu. \nTaller recomanat per a famílies amb xiquets i xiquetes a partir de 4 anys. // Durada: 1 hora. \nMés informació i venda d’entrades: Web CaixaFòrum
URL:https://familiespelvalencia.org/activitat/taller-contes-a-la-vora-del-rock/2026-05-10/
LOCATION:Caixa Forum\, Ciutat de les Arts i les Ciències\, C/ Eduardo Primo Yúfera\, 1A\, València\, 46013
CATEGORIES:València - districte capital
ATTACH;FMTTYPE=image/webp:https://familiespelvalencia.org/wp-content/uploads/2026/02/Contes-a-la-vora-del-Rock.webp
GEO:39.4538716;-0.3498098
X-APPLE-STRUCTURED-LOCATION;VALUE=URI;X-ADDRESS=Caixa Forum Ciutat de les Arts i les Ciències C/ Eduardo Primo Yúfera 1A València 46013;X-APPLE-RADIUS=500;X-TITLE=Ciutat de les Arts i les Ciències\, C/ Eduardo Primo Yúfera\, 1A:geo:-0.3498098,39.4538716
END:VEVENT
END:VCALENDAR