BEGIN:VCALENDAR
VERSION:2.0
PRODID:-//FAMÍLIES PEL VALENCIÀ - ECPv6.15.20//NONSGML v1.0//EN
CALSCALE:GREGORIAN
METHOD:PUBLISH
X-WR-CALNAME:FAMÍLIES PEL VALENCIÀ
X-ORIGINAL-URL:https://familiespelvalencia.org
X-WR-CALDESC:Esdeveniments per FAMÍLIES PEL VALENCIÀ
REFRESH-INTERVAL;VALUE=DURATION:PT1H
X-Robots-Tag:noindex
X-PUBLISHED-TTL:PT1H
BEGIN:VTIMEZONE
TZID:Europe/Paris
BEGIN:DAYLIGHT
TZOFFSETFROM:+0100
TZOFFSETTO:+0200
TZNAME:CEST
DTSTART:20250330T010000
END:DAYLIGHT
BEGIN:STANDARD
TZOFFSETFROM:+0200
TZOFFSETTO:+0100
TZNAME:CET
DTSTART:20251026T010000
END:STANDARD
BEGIN:DAYLIGHT
TZOFFSETFROM:+0100
TZOFFSETTO:+0200
TZNAME:CEST
DTSTART:20260329T010000
END:DAYLIGHT
BEGIN:STANDARD
TZOFFSETFROM:+0200
TZOFFSETTO:+0100
TZNAME:CET
DTSTART:20261025T010000
END:STANDARD
BEGIN:DAYLIGHT
TZOFFSETFROM:+0100
TZOFFSETTO:+0200
TZNAME:CEST
DTSTART:20270328T010000
END:DAYLIGHT
BEGIN:STANDARD
TZOFFSETFROM:+0200
TZOFFSETTO:+0100
TZNAME:CET
DTSTART:20271031T010000
END:STANDARD
END:VTIMEZONE
BEGIN:VEVENT
DTSTART;TZID=Europe/Paris:20260426T113000
DTEND;TZID=Europe/Paris:20260426T130000
DTSTAMP:20260420T191909
CREATED:20260202T135726Z
LAST-MODIFIED:20260202T135726Z
UID:10000830-1777203000-1777208400@familiespelvalencia.org
SUMMARY:Taller-Espectacle. Els mons d'Alícia.
DESCRIPTION:Descobreix el nostre taller immersiu\, un espai dissenyat per inspirar la creativitat i la col·laboració\, impregnat de l’imaginari d’Alícia al país de les meravelles. En un entorn oníric\, els participants podran interactuar amb objectes reflectants\, translúcids\, taules lluminoses i projeccions plenes de color per contribuir a donar forma a una instal·lació artística. Amb l’ajuda de les educadores que acompanyaran l’experiència\, i mitjançant activitats especials que destaquen la importància dels sentits\, aquest taller instal·lació ofereix una oportunitat única per explorar\, crear i connectar amb els altres i amb l’entorn de manera lliure i creativa. Una proposta creada per Partee\, col·lectiu de dissenyadors que aposten per processos manuals i analògics i que fomenten la creativitat col·lectiva tot propiciant vincles amb els participants i integrant-los en el procés creatiu. \nActivitat recomanada per a famílies amb nens i nenes a partir de 4 anys. \nAtenció: aquesta instal·lació conté esclats de llum que podrien ser perjudicials per a la salut de persones amb epilèpsia fotosensible. // Els menors de 3 anys tenen l’entrada gratuïta\, però n’han d’adquirir el tiquet. Per fer-ho\, s’ha de seleccionar a l’apartat de promocions l’opció “menors de 3 anys”. // Els xiquets i xiquetes han d’anar acompanyats sempre d’un adult\, que també ha de reservar una entrada per a l’activitat // L’entrada al taller no és vàlida per visitar l’exposició “Els mons d’Alicia” \nMés informació i venda d’entrades: Web CaixaFòrum
URL:https://familiespelvalencia.org/activitat/taller-espectacle-els-mons-dalicia/2026-04-26/
LOCATION:Caixa Forum\, Ciutat de les Arts i les Ciències\, C/ Eduardo Primo Yúfera\, 1A\, València\, 46013
CATEGORIES:València - districte capital
ATTACH;FMTTYPE=image/webp:https://familiespelvalencia.org/wp-content/uploads/2026/02/Els-mons-dAlicia.webp
GEO:39.4538716;-0.3498098
X-APPLE-STRUCTURED-LOCATION;VALUE=URI;X-ADDRESS=Caixa Forum Ciutat de les Arts i les Ciències C/ Eduardo Primo Yúfera 1A València 46013;X-APPLE-RADIUS=500;X-TITLE=Ciutat de les Arts i les Ciències\, C/ Eduardo Primo Yúfera\, 1A:geo:-0.3498098,39.4538716
END:VEVENT
BEGIN:VEVENT
DTSTART;TZID=Europe/Paris:20260503T113000
DTEND;TZID=Europe/Paris:20260503T130000
DTSTAMP:20260420T191909
CREATED:20260202T135726Z
LAST-MODIFIED:20260202T135726Z
UID:10000831-1777807800-1777813200@familiespelvalencia.org
SUMMARY:Taller-Espectacle. Els mons d'Alícia.
DESCRIPTION:Descobreix el nostre taller immersiu\, un espai dissenyat per inspirar la creativitat i la col·laboració\, impregnat de l’imaginari d’Alícia al país de les meravelles. En un entorn oníric\, els participants podran interactuar amb objectes reflectants\, translúcids\, taules lluminoses i projeccions plenes de color per contribuir a donar forma a una instal·lació artística. Amb l’ajuda de les educadores que acompanyaran l’experiència\, i mitjançant activitats especials que destaquen la importància dels sentits\, aquest taller instal·lació ofereix una oportunitat única per explorar\, crear i connectar amb els altres i amb l’entorn de manera lliure i creativa. Una proposta creada per Partee\, col·lectiu de dissenyadors que aposten per processos manuals i analògics i que fomenten la creativitat col·lectiva tot propiciant vincles amb els participants i integrant-los en el procés creatiu. \nActivitat recomanada per a famílies amb nens i nenes a partir de 4 anys. \nAtenció: aquesta instal·lació conté esclats de llum que podrien ser perjudicials per a la salut de persones amb epilèpsia fotosensible. // Els menors de 3 anys tenen l’entrada gratuïta\, però n’han d’adquirir el tiquet. Per fer-ho\, s’ha de seleccionar a l’apartat de promocions l’opció “menors de 3 anys”. // Els xiquets i xiquetes han d’anar acompanyats sempre d’un adult\, que també ha de reservar una entrada per a l’activitat // L’entrada al taller no és vàlida per visitar l’exposició “Els mons d’Alicia” \nMés informació i venda d’entrades: Web CaixaFòrum
URL:https://familiespelvalencia.org/activitat/taller-espectacle-els-mons-dalicia/2026-05-03/
LOCATION:Caixa Forum\, Ciutat de les Arts i les Ciències\, C/ Eduardo Primo Yúfera\, 1A\, València\, 46013
CATEGORIES:València - districte capital
ATTACH;FMTTYPE=image/webp:https://familiespelvalencia.org/wp-content/uploads/2026/02/Els-mons-dAlicia.webp
GEO:39.4538716;-0.3498098
X-APPLE-STRUCTURED-LOCATION;VALUE=URI;X-ADDRESS=Caixa Forum Ciutat de les Arts i les Ciències C/ Eduardo Primo Yúfera 1A València 46013;X-APPLE-RADIUS=500;X-TITLE=Ciutat de les Arts i les Ciències\, C/ Eduardo Primo Yúfera\, 1A:geo:-0.3498098,39.4538716
END:VEVENT
BEGIN:VEVENT
DTSTART;TZID=Europe/Paris:20260510T113000
DTEND;TZID=Europe/Paris:20260510T130000
DTSTAMP:20260420T191909
CREATED:20260202T135726Z
LAST-MODIFIED:20260202T135726Z
UID:10000832-1778412600-1778418000@familiespelvalencia.org
SUMMARY:Taller-Espectacle. Els mons d'Alícia.
DESCRIPTION:Descobreix el nostre taller immersiu\, un espai dissenyat per inspirar la creativitat i la col·laboració\, impregnat de l’imaginari d’Alícia al país de les meravelles. En un entorn oníric\, els participants podran interactuar amb objectes reflectants\, translúcids\, taules lluminoses i projeccions plenes de color per contribuir a donar forma a una instal·lació artística. Amb l’ajuda de les educadores que acompanyaran l’experiència\, i mitjançant activitats especials que destaquen la importància dels sentits\, aquest taller instal·lació ofereix una oportunitat única per explorar\, crear i connectar amb els altres i amb l’entorn de manera lliure i creativa. Una proposta creada per Partee\, col·lectiu de dissenyadors que aposten per processos manuals i analògics i que fomenten la creativitat col·lectiva tot propiciant vincles amb els participants i integrant-los en el procés creatiu. \nActivitat recomanada per a famílies amb nens i nenes a partir de 4 anys. \nAtenció: aquesta instal·lació conté esclats de llum que podrien ser perjudicials per a la salut de persones amb epilèpsia fotosensible. // Els menors de 3 anys tenen l’entrada gratuïta\, però n’han d’adquirir el tiquet. Per fer-ho\, s’ha de seleccionar a l’apartat de promocions l’opció “menors de 3 anys”. // Els xiquets i xiquetes han d’anar acompanyats sempre d’un adult\, que també ha de reservar una entrada per a l’activitat // L’entrada al taller no és vàlida per visitar l’exposició “Els mons d’Alicia” \nMés informació i venda d’entrades: Web CaixaFòrum
URL:https://familiespelvalencia.org/activitat/taller-espectacle-els-mons-dalicia/2026-05-10/
LOCATION:Caixa Forum\, Ciutat de les Arts i les Ciències\, C/ Eduardo Primo Yúfera\, 1A\, València\, 46013
CATEGORIES:València - districte capital
ATTACH;FMTTYPE=image/webp:https://familiespelvalencia.org/wp-content/uploads/2026/02/Els-mons-dAlicia.webp
GEO:39.4538716;-0.3498098
X-APPLE-STRUCTURED-LOCATION;VALUE=URI;X-ADDRESS=Caixa Forum Ciutat de les Arts i les Ciències C/ Eduardo Primo Yúfera 1A València 46013;X-APPLE-RADIUS=500;X-TITLE=Ciutat de les Arts i les Ciències\, C/ Eduardo Primo Yúfera\, 1A:geo:-0.3498098,39.4538716
END:VEVENT
END:VCALENDAR