BEGIN:VCALENDAR
VERSION:2.0
PRODID:-//FAMÍLIES PEL VALENCIÀ - ECPv6.15.20//NONSGML v1.0//EN
CALSCALE:GREGORIAN
METHOD:PUBLISH
X-ORIGINAL-URL:https://familiespelvalencia.org
X-WR-CALDESC:Esdeveniments per FAMÍLIES PEL VALENCIÀ
REFRESH-INTERVAL;VALUE=DURATION:PT1H
X-Robots-Tag:noindex
X-PUBLISHED-TTL:PT1H
BEGIN:VTIMEZONE
TZID:Europe/Paris
BEGIN:DAYLIGHT
TZOFFSETFROM:+0100
TZOFFSETTO:+0200
TZNAME:CEST
DTSTART:20240331T010000
END:DAYLIGHT
BEGIN:STANDARD
TZOFFSETFROM:+0200
TZOFFSETTO:+0100
TZNAME:CET
DTSTART:20241027T010000
END:STANDARD
BEGIN:DAYLIGHT
TZOFFSETFROM:+0100
TZOFFSETTO:+0200
TZNAME:CEST
DTSTART:20250330T010000
END:DAYLIGHT
BEGIN:STANDARD
TZOFFSETFROM:+0200
TZOFFSETTO:+0100
TZNAME:CET
DTSTART:20251026T010000
END:STANDARD
BEGIN:DAYLIGHT
TZOFFSETFROM:+0100
TZOFFSETTO:+0200
TZNAME:CEST
DTSTART:20260329T010000
END:DAYLIGHT
BEGIN:STANDARD
TZOFFSETFROM:+0200
TZOFFSETTO:+0100
TZNAME:CET
DTSTART:20261025T010000
END:STANDARD
END:VTIMEZONE
BEGIN:VEVENT
DTSTART;TZID=Europe/Paris:20251111T173000
DTEND;TZID=Europe/Paris:20251111T183000
DTSTAMP:20260424T052813
CREATED:20251020T152436Z
LAST-MODIFIED:20251021T165004Z
UID:10000132-1762882200-1762885800@familiespelvalencia.org
SUMMARY:Sessions mensuals "Pissiganya"
DESCRIPTION:Pissiganya és un activitat grupal en què pares i mares\, juntament amb els fills\, es reunixen una volta al mes per a jugar i conversar en valencià a partir d’una proposta ludicoartística dinamitzada per Maria Gargallo\, del col·lectiu d’art i educació Massa Salvatge. \nEsta iniciativa s’emmarca dins del projecte Creixent al caliu <www.creixentalcaliu.com>\, del Gabinet de Noramalització Lingüística de l’Ajuntament de València\, a través del qual posen en valor\, promouen i faciliten la transmissió lingüística i la presència social del valencià en la primera infància. Cal inscripció prèvia.  \nPodeu inscriure-vos-hi ací: Formulari inscripció \nMés informació: Pissiganya 
URL:https://familiespelvalencia.org/activitat/sessions-mensuals-pissiganya-6/
LOCATION:Marina Alta
END:VEVENT
BEGIN:VEVENT
DTSTART;TZID=Europe/Paris:20251113T173000
DTEND;TZID=Europe/Paris:20251113T183000
DTSTAMP:20260424T052813
CREATED:20251020T152436Z
LAST-MODIFIED:20251113T152923Z
UID:10000133-1763055000-1763058600@familiespelvalencia.org
SUMMARY:Sessions mensuals "Pissiganya"
DESCRIPTION:Pissiganya és un activitat grupal en què pares i mares\, juntament amb els fills\, es reunixen una volta al mes per a jugar i conversar en valencià a partir d’una proposta ludicoartística dinamitzada per Maria Gargallo\, del col·lectiu d’art i educació Massa Salvatge. \nEsta iniciativa s’emmarca dins del projecte Creixent al caliuwww.creixentalcaliu.com>\, del Gabinet de Noramalització Lingüística de l’Ajuntament de València\, a través del qual posen en valor\, promouen i faciliten la transmissió lingüística i la presència social del valencià en la primera infància. Cal inscripció prèvia. \nPodeu inscriure-vos-hi ací: Formulari inscripció \nMés informació: Pissiganya \n 
URL:https://familiespelvalencia.org/activitat/sessions-mensuals-pissiganya-7/
LOCATION:Marina Alta
END:VEVENT
BEGIN:VEVENT
DTSTART;TZID=Europe/Paris:20251114T193000
DTEND;TZID=Europe/Paris:20251114T210000
DTSTAMP:20260424T052813
CREATED:20251115T065908Z
LAST-MODIFIED:20251115T070455Z
UID:10000469-1763148600-1763154000@familiespelvalencia.org
SUMMARY:Dani Miquel i Francesc Gisbert canten i conten sobre els espantacriatures
DESCRIPTION:Un esdeveniment infantil amb Dani Miquel i Francesc Gisbert al Centre Ovidi Montllor d’Alcoi\, on es cantaran i contaran històries sobre espantacriatures valencianes.
URL:https://familiespelvalencia.org/activitat/dani-miquel-i-francesc-gisbert-canten-i-conten-sobre-els-espantacriatures/
LOCATION:Centre Cultural Ovidi Montllor\, Alcoi\, C/Vistabell\,8\, Alcoi\, Alcoià
ATTACH;FMTTYPE=image/jpeg:https://familiespelvalencia.org/wp-content/uploads/2025/11/14.jpg
GEO:38.6975031;-0.4826227
X-APPLE-STRUCTURED-LOCATION;VALUE=URI;X-ADDRESS=Centre Cultural Ovidi Montllor Alcoi C/Vistabell8 Alcoi Alcoià;X-APPLE-RADIUS=500;X-TITLE=C/Vistabell\,8:geo:-0.4826227,38.6975031
END:VEVENT
BEGIN:VEVENT
DTSTART;TZID=Europe/Paris:20251116T123000
DTEND;TZID=Europe/Paris:20251116T153049
DTSTAMP:20260424T052813
CREATED:20251115T065924Z
LAST-MODIFIED:20251116T104658Z
UID:10000471-1763296200-1763307049@familiespelvalencia.org
SUMMARY:Riu
DESCRIPTION:Teatre infantil RIU a càrrec de la companyia Disparatario. Activitat que s’inclou al programa d’Arrel Escena\, festival de teatre en valencià a Polinyà del Xúquer.\nRIU és un espectacle de teatre gestual creat per a públic infantil\, que transcorre per un riu imaginari que simbolitza el flux constant de la vida. Un viatge on els elements bàsics de la natura\, porten al públic a explorar les emocions\, colors\, sons i textures de l’aigua\, l’aire\, el foc i la terra. Mitjançant el joc\, la música i la poesia\, els dos protagonistes ens submergiran en el món del descobriment i la diversió. \nAmb instruments musicals com el Hang Drum\, l’harmònica\, el xilòfon… vos convidem a viatjar per aquest RIU de sensacions visuals i sonores on deixar-se portar per les emocions.
URL:https://familiespelvalencia.org/activitat/riu/
LOCATION:Centre cultural Ausiàs March Polinyà del Xúquer\, C/ Canonge Hernandis\, Polinyà del Xúquer\, València\, 46688\, Spain
CATEGORIES:Comarques centrals
GEO:39.1956188;-0.3693838
X-APPLE-STRUCTURED-LOCATION;VALUE=URI;X-ADDRESS=Centre cultural Ausiàs March Polinyà del Xúquer C/ Canonge Hernandis Polinyà del Xúquer València 46688 Spain;X-APPLE-RADIUS=500;X-TITLE=C/ Canonge Hernandis:geo:-0.3693838,39.1956188
END:VEVENT
BEGIN:VEVENT
DTSTART;TZID=Europe/Paris:20251116T124247
DTEND;TZID=Europe/Paris:20251116T124247
DTSTAMP:20260424T052813
CREATED:20251020T152436Z
LAST-MODIFIED:20251116T104247Z
UID:10000134-1763296967-1763296967@familiespelvalencia.org
SUMMARY:Contacontes- De bat a bat (XI edició de la Ruta de Contacontes de l’Alcoià i el Comtat)
DESCRIPTION:La Ruta de Contacontes de la Mancomunitat Alcoià Comtat torna enguany amb la seua XI edició. Aquesta proposta cultural\, que arranca el pròxim 19 d’abril a Alcosser\, oferirà als veïns i veïnes dels pobles de la Mancomunitat l’oportunitat de gaudir d’una oferta cultural ampliada. Fins al 16 de novembre (la representació a Alfafara tancarà el cicle)\, rondalles i llegendes tradicionals seran protagonistes d’aquesta ruta que visitarà els quinze municipis de la comarca. \nAmb l’objectiu de dinamitzar l’oci i la cultura als nostres municipis\, la Ruta de Contacontes presenta una oportunitat per fomentar la movilitat turística a les comarques. Aquesta edició comptarà amb espectacles de narració oral a càrrec de Silvia Colomer\, Carles Llinares\, Jordi Carbonell\, Lorena Comín i molts altres. Els espectacles\, de caràcter gratuït i d’accés lliure\, permetran que tota la comunitat\, des dels més petits fins als adults\, forme part d’un univers màgic de contes i històries populars. \nAquesta XI edició de la Ruta de Contacontes es prepara amb la col·laboració de la Coordinadora Alcoià Comtat pel Valencià i Escoles Valencianes. En aquest cicle\, la narració de contes es el vehicle per transmetre les nostres arrels\, la Ruta de Contacontes de l’Alcoià i el Comtat es consolida en una oferta que\, any rere any\, transforma els espais públics en punts de trobada i cohesió cultural.
URL:https://familiespelvalencia.org/activitat/contacontes-de-bat-a-bat-xi-edicio-de-la-ruta-de-contacontes-de-lalcoia-i-el-comtat-2/
LOCATION:Centre Cultural “El Patronat” Alfafara\, Carrer de la Mateta\, 12\, Alfafara\, Alacant\, 03838\, Spain
CATEGORIES:Comarques del sud
GEO:38.7710901;-0.5553263
X-APPLE-STRUCTURED-LOCATION;VALUE=URI;X-ADDRESS=Centre Cultural “El Patronat” Alfafara Carrer de la Mateta 12 Alfafara Alacant 03838 Spain;X-APPLE-RADIUS=500;X-TITLE=Carrer de la Mateta\, 12:geo:-0.5553263,38.7710901
END:VEVENT
BEGIN:VEVENT
DTSTART;TZID=Europe/Paris:20251116T180000
DTEND;TZID=Europe/Paris:20251116T193000
DTSTAMP:20260424T052813
CREATED:20251115T065939Z
LAST-MODIFIED:20251115T070326Z
UID:10000472-1763316000-1763321400@familiespelvalencia.org
SUMMARY:Plàstic-tic-tic!
DESCRIPTION:Teatre al carrer per al públic familiar. Activitat emmarcada dins de la programació del festival de teatre en valencià Arrel Escena de Polinyà del Xúquer.
URL:https://familiespelvalencia.org/activitat/plastic-tic-tic/
LOCATION:Plaça de l’Ajuntament de Polinyà del Xúquer\, Plaça de l'Ajuntament\, Polinyà del Xúqer\, València\, 46688\, Spain
GEO:39.1961178;-0.3697294
X-APPLE-STRUCTURED-LOCATION;VALUE=URI;X-ADDRESS=Plaça de l’Ajuntament de Polinyà del Xúquer Plaça de l'Ajuntament Polinyà del Xúqer València 46688 Spain;X-APPLE-RADIUS=500;X-TITLE=Plaça de l'Ajuntament:geo:-0.3697294,39.1961178
END:VEVENT
BEGIN:VEVENT
DTSTART;TZID=Europe/Paris:20251116T183000
DTEND;TZID=Europe/Paris:20251116T193000
DTSTAMP:20260424T052813
CREATED:20251020T152515Z
LAST-MODIFIED:20251105T165508Z
UID:10000136-1763317800-1763321400@familiespelvalencia.org
SUMMARY:Concert didàctic: Re-ci-clart
DESCRIPTION:Grup de percussió Amores: Re-ci-clart. Tots els públics. \nArriben nous temps i l’excedent de material ens aclapara. Què podem fer nosaltres per a combatre-ho? Reduir\, reutilitzar i… música! Descobrirem que la pulsació també és música\, que podem fer música en qualsevol lloc\, i que\, amb creativitat\, podem transformar objectes convencionals en instruments de percussió. \nMés informació: Ajuntament de València
URL:https://familiespelvalencia.org/activitat/concert-didactic-re-ci-clart/
LOCATION:Plaça de Julio Ciges Marín\, Plaça de Julio Ciges Marín\, València\, València\, 46017\, Spain
GEO:39.4500508;-0.3915651
X-APPLE-STRUCTURED-LOCATION;VALUE=URI;X-ADDRESS=Plaça de Julio Ciges Marín Plaça de Julio Ciges Marín València València 46017 Spain;X-APPLE-RADIUS=500;X-TITLE=Plaça de Julio Ciges Marín:geo:-0.3915651,39.4500508
END:VEVENT
BEGIN:VEVENT
DTSTART;TZID=Europe/Paris:20251116T190000
DTEND;TZID=Europe/Paris:20251116T210000
DTSTAMP:20260424T052813
CREATED:20251020T152436Z
LAST-MODIFIED:20251107T143454Z
UID:10000135-1763319600-1763326800@familiespelvalencia.org
SUMMARY:Teatre: Alícia al Vaixell de les Meravelles
DESCRIPTION:TEATRE FAMILIAR\nTrencadís produccions presenta\nALICIA AL VAIXELL DE LES MERAVELLES\nDirecció de Jose Tomàs Chàfer \n“Alícia al vaixell de les meravelles” ens convida a fer un viatge ple de somriures\, sorpreses i emocions. Un espectacle ple de diversió\, on les portes de colors obrin camins d’amistat\, identitat i superació\, per descobrir un món nou. \nDurada de 65 min. Espectacle musical familiar en valencià.\nEdad recomanada de 6 a 12 anys. \nMés informació i entrades: Ajuntament Riba-roja de Túria
URL:https://familiespelvalencia.org/activitat/teatre-alicia-al-vaixell-de-les-meravelles-3/
LOCATION:Auditori de Riba-roja de Túria\, Carrer Major 135\, Riba-roja de Túria\, València\, 46190
ATTACH;FMTTYPE=image/jpeg:https://familiespelvalencia.org/wp-content/uploads/2025/10/20250820123032_1755685832.5642alicia.jpg
GEO:39.5408949;-0.5703359
X-APPLE-STRUCTURED-LOCATION;VALUE=URI;X-ADDRESS=Auditori de Riba-roja de Túria Carrer Major 135 Riba-roja de Túria València 46190;X-APPLE-RADIUS=500;X-TITLE=Carrer Major 135:geo:-0.5703359,39.5408949
END:VEVENT
END:VCALENDAR