BEGIN:VCALENDAR
VERSION:2.0
PRODID:-//FAMÍLIES PEL VALENCIÀ - ECPv6.15.20//NONSGML v1.0//EN
CALSCALE:GREGORIAN
METHOD:PUBLISH
X-WR-CALNAME:FAMÍLIES PEL VALENCIÀ
X-ORIGINAL-URL:https://familiespelvalencia.org
X-WR-CALDESC:Esdeveniments per FAMÍLIES PEL VALENCIÀ
REFRESH-INTERVAL;VALUE=DURATION:PT1H
X-Robots-Tag:noindex
X-PUBLISHED-TTL:PT1H
BEGIN:VTIMEZONE
TZID:Europe/Paris
BEGIN:DAYLIGHT
TZOFFSETFROM:+0100
TZOFFSETTO:+0200
TZNAME:CEST
DTSTART:20240331T010000
END:DAYLIGHT
BEGIN:STANDARD
TZOFFSETFROM:+0200
TZOFFSETTO:+0100
TZNAME:CET
DTSTART:20241027T010000
END:STANDARD
BEGIN:DAYLIGHT
TZOFFSETFROM:+0100
TZOFFSETTO:+0200
TZNAME:CEST
DTSTART:20250330T010000
END:DAYLIGHT
BEGIN:STANDARD
TZOFFSETFROM:+0200
TZOFFSETTO:+0100
TZNAME:CET
DTSTART:20251026T010000
END:STANDARD
BEGIN:DAYLIGHT
TZOFFSETFROM:+0100
TZOFFSETTO:+0200
TZNAME:CEST
DTSTART:20260329T010000
END:DAYLIGHT
BEGIN:STANDARD
TZOFFSETFROM:+0200
TZOFFSETTO:+0100
TZNAME:CET
DTSTART:20261025T010000
END:STANDARD
END:VTIMEZONE
BEGIN:VEVENT
DTSTART;TZID=Europe/Paris:20251007T163000
DTEND;TZID=Europe/Paris:20251007T173000
DTSTAMP:20260424T052745
CREATED:20251020T151452Z
LAST-MODIFIED:20251021T165334Z
UID:10000032-1759854600-1759858200@familiespelvalencia.org
SUMMARY:Contacontes: Llegendes d’en Jaume I
DESCRIPTION:Cia. Rebombori Cultural \nActivitat recomanada per a xiquets i xiquetes a partir de 4 anys. \nMés informació: Ajuntament d’Onda
URL:https://familiespelvalencia.org/activitat/contacontes-llegendes-den-jaume-i/
LOCATION:Marina Alta
END:VEVENT
BEGIN:VEVENT
DTSTART;TZID=Europe/Paris:20251007T163000
DTEND;TZID=Europe/Paris:20251007T173000
DTSTAMP:20260424T052745
CREATED:20251020T151452Z
LAST-MODIFIED:20251021T165349Z
UID:10000031-1759854600-1759858200@familiespelvalencia.org
SUMMARY:Contacontes: "La maleta viatgera" a càrrec del Gran Jordiet
DESCRIPTION:Contacontes familiar \nSessió de contes amb humor\, tendresa\, valors i un toc de màgia\, a càrrec del Gran Jordiet. \nMés informació: Biblioteca de Paiporta
URL:https://familiespelvalencia.org/activitat/contacontes-la-maleta-viatgera-a-carrec-del-gran-jordiet/
LOCATION:Marina Alta
END:VEVENT
BEGIN:VEVENT
DTSTART;TZID=Europe/Paris:20251007T173000
DTEND;TZID=Europe/Paris:20251007T183000
DTSTAMP:20260424T052745
CREATED:20251020T151452Z
LAST-MODIFIED:20251021T165219Z
UID:10000033-1759858200-1759861800@familiespelvalencia.org
SUMMARY:Espectacle musical: Els Rockin'Xics
DESCRIPTION:CIA. Splai Teatre \nEl rock més boig per a tota la familia. Toca divertir-se amb tota la magia i l’alegria dels Rockin’Xics. Espectacle de rock per a tota família. Cançons de sempre adaptades al públic infantil per a divertir-se sense parar un sol instant. Un entranyable homenatge a la ràdio\, als “guateques” i als temps de la moda “ye-yé”\, en un espectacle carregat de música\, festa i diversió per a gaudir en família. \nVídeo: Espectacle Rockin’Xics
URL:https://familiespelvalencia.org/activitat/espectacle-musical-els-rockinxics/
LOCATION:Marina Alta
END:VEVENT
BEGIN:VEVENT
DTSTART;TZID=Europe/Paris:20251008T163000
DTEND;TZID=Europe/Paris:20251008T173000
DTSTAMP:20260424T052745
CREATED:20251020T151452Z
LAST-MODIFIED:20251021T165319Z
UID:10000034-1759941000-1759944600@familiespelvalencia.org
SUMMARY:Teatre intinerant: El tresor de Jaume I
DESCRIPTION:A càrrec de L’Estranya Cia\nTeatre familiar intinerant
URL:https://familiespelvalencia.org/activitat/teatre-intinerant-el-tresor-de-jaume-i/
LOCATION:Marina Alta
END:VEVENT
BEGIN:VEVENT
DTSTART;TZID=Europe/Paris:20251008T163000
DTEND;TZID=Europe/Paris:20251008T173000
DTSTAMP:20260424T052745
CREATED:20251020T151452Z
LAST-MODIFIED:20251021T165349Z
UID:10000035-1759941000-1759944600@familiespelvalencia.org
SUMMARY:Contacontes: Contes tradicionals valencians a càrrec de Carles Cano
DESCRIPTION:A càrrec de Carles Cano
URL:https://familiespelvalencia.org/activitat/contacontes-contes-tradicionals-valencians-a-carrec-de-carles-cano/
LOCATION:Marina Alta
END:VEVENT
BEGIN:VEVENT
DTSTART;TZID=Europe/Paris:20251008T163000
DTEND;TZID=Europe/Paris:20251008T173000
DTSTAMP:20260424T052745
CREATED:20251020T151507Z
LAST-MODIFIED:20251021T165249Z
UID:10000036-1759941000-1759944600@familiespelvalencia.org
SUMMARY:Contacontes "Jaume I" amb Felip Kervàrec
DESCRIPTION:Una proposta que combina narrativa i divulgació històrica. \nMés informació: Ajuntament de Montcada
URL:https://familiespelvalencia.org/activitat/contacontes-jaume-i-amb-felip-kervarec/
LOCATION:Marina Alta
END:VEVENT
BEGIN:VEVENT
DTSTART;TZID=Europe/Paris:20251008T170000
DTEND;TZID=Europe/Paris:20251008T220000
DTSTAMP:20260424T052745
CREATED:20251020T151508Z
LAST-MODIFIED:20251021T165419Z
UID:10000037-1759942800-1759960800@familiespelvalencia.org
SUMMARY:Fesllengua 2025.- Concert Dani Miquel\, activitats infantil i molt més.
DESCRIPTION:Concerts\, sopar\, activitats infantils i molta diversió! \n18.30h.- El Monstre Petorro a càrrec de Paco Cholbi. Show Familiar19.30h.- Dani Miquel. Espectacle: Quin guirigall21.00h- Servei de sopar per al públic assistent22.00h.- Concert La Llavor23.30h.- Dj Keyzz (From de la terreta) \nMés informació i compra d’entrades: Ajuntament d’Ondara
URL:https://familiespelvalencia.org/activitat/fesllengua-2025-concert-dani-miquel-activitats-infantil-i-molt-mes/
LOCATION:Marina Alta
END:VEVENT
BEGIN:VEVENT
DTSTART;TZID=Europe/Paris:20251008T180000
DTEND;TZID=Europe/Paris:20251008T190000
DTSTAMP:20260424T052745
CREATED:20251020T151508Z
LAST-MODIFIED:20251021T165349Z
UID:10000038-1759946400-1759950000@familiespelvalencia.org
SUMMARY:Concert: Abril
DESCRIPTION:Públic juvenil. \nPresentació: Instruccions per estimar una cirera \nInstruccions per estimar una cirera és el resultat d’un binomi entre dos amants de la música com a leitmotiv a la vida. Aquesta atracció transita\, en aquest debut de la cantant de Benissa Abril\, per un viatge original i eclèctic a través d’estils tan dispars com el pop electrònic\, el rock o el reggaeton\, atrevint-se\, fins i tot\, a coquetejar amb el bolero. Un àlbum que és un mapa de cançons on els camins discorren amb frescor per l’amor\, la passió i la vida (Font: enderrock.cat)
URL:https://familiespelvalencia.org/activitat/concert-abril/
LOCATION:Marina Alta
END:VEVENT
BEGIN:VEVENT
DTSTART;TZID=Europe/Paris:20251009T100000
DTEND;TZID=Europe/Paris:20251009T110000
DTSTAMP:20260424T052745
CREATED:20251020T151508Z
LAST-MODIFIED:20251021T165319Z
UID:10000039-1760004000-1760007600@familiespelvalencia.org
SUMMARY:Contes\, balls i jocs popular: Balls del Poble
DESCRIPTION:A càrrec de L’Estranya Cia \nEls Còmics de la Legua es reuneixen a la plaça del poble amb el seu bagul ple de cançons\, balls\, jocs\, tarantes i divertiments per a passar-ho molt bé tots junts: pares\, mares i fills. Els còmics fan un bon repàs de cançons de tots els estils\, tradicionals i divertides\, que d’una manera o altra formen part del nostre patrimoni. \nMés informació: Ajuntament La Romana
URL:https://familiespelvalencia.org/activitat/contes-balls-i-jocs-popular-balls-del-poble/
LOCATION:Marina Alta
END:VEVENT
BEGIN:VEVENT
DTSTART;TZID=Europe/Paris:20251009T103000
DTEND;TZID=Europe/Paris:20251009T120000
DTSTAMP:20260424T052745
CREATED:20251020T151508Z
LAST-MODIFIED:20251021T165434Z
UID:10000040-1760005800-1760011200@familiespelvalencia.org
SUMMARY:ATENCIÓ AJORNAT! Concert: Ramonets i festa tot el matí
DESCRIPTION:ATENCIÓ AJORNAT! \nDes de les 10.00h a 14.00h hi hauran jocs tradicionals\, espai de lectura\, tallers i activitats infantil. \n11.30h – Concert familiar: Ramonets12.45h- Concert: Primavera Valenciana \nMés informació: Ajuntament de Paiporta
URL:https://familiespelvalencia.org/activitat/atencio-ajornat-concert-ramonets-i-festa-tot-el-mati/
LOCATION:Marina Alta
END:VEVENT
BEGIN:VEVENT
DTSTART;TZID=Europe/Paris:20251009T170000
DTEND;TZID=Europe/Paris:20251009T180000
DTSTAMP:20260424T052745
CREATED:20251020T151524Z
LAST-MODIFIED:20251021T165634Z
UID:10000041-1760029200-1760032800@familiespelvalencia.org
SUMMARY:Teatre: L'aneguet lleig 2025 (musical)
DESCRIPTION:Companyia: Albena Produccions // Direcció: Carles Alberola // Autoria: Carles Alberola i Ernest Sorrentino // Duració: 65 min\nEdat: 8 a 12 anys\nEntrades: Comprar \nSinopsi \nA partir del conte de Hans Christian Andersen\, la companyia Albena Teatre ens convida a submergir-nos en una metàfora fascinant que ens parla del valor de l’autoestima i de la confiança en un mateix. \nUn musical infantil amb animades cançons i una deliciosa proposta de teatre dins del teatre\, ens endinsem en una faula clàssica que emociona tant als menuts com als grans. Una aventura plena de màgia i descobriments\, on cada pas ens acosta a qui som de veritat… per\, finalment\, aprendre a fer sentir la nostra pròpia veu. \nProducció Escalante. \nMés informació: Web Teatre Escalante
URL:https://familiespelvalencia.org/activitat/teatre-laneguet-lleig-2025-musical-2/
LOCATION:Marina Alta
END:VEVENT
BEGIN:VEVENT
DTSTART;TZID=Europe/Paris:20251009T173000
DTEND;TZID=Europe/Paris:20251009T183000
DTSTAMP:20260424T052745
CREATED:20251020T151524Z
LAST-MODIFIED:20251021T165219Z
UID:10000042-1760031000-1760034600@familiespelvalencia.org
SUMMARY:Teatre: Encantats
DESCRIPTION:Edat: Familiar / Preu: A partir de 12€ / Categoria: Teatre Musical / Movilitat: Sala adaptada / Duració: 60 min \nSinopsi \nQuè passaria si un encanteri transportarà a un príncep i a una princesa als nostres dies? Seran capaços de subsistir en el caos de la nostra era\, d’assimilar la tecnologia i de sobreviure a l’estrés de la nostra època? I si l’única persona que poguera salvar-los fora un escriptor de novel·la negra que detesta els finals feliços? I sí l’heroïna del conte fora la princesa? \nUn musical creat amb cançons originals de Víctor Lucas\, que narra la història d’un escriptor de novel·la negra en plena crisi creativa i personal que és incapaç de trobar el final perfecte per a la seua novel·la\, fins que arriba a les seues mans un llibre encantat del qual sorgeixen un príncep i una princesa als quals un malvat embruixador els ha arrabassat la seua final feliç. Seran capaços de subsistir en el caos de la nostra era\, d’assimilar la tecnologia i de sobreviure a l’estrés de la nostra època? \nUn espectacle que interactuant amb el públic a través de sorpreses\, màgia i humor que ens ajudarà trencar amb els estereotips de gènere dels contes clàssics i a crear el nostre propi final feliç. \nDirecció i guio: Mamen Mengó; Víctor Lucas / Composició i direcció musical: Víctor Lucas / Escenografia: Dora Piles /Vestuari\, perruqueria i caracterització: Jairo Carrasco / Disseny d’ il·luminació: Stefano Recchia; Víctor Lucas / Video projeccions: Víctor Sánchez / Marioneta: Dora Piles / Cartell: Mariano Martín / Fotografia: Marc Pons/ Producció executiva: Pedro Giménez Més informació i compra d'entrades: Sala Off
URL:https://familiespelvalencia.org/activitat/teatre-encantats-2/
LOCATION:Marina Alta
END:VEVENT
BEGIN:VEVENT
DTSTART;TZID=Europe/Paris:20251009T183000
DTEND;TZID=Europe/Paris:20251009T200000
DTSTAMP:20260424T052745
CREATED:20251020T151524Z
LAST-MODIFIED:20251021T165119Z
UID:10000043-1760034600-1760040000@familiespelvalencia.org
SUMMARY:Cinema en valencià
DESCRIPTION:Projecció de la pel·lícula “Trolls 3″dins les festes populars de Patraix organitzades per l’Associació de Veïns.
URL:https://familiespelvalencia.org/activitat/cinema-en-valencia-2/
LOCATION:Marina Alta
END:VEVENT
BEGIN:VEVENT
DTSTART;TZID=Europe/Paris:20251010T170000
DTEND;TZID=Europe/Paris:20251010T180000
DTSTAMP:20260424T052745
CREATED:20251020T151524Z
LAST-MODIFIED:20251021T164934Z
UID:10000044-1760115600-1760119200@familiespelvalencia.org
SUMMARY:Contacontes.- De bat a bat (XI edició de la Ruta de Contacontes de l’Alcoià i el Comtat)
DESCRIPTION:
URL:https://familiespelvalencia.org/activitat/contacontes-de-bat-a-bat-xi-edicio-de-la-ruta-de-contacontes-de-lalcoia-i-el-comtat/
LOCATION:Marina Alta
END:VEVENT
BEGIN:VEVENT
DTSTART;TZID=Europe/Paris:20251010T180000
DTEND;TZID=Europe/Paris:20251010T190000
DTSTAMP:20260424T052745
CREATED:20251020T151539Z
LAST-MODIFIED:20251021T165519Z
UID:10000046-1760119200-1760122800@familiespelvalencia.org
SUMMARY:Jocs en gran format. (⚠️ ESPECTACLE SUSPÉS PER ALERTA METEOROLÒGICA)
DESCRIPTION:FICIV: La terreta. Públic infantil/familiar. \nConjunt de jocs de gran format d’habilitat i cooperatius tematitzats amb propostes que formen part de la nostra cultura\, entorn i oci valencians. \nMés informació: Ajuntament de València
URL:https://familiespelvalencia.org/activitat/jocs-en-gran-format-%e2%9a%a0%ef%b8%8f-espectacle-suspes-per-alerta-meteorologica/
LOCATION:Marina Alta
END:VEVENT
BEGIN:VEVENT
DTSTART;TZID=Europe/Paris:20251010T180000
DTEND;TZID=Europe/Paris:20251010T210000
DTSTAMP:20260424T052745
CREATED:20251020T151524Z
LAST-MODIFIED:20251021T165519Z
UID:10000045-1760119200-1760130000@familiespelvalencia.org
SUMMARY:Contacontes i Concerts de Pep de la Tona; Sant Gatxo (⚠️ AJORNAT 24 OCTUBRE)
DESCRIPTION:19.00h Contacontes: El monstre Petorro a càrrec de Paco Cholbi \nI després actuacions de: \n-Pep de la Tona– Sant Gatxo– Dj Cate \n(L’ordre dels grups indicats en el llistat no correspon necessàriament a l’ordre d’actuació. Aquesta informació encara no ha estat confirmada) \nHi haurà servei de barra i menjar
URL:https://familiespelvalencia.org/activitat/contacontes-i-concerts-de-pep-de-la-tona-sant-gatxo-%e2%9a%a0%ef%b8%8f-ajornat-24-octubre/
LOCATION:Marina Alta
END:VEVENT
BEGIN:VEVENT
DTSTART;TZID=Europe/Paris:20251011T100000
DTEND;TZID=Europe/Paris:20251011T110000
DTSTAMP:20260424T052745
CREATED:20251020T151540Z
LAST-MODIFIED:20251021T164934Z
UID:10000048-1760176800-1760180400@familiespelvalencia.org
SUMMARY:Contacontes.- Rosa Fraj (XI edició de la Ruta de Contacontes de l’Alcoià i el Comtat)
DESCRIPTION:
URL:https://familiespelvalencia.org/activitat/contacontes-rosa-fraj-xi-edicio-de-la-ruta-de-contacontes-de-lalcoia-i-el-comtat/
LOCATION:Marina Alta
END:VEVENT
BEGIN:VEVENT
DTSTART;TZID=Europe/Paris:20251011T100000
DTEND;TZID=Europe/Paris:20251011T133000
DTSTAMP:20260424T052745
CREATED:20251020T151540Z
LAST-MODIFIED:20251021T165504Z
UID:10000047-1760176800-1760189400@familiespelvalencia.org
SUMMARY:La Plaça de CAMACUC. Concert de Dani Miquel (‼️Canvis en programació per previsió de pluja)
DESCRIPTION:‼️ Canvis en la programació del 9 d’octubre per previsió de pluja. El concert de Dani Miquel de dissabte 11 es trasllada a l’Àgora. Les activitats de la Plaça de Camacuc han sigut cancel·lades. \nEl pròxim dissabte 11 d’octubre a les 11.00 h\, la Glorieta d’Alcoi (Plaça Ramon i Cajal s/n) s’omplirà de màgia\, rialles i cultura amb una jornada plena d’activitats per a tota la família! \n🧪 Tallers\, jocs\, experiments i passatemps🎶 Concert de Dani Miquel a les 13.30 h – no t’ho pots perdre!🎪 Paradetes\, espectacles i molt més! \nUna festa organitzada amb la col·laboració de Camacuc\, el Centre Ovidi Montllor d’ACPV\, l’Ajuntament d’Alcoi. \nVine a gaudir d’un matí ple de cultura\, música i diversió en valencià! Entrada lliure!
URL:https://familiespelvalencia.org/activitat/la-placa-de-camacuc-concert-de-dani-miquel-%e2%80%bc%ef%b8%8fcanvis-en-programacio-per-previsio-de-pluja/
LOCATION:Marina Alta
END:VEVENT
BEGIN:VEVENT
DTSTART;TZID=Europe/Paris:20251011T110000
DTEND;TZID=Europe/Paris:20251011T120000
DTSTAMP:20260424T052745
CREATED:20251020T151540Z
LAST-MODIFIED:20251021T165319Z
UID:10000049-1760180400-1760184000@familiespelvalencia.org
SUMMARY:Contacontes teatralitzat: Jo\, el Rei Jaume I
DESCRIPTION:A càrrec de L’Estranya Cia \nContacontes teatralitzat infantil \nMés informació: Ajuntament de Xaló
URL:https://familiespelvalencia.org/activitat/contacontes-teatralitzat-jo-el-rei-jaume-i/
LOCATION:Marina Alta
END:VEVENT
BEGIN:VEVENT
DTSTART;TZID=Europe/Paris:20251011T170000
DTEND;TZID=Europe/Paris:20251011T180000
DTSTAMP:20260424T052745
CREATED:20251020T151540Z
LAST-MODIFIED:20251021T165334Z
UID:10000050-1760202000-1760205600@familiespelvalencia.org
SUMMARY:Teatre: L'aneguet lleig 2025 (musical)
DESCRIPTION:Companyia: Albena Produccions // Direcció: Carles Alberola // Autoria: Carles Alberola i Ernest Sorrentino // Duració: 65 min\nEdat: 8 a 12 anys\nEntrades: Comprar \nSinopsi \nA partir del conte de Hans Christian Andersen\, la companyia Albena Teatre ens convida a submergir-nos en una metàfora fascinant que ens parla del valor de l’autoestima i de la confiança en un mateix. \nUn musical infantil amb animades cançons i una deliciosa proposta de teatre dins del teatre\, ens endinsem en una faula clàssica que emociona tant als menuts com als grans. Una aventura plena de màgia i descobriments\, on cada pas ens acosta a qui som de veritat… per\, finalment\, aprendre a fer sentir la nostra pròpia veu. \nProducció Escalante. \nMés informació: Web Teatre Escalante
URL:https://familiespelvalencia.org/activitat/teatre-laneguet-lleig-2025-musical-3/
LOCATION:Marina Alta
END:VEVENT
BEGIN:VEVENT
DTSTART;TZID=Europe/Paris:20251011T170000
DTEND;TZID=Europe/Paris:20251011T180000
DTSTAMP:20260424T052745
CREATED:20251020T151554Z
LAST-MODIFIED:20251021T164934Z
UID:10000051-1760202000-1760205600@familiespelvalencia.org
SUMMARY:Contacontes.- Carles Llinares i Jordi Carbonell (XI edició de la Ruta de Contacontes de l’Alcoià i el Comtat)
DESCRIPTION:
URL:https://familiespelvalencia.org/activitat/contacontes-carles-llinares-i-jordi-carbonell-xi-edicio-de-la-ruta-de-contacontes-de-lalcoia-i-el-comtat/
LOCATION:Marina Alta
END:VEVENT
BEGIN:VEVENT
DTSTART;TZID=Europe/Paris:20251011T173000
DTEND;TZID=Europe/Paris:20251011T183000
DTSTAMP:20260424T052745
CREATED:20251020T151555Z
LAST-MODIFIED:20251021T165219Z
UID:10000052-1760203800-1760207400@familiespelvalencia.org
SUMMARY:Teatre: Encantats
DESCRIPTION:Edat: Familiar / Preu: A partir de 12€ / Categoria: Teatre Musical / Movilitat: Sala adaptada / Duració: 60 min \nSinopsi \nQuè passaria si un encanteri transportarà a un príncep i a una princesa als nostres dies? Seran capaços de subsistir en el caos de la nostra era\, d’assimilar la tecnologia i de sobreviure a l’estrés de la nostra època? I si l’única persona que poguera salvar-los fora un escriptor de novel·la negra que detesta els finals feliços? I sí l’heroïna del conte fora la princesa? \nUn musical creat amb cançons originals de Víctor Lucas\, que narra la història d’un escriptor de novel·la negra en plena crisi creativa i personal que és incapaç de trobar el final perfecte per a la seua novel·la\, fins que arriba a les seues mans un llibre encantat del qual sorgeixen un príncep i una princesa als quals un malvat embruixador els ha arrabassat la seua final feliç. Seran capaços de subsistir en el caos de la nostra era\, d’assimilar la tecnologia i de sobreviure a l’estrés de la nostra època? \nUn espectacle que interactuant amb el públic a través de sorpreses\, màgia i humor que ens ajudarà trencar amb els estereotips de gènere dels contes clàssics i a crear el nostre propi final feliç. \nDirecció i guio: Mamen Mengó; Víctor Lucas / Composició i direcció musical: Víctor Lucas / Escenografia: Dora Piles /Vestuari\, perruqueria i caracterització: Jairo Carrasco / Disseny d’ il·luminació: Stefano Recchia; Víctor Lucas / Video projeccions: Víctor Sánchez / Marioneta: Dora Piles / Cartell: Mariano Martín / Fotografia: Marc Pons/ Producció executiva: Pedro Giménez Més informació i compra d'entrades: Sala Off
URL:https://familiespelvalencia.org/activitat/teatre-encantats-3/
LOCATION:Marina Alta
END:VEVENT
BEGIN:VEVENT
DTSTART;TZID=Europe/Paris:20251011T180000
DTEND;TZID=Europe/Paris:20251011T190000
DTSTAMP:20260424T052745
CREATED:20251020T151555Z
LAST-MODIFIED:20251021T165434Z
UID:10000054-1760205600-1760209200@familiespelvalencia.org
SUMMARY:Teatre: Alícia al Vaixell de les Meravelles
DESCRIPTION:TEATRE FAMILIARTrencadís produccions presentaALICIA AL VAIXELL DE LES MERAVELLESDirecció de Jose Tomàs Chàfer \nA Alícia al País de les portes de colors\, la nostra heroïna s’endinsa en un món màgic\, ple de portes misterioses\, personatges peculiars i colors brillants! En aquest univers tan peculiar\, la protagonista viurà moments divertidíssims i descobrirà què significa començar de nou en un lloc estrany. Amb balls\, música i màgia a cada racó\, Alícia ens convida a fer un viatge ple de somriures\, sorpreses i moltes emocions! Un espectacle ple de diversió\, om les portes de colors obren camins d’amistat\, identitat i superació\, perquè descobrir un món nou pot ser una gran festa! \nDurada de 65 min. Espectacle musical familiar en valencià.Edad recomanada de 6 a 12 anys.Entrades: 3 €. \nMés informació: Ajuntament d ‘Alzira
URL:https://familiespelvalencia.org/activitat/teatre-alicia-al-vaixell-de-les-meravelles/
LOCATION:Marina Alta
END:VEVENT
BEGIN:VEVENT
DTSTART;TZID=Europe/Paris:20251011T180000
DTEND;TZID=Europe/Paris:20251011T192000
DTSTAMP:20260424T052745
CREATED:20251020T151555Z
LAST-MODIFIED:20251021T165449Z
UID:10000053-1760205600-1760210400@familiespelvalencia.org
SUMMARY:Teatre: Pinotxo\, un musical d'aventures (⚠️ AJORNAMENT PER ALERTA METEOROLÒGICA)
DESCRIPTION:La representació prevista s’ajorna al divendres 13 de desembre per motius de seguretat. (Informació facilitada per l’organització.) \nEstrena a ALCÀSSER. La última producció de Trencadis Produccions. \nDurada: 80 min. \nSinopsi \nAmb text i lletres de Josep Mollà\, el teatre dins del teatre és la clau per poder explicar les aventures de Pinotxo en aquesta nova proposta de Trencadís. Qui no ha jugat mai a ser actor o actriu? A través de les il·lusions de Laura\, una nena apassionada pel món del teatre\, farem un viatge a través de les aventures més conegudes de l’estimadíssim titella\, amb una partitura fantàstica\, veus en rigorós directe i grans coreografies. \nVídeo romocional: Pinotxo\, un musical d’aventuresEntrades: Enllaç plataforma compraMés informació: Ajuntament Alcàsser \nDirecció: JosepTomàs Chàfer / text i lletres: Josep Mollà / Música original: Francis J. / Creacióde cors i assistència vocal: Mary Porcar / Veus en off:  Adrián Romero / Coreografia: Pachi G. Fenollar/ Disseny d’il·luminació: Ximo Rojo i Mari Benavent / Perruqueria icaracterització: Inma Fuentes / Adaptació de vestuari: Reme Bufante / Escenografia:Doménec Mezquita / Material gràfic: Mónica Zamora
URL:https://familiespelvalencia.org/activitat/teatre-pinotxo-un-musical-daventures-%e2%9a%a0%ef%b8%8f-ajornament-per-alerta-meteorologica/
LOCATION:Marina Alta
END:VEVENT
BEGIN:VEVENT
DTSTART;TZID=Europe/Paris:20251012T113000
DTEND;TZID=Europe/Paris:20251012T123000
DTSTAMP:20260424T052745
CREATED:20251020T151555Z
LAST-MODIFIED:20251021T165234Z
UID:10000055-1760268600-1760272200@familiespelvalencia.org
SUMMARY:Teatre: Encantats (Doble sessió: matí i vesprada. 12.30h i 18.30h)
DESCRIPTION:Horari sessions Matí: 12.30hVesprada: 18.30h \nEdat: Familiar / Preu: A partir de 12€ / Categoria: Teatre Musical / Movilitat: Sala adaptada / Duració: 60 min \nSinopsi \nQuè passaria si un encanteri transportarà a un príncep i a una princesa als nostres dies? Seran capaços de subsistir en el caos de la nostra era\, d’assimilar la tecnologia i de sobreviure a l’estrés de la nostra època? I si l’única persona que poguera salvar-los fora un escriptor de novel·la negra que detesta els finals feliços? I sí l’heroïna del conte fora la princesa? \nUn musical creat amb cançons originals de Víctor Lucas\, que narra la història d’un escriptor de novel·la negra en plena crisi creativa i personal que és incapaç de trobar el final perfecte per a la seua novel·la\, fins que arriba a les seues mans un llibre encantat del qual sorgeixen un príncep i una princesa als quals un malvat embruixador els ha arrabassat la seua final feliç. Seran capaços de subsistir en el caos de la nostra era\, d’assimilar la tecnologia i de sobreviure a l’estrés de la nostra època? \nUn espectacle que interactuant amb el públic a través de sorpreses\, màgia i humor que ens ajudarà trencar amb els estereotips de gènere dels contes clàssics i a crear el nostre propi final feliç. \nDirecció i guio: Mamen Mengó; Víctor Lucas / Composició i direcció musical: Víctor Lucas / Escenografia: Dora Piles /Vestuari\, perruqueria i caracterització: Jairo Carrasco / Disseny d’ il·luminació: Stefano Recchia; Víctor Lucas / Video projeccions: Víctor Sánchez / Marioneta: Dora Piles / Cartell: Mariano Martín / Fotografia: Marc Pons/ Producció executiva: Pedro Giménez Més informació i compra d'entrades: Sala Off
URL:https://familiespelvalencia.org/activitat/teatre-encantats-doble-sessio-mati-i-vesprada-12-30h-i-18-30h-2/
LOCATION:Marina Alta
END:VEVENT
BEGIN:VEVENT
DTSTART;TZID=Europe/Paris:20251012T170000
DTEND;TZID=Europe/Paris:20251012T180000
DTSTAMP:20260424T052745
CREATED:20251020T151610Z
LAST-MODIFIED:20251028T165151Z
UID:10000056-1760288400-1760292000@familiespelvalencia.org
SUMMARY:Teatre: L'aneguet lleig 2025 (musical)
DESCRIPTION:Companyia: Albena Produccions // Direcció: Carles Alberola // Autoria: Carles Alberola i Ernest Sorrentino // Duració: 65 min\nEdat: 8 a 12 anys\nEntrades: Comprar \nSinopsi \nA partir del conte de Hans Christian Andersen\, la companyia Albena Teatre ens convida a submergir-nos en una metàfora fascinant que ens parla del valor de l’autoestima i de la confiança en un mateix. \nUn musical infantil amb animades cançons i una deliciosa proposta de teatre dins del teatre\, ens endinsem en una faula clàssica que emociona tant als menuts com als grans. Una aventura plena de màgia i descobriments\, on cada pas ens acosta a qui som de veritat… per\, finalment\, aprendre a fer sentir la nostra pròpia veu. \nProducció Escalante. \nMés informació: Web Teatre Escalante
URL:https://familiespelvalencia.org/activitat/teatre-laneguet-lleig-2025-musical-4/
LOCATION:Teatre Escalante\, Carrer Barques\, 15\, València\, València\, 46002\, Spain
GEO:39.4705552;-0.374465
X-APPLE-STRUCTURED-LOCATION;VALUE=URI;X-ADDRESS=Teatre Escalante Carrer Barques 15 València València 46002 Spain;X-APPLE-RADIUS=500;X-TITLE=Carrer Barques\, 15:geo:-0.374465,39.4705552
END:VEVENT
END:VCALENDAR