BEGIN:VCALENDAR
VERSION:2.0
PRODID:-//FAMÍLIES PEL VALENCIÀ - ECPv6.15.20//NONSGML v1.0//EN
CALSCALE:GREGORIAN
METHOD:PUBLISH
X-ORIGINAL-URL:https://familiespelvalencia.org
X-WR-CALDESC:Esdeveniments per FAMÍLIES PEL VALENCIÀ
REFRESH-INTERVAL;VALUE=DURATION:PT1H
X-Robots-Tag:noindex
X-PUBLISHED-TTL:PT1H
BEGIN:VTIMEZONE
TZID:Europe/Paris
BEGIN:DAYLIGHT
TZOFFSETFROM:+0100
TZOFFSETTO:+0200
TZNAME:CEST
DTSTART:20240331T010000
END:DAYLIGHT
BEGIN:STANDARD
TZOFFSETFROM:+0200
TZOFFSETTO:+0100
TZNAME:CET
DTSTART:20241027T010000
END:STANDARD
BEGIN:DAYLIGHT
TZOFFSETFROM:+0100
TZOFFSETTO:+0200
TZNAME:CEST
DTSTART:20250330T010000
END:DAYLIGHT
BEGIN:STANDARD
TZOFFSETFROM:+0200
TZOFFSETTO:+0100
TZNAME:CET
DTSTART:20251026T010000
END:STANDARD
BEGIN:DAYLIGHT
TZOFFSETFROM:+0100
TZOFFSETTO:+0200
TZNAME:CEST
DTSTART:20260329T010000
END:DAYLIGHT
BEGIN:STANDARD
TZOFFSETFROM:+0200
TZOFFSETTO:+0100
TZNAME:CET
DTSTART:20261025T010000
END:STANDARD
END:VTIMEZONE
BEGIN:VEVENT
DTSTART;TZID=Europe/Paris:20250929T180000
DTEND;TZID=Europe/Paris:20250929T190000
DTSTAMP:20260424T052812
CREATED:20251020T151400Z
LAST-MODIFIED:20251021T164849Z
UID:10000022-1759168800-1759172400@familiespelvalencia.org
SUMMARY:Concert de Trobadorets
DESCRIPTION:
URL:https://familiespelvalencia.org/activitat/concert-de-trobadorets-3/
LOCATION:Marina Alta
END:VEVENT
BEGIN:VEVENT
DTSTART;TZID=Europe/Paris:20251003T150000
DTEND;TZID=Europe/Paris:20251003T183000
DTSTAMP:20260424T052812
CREATED:20251020T151400Z
LAST-MODIFIED:20251021T165334Z
UID:10000023-1759503600-1759516200@familiespelvalencia.org
SUMMARY:La Plaça de CAMACUC. Concert de Marcel el Marcià
DESCRIPTION:Aquest divendres 3 d’octubre\, la plaça de l’Amistat de Pedreguer es convertirà en el centre de diversió per a tota la família amb una nova edició de Camacuc\, una festa plena d’activitats per a tots els públics. A partir de les 16:00 hores\, tothom podrà gaudir de parades\, jocs\, experiments\, passatemps i molt més\, en un ambient festiu i dinàmic. \nEl gran tancament de la jornada serà el concert de Marcel el Marcià\, que oferirà la seua música per fer ballar petits i grans. Aquest esdeveniment\, organitzat pel Casal Cultural Jaume I de Pedreguer\, promet un dia de diversió i descoberta per a tota la família. \nNo et perdes aquest esdeveniment ple de música\, diversió i ciència! Una oportunitat única per gaudir de l’ambient local i les activitats que faran les delícies dels més joves i no tan joves. \nVine a passar una vesprada inoblidable!
URL:https://familiespelvalencia.org/activitat/la-placa-de-camacuc-concert-de-marcel-el-marcia/
LOCATION:Marina Alta
END:VEVENT
BEGIN:VEVENT
DTSTART;TZID=Europe/Paris:20251004T170000
DTEND;TZID=Europe/Paris:20251004T180000
DTSTAMP:20260424T052812
CREATED:20251020T151400Z
LAST-MODIFIED:20251021T165319Z
UID:10000024-1759597200-1759600800@familiespelvalencia.org
SUMMARY:Teatre: L'aneguet lleig 2025 (musical)
DESCRIPTION:Companyia: Albena Produccions / Direcció: Carles Alberola / Autoria: Carles Alberola i Ernest Sorrentino / Duaració: 65 min\nEdat: de 8 a12 anys \nEntrades: Comprar \nSinopsi \nA partir del conte de Hans Christian Andersen\, la companyia Albena Teatre ens convida a submergir-nos en una metàfora fascinant que ens parla del valor de l’autoestima i de la confiança en un mateix. \nUn musical infantil amb animades cançons i una deliciosa proposta de teatre dins del teatre\, ens endinsem en una faula clàssica que emociona tant als menuts com als grans. Una aventura plena de màgia i descobriments\, on cada pas ens acosta a qui som de veritat… per\, finalment\, aprendre a fer sentir la nostra pròpia veu. \nProducció Escalante. \nMés informació: Web Teatre Escalante
URL:https://familiespelvalencia.org/activitat/teatre-laneguet-lleig-2025-musical/
LOCATION:Marina Alta
END:VEVENT
BEGIN:VEVENT
DTSTART;TZID=Europe/Paris:20251004T173000
DTEND;TZID=Europe/Paris:20251004T183000
DTSTAMP:20260424T052812
CREATED:20251020T151400Z
LAST-MODIFIED:20251021T165219Z
UID:10000025-1759599000-1759602600@familiespelvalencia.org
SUMMARY:Teatre: Encantats
DESCRIPTION:Edat: Familiar / Preu: A partir de 12€ / Categoria: Teatre Musical / Movilitat: Sala adaptada / Duració: 60 min \nSinopsi \nQuè passaria si un encanteri transportarà a un príncep i a una princesa als nostres dies? Seran capaços de subsistir en el caos de la nostra era\, d’assimilar la tecnologia i de sobreviure a l’estrés de la nostra època? I si l’única persona que poguera salvar-los fora un escriptor de novel·la negra que detesta els finals feliços? I sí l’heroïna del conte fora la princesa? \nUn musical creat amb cançons originals de Víctor Lucas\, que narra la història d’un escriptor de novel·la negra en plena crisi creativa i personal que és incapaç de trobar el final perfecte per a la seua novel·la\, fins que arriba a les seues mans un llibre encantat del qual sorgeixen un príncep i una princesa als quals un malvat embruixador els ha arrabassat la seua final feliç. Seran capaços de subsistir en el caos de la nostra era\, d’assimilar la tecnologia i de sobreviure a l’estrés de la nostra època? \nUn espectacle que interactuant amb el públic a través de sorpreses\, màgia i humor que ens ajudarà trencar amb els estereotips de gènere dels contes clàssics i a crear el nostre propi final feliç. \nDirecció i guio: Mamen Mengó; Víctor Lucas / Composició i direcció musical: Víctor Lucas / Escenografia: Dora Piles /Vestuari\, perruqueria i caracterització: Jairo Carrasco / Disseny d’ il·luminació: Stefano Recchia; Víctor Lucas / Video projeccions: Víctor Sánchez / Marioneta: Dora Piles / Cartell: Mariano Martín / Fotografia: Marc Pons/ Producció executiva: Pedro Giménez Més informació i compra d’entrades: Sala Off
URL:https://familiespelvalencia.org/activitat/teatre-encantats/
LOCATION:Marina Alta
END:VEVENT
BEGIN:VEVENT
DTSTART;TZID=Europe/Paris:20251005T093000
DTEND;TZID=Europe/Paris:20251005T123000
DTSTAMP:20260424T052812
CREATED:20251020T151415Z
LAST-MODIFIED:20251021T165249Z
UID:10000026-1759656600-1759667400@familiespelvalencia.org
SUMMARY:Inici temporada a la Sala l'Horta
DESCRIPTION:Diumenge 5 d’octubre celebrem la festa d’inici de temporada a Sala L’Horta! \n🤹‍♂️ A les 10.30 h vos esperem al carrer amb un taller de circ gratuït per a tots els xiquets i xiquetes que vulguen participar. \n🐿️ I a les 12.00 h\, dins de la sala\, gaudirem de La faula de l’esquirol de @labaldufateatre \,un espectacle tendre i divertit amb música en directe i poesia visual. \n🎟️ Entrada: 7 €👉 Entrades ja disponibles a: L’Horta Teatre \nVine amb la família i comencem la temporada junts amb il·lusió i bon teatre!
URL:https://familiespelvalencia.org/activitat/inici-temporada-a-la-sala-lhorta/
LOCATION:Marina Alta
END:VEVENT
BEGIN:VEVENT
DTSTART;TZID=Europe/Paris:20251005T100000
DTEND;TZID=Europe/Paris:20251005T110000
DTSTAMP:20260424T052812
CREATED:20251020T151415Z
LAST-MODIFIED:20251021T165249Z
UID:10000027-1759658400-1759662000@familiespelvalencia.org
SUMMARY:Festival “Barberetes i Cançonetes” amb Dani Miquel
DESCRIPTION:Espectacle pensat per als més menuts amb el seu concert “Quin Gurigall”\, tallers\, pintacares i una desfilada amb teatre de carrer. \nMés informació: Ajuntament de Montcada
URL:https://familiespelvalencia.org/activitat/festival-barberetes-i-canconetes-amb-dani-miquel/
LOCATION:Marina Alta
END:VEVENT
BEGIN:VEVENT
DTSTART;TZID=Europe/Paris:20251005T110000
DTEND;TZID=Europe/Paris:20251005T120000
DTSTAMP:20260424T052812
CREATED:20251020T151415Z
LAST-MODIFIED:20251021T165204Z
UID:10000028-1759662000-1759665600@familiespelvalencia.org
SUMMARY:Espectacle musical infantil: La Fam: Pop’s Corn
DESCRIPTION:La Fam: Pop’s Corn. Públic infantil/familiar. \nAllò que originàriament comença com una prova de selecció per a un concurs de la ràdio\, un joc més\, esdevé un autèntica festa-concert amb una quinzena de cançons amb veu en directe. \nMés informació: Ajuntament de ValènciaVídeo promocional: Pop’s Corn
URL:https://familiespelvalencia.org/activitat/espectacle-musical-infantil-la-fam-pops-corn/
LOCATION:Marina Alta
END:VEVENT
BEGIN:VEVENT
DTSTART;TZID=Europe/Paris:20251005T110000
DTEND;TZID=Europe/Paris:20251005T120000
DTSTAMP:20260424T052812
CREATED:20251020T151415Z
LAST-MODIFIED:20251021T165304Z
UID:10000029-1759662000-1759665600@familiespelvalencia.org
SUMMARY:Teatre: La faula de l'esquirol
DESCRIPTION:La Baldufa cia. de Comediants (Catalunya) \nDurada: 50 min / Edat: Públic Familiar a partir de 5 anys \nSinopsiEl gran eriçó viu plàcidament\, a l’ombra d’un gran roure\, i cuida dels seus\, mentre gaudeix del seu raconet de món. Un dia\, però\, aquesta pau es veurà pertorbada\, per l’arribada d’un esquirol amable\, trapella i juganer. La seva convivència no serà fàcil. Descobrirem un eriçó esquerp i protector\, i un esquirol amb ganes de saber compartir. \nMés informació i venda d’entrades: L’Horta TeatreVídeo promocional: La faula de l’esquirol
URL:https://familiespelvalencia.org/activitat/teatre-la-faula-de-lesquirol/
LOCATION:Marina Alta
END:VEVENT
BEGIN:VEVENT
DTSTART;TZID=Europe/Paris:20251005T113000
DTEND;TZID=Europe/Paris:20251005T123000
DTSTAMP:20260424T052812
CREATED:20251020T151415Z
LAST-MODIFIED:20251021T165234Z
UID:10000030-1759663800-1759667400@familiespelvalencia.org
SUMMARY:Teatre: Encantats (Doble sessió: matí i vesprada. 12.30h i 18.30h)
DESCRIPTION:Horari sessions Matí: 12.30hVesprada: 18.30h \nEdat: Familiar / Preu: A partir de 12€ / Categoria: Teatre Musical / Movilitat: Sala adaptada / Duració: 60 min \nSinopsi \nQuè passaria si un encanteri transportarà a un príncep i a una princesa als nostres dies? Seran capaços de subsistir en el caos de la nostra era\, d’assimilar la tecnologia i de sobreviure a l’estrés de la nostra època? I si l’única persona que poguera salvar-los fora un escriptor de novel·la negra que detesta els finals feliços? I sí l’heroïna del conte fora la princesa? \nUn musical creat amb cançons originals de Víctor Lucas\, que narra la història d’un escriptor de novel·la negra en plena crisi creativa i personal que és incapaç de trobar el final perfecte per a la seua novel·la\, fins que arriba a les seues mans un llibre encantat del qual sorgeixen un príncep i una princesa als quals un malvat embruixador els ha arrabassat la seua final feliç. Seran capaços de subsistir en el caos de la nostra era\, d’assimilar la tecnologia i de sobreviure a l’estrés de la nostra època? \nUn espectacle que interactuant amb el públic a través de sorpreses\, màgia i humor que ens ajudarà trencar amb els estereotips de gènere dels contes clàssics i a crear el nostre propi final feliç. \nDirecció i guio: Mamen Mengó; Víctor Lucas / Composició i direcció musical: Víctor Lucas / Escenografia: Dora Piles /Vestuari\, perruqueria i caracterització: Jairo Carrasco / Disseny d’ il·luminació: Stefano Recchia; Víctor Lucas / Video projeccions: Víctor Sánchez / Marioneta: Dora Piles / Cartell: Mariano Martín / Fotografia: Marc Pons/ Producció executiva: Pedro Giménez Més informació i compra d’entrades: Sala Off
URL:https://familiespelvalencia.org/activitat/teatre-encantats-doble-sessio-mati-i-vesprada-12-30h-i-18-30h/
LOCATION:Marina Alta
END:VEVENT
END:VCALENDAR