BEGIN:VCALENDAR
VERSION:2.0
PRODID:-//FAMÍLIES PEL VALENCIÀ - ECPv6.15.20//NONSGML v1.0//EN
CALSCALE:GREGORIAN
METHOD:PUBLISH
X-WR-CALNAME:FAMÍLIES PEL VALENCIÀ
X-ORIGINAL-URL:https://familiespelvalencia.org
X-WR-CALDESC:Esdeveniments per FAMÍLIES PEL VALENCIÀ
REFRESH-INTERVAL;VALUE=DURATION:PT1H
X-Robots-Tag:noindex
X-PUBLISHED-TTL:PT1H
BEGIN:VTIMEZONE
TZID:Europe/Paris
BEGIN:DAYLIGHT
TZOFFSETFROM:+0100
TZOFFSETTO:+0200
TZNAME:CEST
DTSTART:20250330T010000
END:DAYLIGHT
BEGIN:STANDARD
TZOFFSETFROM:+0200
TZOFFSETTO:+0100
TZNAME:CET
DTSTART:20251026T010000
END:STANDARD
BEGIN:DAYLIGHT
TZOFFSETFROM:+0100
TZOFFSETTO:+0200
TZNAME:CEST
DTSTART:20260329T010000
END:DAYLIGHT
BEGIN:STANDARD
TZOFFSETFROM:+0200
TZOFFSETTO:+0100
TZNAME:CET
DTSTART:20261025T010000
END:STANDARD
BEGIN:DAYLIGHT
TZOFFSETFROM:+0100
TZOFFSETTO:+0200
TZNAME:CEST
DTSTART:20270328T010000
END:DAYLIGHT
BEGIN:STANDARD
TZOFFSETFROM:+0200
TZOFFSETTO:+0100
TZNAME:CET
DTSTART:20271031T010000
END:STANDARD
END:VTIMEZONE
BEGIN:VEVENT
DTSTART;TZID=Europe/Paris:20260512T173000
DTEND;TZID=Europe/Paris:20260512T183000
DTSTAMP:20260424T050633
CREATED:20260223T124023Z
LAST-MODIFIED:20260223T124126Z
UID:10000985-1778607000-1778610600@familiespelvalencia.org
SUMMARY:Pissiganya 2026 .- Grups de joc i conversa en valencià per a famílies
DESCRIPTION:Pissiganya és un activitat grupal en què pares i mares\, juntament amb les seues criatures es reunixen una volta al mes per a jugar i conversar en valencià a partir d’una proposta ludicoartística dinamitzada per Maria Gargallo. Aquesta iniciativa s’emmarca dins del projecte Creixent al caliu (www.creixentalcaliu.com)\, a través del qual volen posar en valor\, promoure i facilitar la transmissió lingüística i la presència social del valencià en la primera infància. \nActivitat per a famílies amb xiquets i xiquetes de 0 a 5 anys \n IMPORTANT: Cal inscripció prèvia. Les inscripcions s’accepten per ordre d’arribada fins a completar-ne la capacitat. \nMés informació: Ajuntament de València | Creixent al caliu \n 
URL:https://familiespelvalencia.org/activitat/pissiganya-2026-grups-de-joc-i-conversa-en-valencia-per-a-families/2026-05-12/
LOCATION:Biblioteca de Na Rovella – Joaquim Martí i Gadea\, Avinguda. de l'Alcalde Gisbert Rico\, 20\, (Quatre Carreres)\, València\, València\, 46013
CATEGORIES:València - districte capital
ATTACH;FMTTYPE=image/gif:https://familiespelvalencia.org/wp-content/uploads/2026/02/Pissiganya-GIF.gif
GEO:39.4560973;-0.3604827
X-APPLE-STRUCTURED-LOCATION;VALUE=URI;X-ADDRESS=Biblioteca de Na Rovella – Joaquim Martí i Gadea Avinguda. de l'Alcalde Gisbert Rico 20 (Quatre Carreres) València València 46013;X-APPLE-RADIUS=500;X-TITLE=Avinguda. de l'Alcalde Gisbert Rico\, 20\, (Quatre Carreres):geo:-0.3604827,39.4560973
END:VEVENT
BEGIN:VEVENT
DTSTART;TZID=Europe/Paris:20260514T183000
DTEND;TZID=Europe/Paris:20260514T183000
DTSTAMP:20260424T050633
CREATED:20260423T075246Z
LAST-MODIFIED:20260423T075246Z
UID:10001245-1778783400-1778783400@familiespelvalencia.org
SUMMARY:Presentació del libre infantil Ovidi Montllor
DESCRIPTION:Contacontes i actuació musical per presentar el llibre il·lustrat\, infantil\, “Ovidi Montllor”\, de Cesk Freixas i Judit Piella. En la presentació participarà l’autor\, Cesk Freixas.
URL:https://familiespelvalencia.org/activitat/presentacio-del-libre-infantil-ovidi-montllor/
LOCATION:La Repartidora\, C. del Reverend Rafael Tramoyeres\, 8\, Benimaclet\, València\, 46020
CATEGORIES:València - districte capital
ATTACH;FMTTYPE=image/jpeg:https://familiespelvalencia.org/wp-content/uploads/2026/04/1000251157.jpg
GEO:39.4850643;-0.3614972
X-APPLE-STRUCTURED-LOCATION;VALUE=URI;X-ADDRESS=La Repartidora C. del Reverend Rafael Tramoyeres 8 Benimaclet València 46020;X-APPLE-RADIUS=500;X-TITLE=C. del Reverend Rafael Tramoyeres\, 8:geo:-0.3614972,39.4850643
END:VEVENT
BEGIN:VEVENT
DTSTART;TZID=Europe/Paris:20260514T200000
DTEND;TZID=Europe/Paris:20260514T213000
DTSTAMP:20260424T050633
CREATED:20260213T221948Z
LAST-MODIFIED:20260213T221948Z
UID:10000963-1778788800-1778794200@familiespelvalencia.org
SUMMARY:Concert. Magalí Sare
DESCRIPTION:La cantant Magalí Sare\, una de les veus més creatives del jazz contemporani i la cançó d’autor\, actuarà a L’ETNO. Amb una trajectòria que combina el seu passat al Quartet Mèlt\, projectes de folk modern i col·laboracions amb artistes com Clara Peya\, Sare destaca per la seua veu delicada\, el seu estil experimental i la capacitat de barrejar tradició i modernitat d’una manera molt personal. Un concert ideal per a qui busca nous sons i artistes que arrisquen. \nPúblic jove i públic en general
URL:https://familiespelvalencia.org/activitat/concert-magali-sare/
LOCATION:La Beneficiència\, C/Corona\, 36\, València\, L'Horta\, 46003
CATEGORIES:València - districte capital
ATTACH;FMTTYPE=image/jpeg:https://familiespelvalencia.org/wp-content/uploads/2026/02/Magali-sare.jpeg
GEO:39.4788387;-0.382941
X-APPLE-STRUCTURED-LOCATION;VALUE=URI;X-ADDRESS=La Beneficiència C/Corona 36 València L'Horta 46003;X-APPLE-RADIUS=500;X-TITLE=C/Corona\, 36:geo:-0.382941,39.4788387
END:VEVENT
BEGIN:VEVENT
DTSTART;TZID=Europe/Paris:20260516T113000
DTEND;TZID=Europe/Paris:20260516T123000
DTSTAMP:20260424T050633
CREATED:20260129T215353Z
LAST-MODIFIED:20260129T215947Z
UID:10000817-1778931000-1778934600@familiespelvalencia.org
SUMMARY:Artefacte: Tots els cossos formen el paisatge. Taller
DESCRIPTION:Una obra d’art\, un moble versàtil o el material d’un taller. Artefacte és totes aquestes coses: un dispositiu mòbil\, a mig camí entre la instal·lació artística i el recurs pedagògic\, dissenyat específicament per acollir propostes de mediació i materials educatius\, creats per artistes i dinamitzats per un educador o educadora. Tots els cossos formen el paisatge és la proposta artística i de mediació dissenyada per l’artista Albert Potrony per a l’Artefacte. Aquest taller convida a imaginar i crear paisatges comuns a partir del propi cos amb relació als diferents elements escultòrics de l’Artefacte. Jugar es convertirà en una exploració individual i col·lectiva de disciplines artístiques com la instal·lació i la performance. Combina peces geomètriques rígides amb elements tous i flexibles per connectar els nostres cossos a través d’elles\, transformar-nos i transformar alhora l’espai. Prova\, construeix\, assaja\, fes\, desfés i refés. Reinventa amb cada participació les possibilitats infinites de l’Artefacte! \nA càrrec d’Albert Potrony\, artista multidisciplinari nascut a Catalunya i resident al Regne Unit que utilitza l’escultura\, la instal·lació i l’acció com a base per investigar sobre processos artístics participatius. Ha exposat en nombroses galeries i museus\, incloent-hi la Tate\, Serpentine Galleries\, Whitechapel Gallery\, South London Gallery\, Gasworks\, Camden Arts Centre\, V&A’s (Londres)\, Serralves Foundation (Porto) i el Centre d’Art La Panera (Lleida). \nActivitat recomanada a partir de 4 anys. \nImportant: Els xiquets i les xiquetes han d’anar acompanyats sempre d’un adult\, que també ha de reservar una entrada per a l’activitat \nMés informació i venda d’entrades: Web Caixa Fòrum
URL:https://familiespelvalencia.org/activitat/artefacte-tots-els-cossos-formen-el-paisatge/2026-05-16/
LOCATION:Caixa Forum\, Ciutat de les Arts i les Ciències\, C/ Eduardo Primo Yúfera\, 1A\, València\, 46013
CATEGORIES:València - districte capital
ATTACH;FMTTYPE=image/webp:https://familiespelvalencia.org/wp-content/uploads/2026/01/Artefacte.webp
GEO:39.4538716;-0.3498098
X-APPLE-STRUCTURED-LOCATION;VALUE=URI;X-ADDRESS=Caixa Forum Ciutat de les Arts i les Ciències C/ Eduardo Primo Yúfera 1A València 46013;X-APPLE-RADIUS=500;X-TITLE=Ciutat de les Arts i les Ciències\, C/ Eduardo Primo Yúfera\, 1A:geo:-0.3498098,39.4538716
END:VEVENT
BEGIN:VEVENT
DTSTART;TZID=Europe/Paris:20260517T113000
DTEND;TZID=Europe/Paris:20260517T123000
DTSTAMP:20260424T050633
CREATED:20260202T210419Z
LAST-MODIFIED:20260202T210419Z
UID:10000884-1779017400-1779021000@familiespelvalencia.org
SUMMARY:Visita en família: Petits músics a la recerca de les matemàtiques
DESCRIPTION:I si la música i les matemàtiques són més semblants del que sembla? I si són tan i tan semblants que per inventar-nos una melodia hem de parlar d’ones sonores\, de proporcions i de càlculs? En aquesta visita dinamitzada\, les matemàtiques ens ajudaran a entendre\, crear i compondre música. Ho farem amb el guiatge d’una persona educadora\, tot experimentant amb els interactius de l’exposició i a partir d’un joc de construcció sonora. Cantar i sumar\, tocar i multiplicar\, compondre i calcular… T’hi atreveixes? \nPetits músics a la recerca de les matemàtiques\, a partir de 4 anys. \nMés informació i venda d’entrades: Web Caixa Fòrum \nEls xiquets i xiquetes han d’anar acompanyats sempre d’un adult\, que també ha de reservar una entrada per a l’activitat.
URL:https://familiespelvalencia.org/activitat/visita-en-familia-petits-musics-a-la-recerca-de-les-matematiques/2026-05-17/
LOCATION:Caixa Forum\, Ciutat de les Arts i les Ciències\, C/ Eduardo Primo Yúfera\, 1A\, València\, 46013
CATEGORIES:València - districte capital
ATTACH;FMTTYPE=image/webp:https://familiespelvalencia.org/wp-content/uploads/2026/02/petits-musics-a-la-recerca-de-les-matematiques.webp
GEO:39.4538716;-0.3498098
X-APPLE-STRUCTURED-LOCATION;VALUE=URI;X-ADDRESS=Caixa Forum Ciutat de les Arts i les Ciències C/ Eduardo Primo Yúfera 1A València 46013;X-APPLE-RADIUS=500;X-TITLE=Ciutat de les Arts i les Ciències\, C/ Eduardo Primo Yúfera\, 1A:geo:-0.3498098,39.4538716
END:VEVENT
BEGIN:VEVENT
DTSTART;TZID=Europe/Paris:20260517T120000
DTEND;TZID=Europe/Paris:20260517T130000
DTSTAMP:20260424T050633
CREATED:20260325T211513Z
LAST-MODIFIED:20260325T211647Z
UID:10001115-1779019200-1779022800@familiespelvalencia.org
SUMMARY:Teatre. Ohhh!!!
DESCRIPTION:Diem Ohhh!\, quan alguna cosa ens colpeja per primera vegada. El nostre primer bes\, el nostre primer fracàs\, el nostre primer passeig per la lluna… Aquesta és una història de descobriments. De descobrir-nos. I ja que ens posem a descobrir\, què tal si ho descobrim tot de nou? I si descobrim qui som? Com parlem? Com caminem? Com ens mirem? Com ens estimem o ens odiem? Com ens afonem i com ens tornem a alçar? Tot parteix del no-res. De no ser res per poder ser-ho tot. Poder ser allò que desitgem ser. Si alguna cosa ens han ensenyat els descobriments al llarg de la història de la humanitat és que van ser fruit\, moltes vegades\, de la casualitat\, de situacions accidentals\, però la major part de les vegades d’alguna cosa tan forta que és capaç de canviar la història dels esdeveniments: la curiositat. La curiositat per voler saber i no per pensar que ho sabem tot. Només aquells que no saben res es convertiran en els veritables savis. Ens trobem ací amb tres éssers per fer-se\, per descobrir-se. Tres personatges que habiten un lloc que no existeix\, per un espai sense temps. Pel no-res més ple de tot. Ohhh!\, és una cerca d’allò que volem ser però no sabem. És un viatge sense brúixola cap a allò desconegut\, cap allò fantàstic\, cap allò catastròfic i cap al nostre univers de dubtes sense resposta. Riem\, sí. Però abans caldrà descobrir el riure\, no? \nDurada 55 min | Per a públic familiar a partir de 5 anys \n 
URL:https://familiespelvalencia.org/activitat/teatre-ohhh/
LOCATION:Sala L’Horta\, Carrer Sant Martí de Porres\, 17 (Poblats del Sud)\, Castellar-L'Oliveral.- València\, L'Horta\, 46026
CATEGORIES:València - districte capital
ATTACH;FMTTYPE=image/png:https://familiespelvalencia.org/wp-content/uploads/2026/03/Ohhh.png
GEO:39.4247911;-0.3653518
X-APPLE-STRUCTURED-LOCATION;VALUE=URI;X-ADDRESS=Sala L’Horta Carrer Sant Martí de Porres 17 (Poblats del Sud) Castellar-L'Oliveral.- València L'Horta 46026;X-APPLE-RADIUS=500;X-TITLE=Carrer Sant Martí de Porres\, 17 (Poblats del Sud):geo:-0.3653518,39.4247911
END:VEVENT
BEGIN:VEVENT
DTSTART;TZID=Europe/Paris:20260517T173000
DTEND;TZID=Europe/Paris:20260517T190000
DTSTAMP:20260424T050633
CREATED:20260202T142009Z
LAST-MODIFIED:20260202T142009Z
UID:10000837-1779039000-1779044400@familiespelvalencia.org
SUMMARY:Visita taller familiar: Buscant l’Alícia
DESCRIPTION:En aquesta visita taller ens trucarà Lewis Carrol per telèfon\, beurem d’un beuratge\, ens farem grans i petits\, caminarem del revés o sobre el sostre\, celebrarem el nostre no aniversari i ens convertirem en un gat invisible. No us ho creieu? Tot això i moltes coses més passen al país de les meravelles\, on ens endinsarem seguint els passos de l’Alícia. Plegats descobrirem el relat i els personatges d’aquest clàssic de la literatura universal per endinsar-nos en un món de creativitat i imaginació i\, mitjançant diverses dinàmiques i materials diferents\, ens familiaritzarem amb diferents creacions contemporànies inspirades en aquesta història. \nDurada: 1 hora i 30 minuts // Activitat recomanada per a infants a partir de 5 anys. // Activitat conceptualitzada i dissenyada per la mediadora artística Teresa Rubio. \nEls xiquets i xiquetes han d’anar acompanyats sempre d’un adult\, que també ha de reservar una entrada per a l’activitat \nMés informació i venda d’entrades: Web CaixaFòrum
URL:https://familiespelvalencia.org/activitat/visita-taller-familiar-buscant-lalicia/2026-05-17/
LOCATION:Caixa Forum\, Ciutat de les Arts i les Ciències\, C/ Eduardo Primo Yúfera\, 1A\, València\, 46013
CATEGORIES:València - districte capital
ATTACH;FMTTYPE=image/webp:https://familiespelvalencia.org/wp-content/uploads/2026/02/Els-mons-dAlicia.-Somiar-el-pais-de-les-meravelles.webp
GEO:39.4538716;-0.3498098
X-APPLE-STRUCTURED-LOCATION;VALUE=URI;X-ADDRESS=Caixa Forum Ciutat de les Arts i les Ciències C/ Eduardo Primo Yúfera 1A València 46013;X-APPLE-RADIUS=500;X-TITLE=Ciutat de les Arts i les Ciències\, C/ Eduardo Primo Yúfera\, 1A:geo:-0.3498098,39.4538716
END:VEVENT
END:VCALENDAR