BEGIN:VCALENDAR
VERSION:2.0
PRODID:-//FAMÍLIES PEL VALENCIÀ - ECPv6.15.20//NONSGML v1.0//EN
CALSCALE:GREGORIAN
METHOD:PUBLISH
X-ORIGINAL-URL:https://familiespelvalencia.org
X-WR-CALDESC:Esdeveniments per FAMÍLIES PEL VALENCIÀ
REFRESH-INTERVAL;VALUE=DURATION:PT1H
X-Robots-Tag:noindex
X-PUBLISHED-TTL:PT1H
BEGIN:VTIMEZONE
TZID:Europe/Paris
BEGIN:DAYLIGHT
TZOFFSETFROM:+0100
TZOFFSETTO:+0200
TZNAME:CEST
DTSTART:20250330T010000
END:DAYLIGHT
BEGIN:STANDARD
TZOFFSETFROM:+0200
TZOFFSETTO:+0100
TZNAME:CET
DTSTART:20251026T010000
END:STANDARD
BEGIN:DAYLIGHT
TZOFFSETFROM:+0100
TZOFFSETTO:+0200
TZNAME:CEST
DTSTART:20260329T010000
END:DAYLIGHT
BEGIN:STANDARD
TZOFFSETFROM:+0200
TZOFFSETTO:+0100
TZNAME:CET
DTSTART:20261025T010000
END:STANDARD
BEGIN:DAYLIGHT
TZOFFSETFROM:+0100
TZOFFSETTO:+0200
TZNAME:CEST
DTSTART:20270328T010000
END:DAYLIGHT
BEGIN:STANDARD
TZOFFSETFROM:+0200
TZOFFSETTO:+0100
TZNAME:CET
DTSTART:20271031T010000
END:STANDARD
END:VTIMEZONE
BEGIN:VEVENT
DTSTART;TZID=Europe/Paris:20260509T173000
DTEND;TZID=Europe/Paris:20260509T183000
DTSTAMP:20260424T050721
CREATED:20260202T203625Z
LAST-MODIFIED:20260202T203625Z
UID:10000863-1778347800-1778351400@familiespelvalencia.org
SUMMARY:Taller.- Contes a la vora del Rock
DESCRIPTION:En aquest taller descobrirem\, a través de diferents contes o històries\, com sona una bateria\, quines parts té\, com sonen diferents instruments de percussió i com els podem fer servir per tocar un ritme de rock. Experimentarem i identificarem a través de la veu i de la percussió corporal diferents qualitats del so\, com ara fort i fluix\, lent i ràpid o agut i greu. \nTaller recomanat per a famílies amb xiquets i xiquetes a partir de 4 anys. // Durada: 1 hora. \nMés informació i venda d’entrades: Web CaixaFòrum
URL:https://familiespelvalencia.org/activitat/taller-contes-a-la-vora-del-rock/2026-05-09/
LOCATION:Caixa Forum\, Ciutat de les Arts i les Ciències\, C/ Eduardo Primo Yúfera\, 1A\, València\, 46013
CATEGORIES:València - districte capital
ATTACH;FMTTYPE=image/webp:https://familiespelvalencia.org/wp-content/uploads/2026/02/Contes-a-la-vora-del-Rock.webp
GEO:39.4538716;-0.3498098
X-APPLE-STRUCTURED-LOCATION;VALUE=URI;X-ADDRESS=Caixa Forum Ciutat de les Arts i les Ciències C/ Eduardo Primo Yúfera 1A València 46013;X-APPLE-RADIUS=500;X-TITLE=Ciutat de les Arts i les Ciències\, C/ Eduardo Primo Yúfera\, 1A:geo:-0.3498098,39.4538716
END:VEVENT
BEGIN:VEVENT
DTSTART;TZID=Europe/Paris:20260510T110000
DTEND;TZID=Europe/Paris:20260510T114500
DTSTAMP:20260424T050721
CREATED:20260325T210403Z
LAST-MODIFIED:20260325T211023Z
UID:10001113-1778410800-1778413500@familiespelvalencia.org
SUMMARY:Teatre. La mama dels arbres
DESCRIPTION:La mama dels arbres és la història d’una dona\, Wangari Maathai\, que va decidir empoderar-se i fer front a l’egoisme dels poderosos replantant d’arbres la seua terra\, Kenya\, que estava sent desforestada. Una determinació colossal que la va dur a plantar 30 milions d’arbres! Coratge\, intel·ligència\, i amor\, en un espectacle de profunds valors ecologistes\, pacifistes i espirituals. \nLa mama dels arbres es centra en valors com la consciència ecològica\, la pau i l’empoderament personal i col·lectiu. A través de la figura inspiradora de Wangari Maathai\, l’espectacle mostra com l’acció decidida pot transformar una realitat marcada per la destrucció i la injustícia. Plantar arbres esdevé un acte de resistència i esperança que convida a estimar la natura\, actuar amb coratge i persistir malgrat les adversitats. Una proposta que inspira resiliència\, responsabilitat i compromís amb un món més just i sostenible. \nTeatre | Arts Plàstiques | Titelles | Proximitat \nPrimera infància de 2 a 5 anys | Teatre de proximitat: el públic s’ubicarà dalt de l’escenari
URL:https://familiespelvalencia.org/activitat/teatre-la-mama-dels-arbres/2026-05-10/1/
LOCATION:Sala L’Horta\, Carrer Sant Martí de Porres\, 17 (Poblats del Sud)\, Castellar-L'Oliveral.- València\, L'Horta\, 46026
CATEGORIES:València - districte capital
ATTACH;FMTTYPE=image/jpeg:https://familiespelvalencia.org/wp-content/uploads/2026/03/La-mama-dels-arbres-1.jpg
GEO:39.4247911;-0.3653518
X-APPLE-STRUCTURED-LOCATION;VALUE=URI;X-ADDRESS=Sala L’Horta Carrer Sant Martí de Porres 17 (Poblats del Sud) Castellar-L'Oliveral.- València L'Horta 46026;X-APPLE-RADIUS=500;X-TITLE=Carrer Sant Martí de Porres\, 17 (Poblats del Sud):geo:-0.3653518,39.4247911
END:VEVENT
BEGIN:VEVENT
DTSTART;TZID=Europe/Paris:20260510T110000
DTEND;TZID=Europe/Paris:20260510T115500
DTSTAMP:20260424T050721
CREATED:20260202T214745Z
LAST-MODIFIED:20260202T214745Z
UID:10000903-1778410800-1778414100@familiespelvalencia.org
SUMMARY:Teatre.- El pati
DESCRIPTION:Al pati de l’escola passen totes les coses alhora. Quin desgavell! Al pati de l’escola passen les mateixes coses cada dia: córrer\, jugar\, esmorzar\, cridar\, ballar\, xarrar… Hui ha passat alguna cosa inesperada. Què ha passat al pati? Qui ho ha vist? Qui ho ha sentit? Qui en sap alguna cosa? Amb qui ha sigut? Investigar\, contrastar versions i descobrir la veritat en les històries extraordinàries i quotidianes que passen al pati. Aprenent a identificar mentides\, mitges veritats i faules. \nEdat: de 10 a 12 anys // Durada: 55 minuts \nCompanyia: Pérez&Disla // Direcció: Jaume Pérez Roldán // Autoria: Juli Disla \nMés informació i venda d’entrades: Escalante \n 
URL:https://familiespelvalencia.org/activitat/teatre-el-pati/2026-05-10/1/
LOCATION:Ribes Espai Cultural\, Carrer de les Filipines\, 2 (Barri de Russafa)\, València\, L'Horta\, 46004
CATEGORIES:València - districte capital
ATTACH;FMTTYPE=image/jpeg:https://familiespelvalencia.org/wp-content/uploads/2026/02/El-pati.jpg
GEO:39.4582381;-0.3772651
X-APPLE-STRUCTURED-LOCATION;VALUE=URI;X-ADDRESS=Ribes Espai Cultural Carrer de les Filipines 2 (Barri de Russafa) València L'Horta 46004;X-APPLE-RADIUS=500;X-TITLE=Carrer de les Filipines\, 2 (Barri de Russafa):geo:-0.3772651,39.4582381
END:VEVENT
BEGIN:VEVENT
DTSTART;TZID=Europe/Paris:20260510T110000
DTEND;TZID=Europe/Paris:20260510T123000
DTSTAMP:20260424T050721
CREATED:20260328T161222Z
LAST-MODIFIED:20260328T161529Z
UID:10001122-1778410800-1778416200@familiespelvalencia.org
SUMMARY:Visita familiar guiada + taller
DESCRIPTION:L’arribada de la primavera i l’estiu al Jardí Botànic és una explosió de vida que transforma aquest oasi en un festival de colors i aromes. Un jardí que dóna vida i que convida a descobrir-lo amb les seues visites guiades de cap de setmana. \nPúblic familiar | durada 1.30 h\, inclou taller | aformanet limitat a 25 participants. \nMés informació\, reserva i abonament: Jardí Botànic
URL:https://familiespelvalencia.org/activitat/visita-familiar-guiada-taller/2026-05-10/
LOCATION:Jardí Botànic de València\, C/ Quart 80\, València\, L'Horta\, 46008
CATEGORIES:València - districte capital
ATTACH;FMTTYPE=image/jpeg:https://familiespelvalencia.org/wp-content/uploads/2026/03/Botanic-primavera-estiu.jpg
GEO:39.4754911;-0.386497
X-APPLE-STRUCTURED-LOCATION;VALUE=URI;X-ADDRESS=Jardí Botànic de València C/ Quart 80 València L'Horta 46008;X-APPLE-RADIUS=500;X-TITLE=C/ Quart 80:geo:-0.386497,39.4754911
END:VEVENT
BEGIN:VEVENT
DTSTART;TZID=Europe/Paris:20260510T113000
DTEND;TZID=Europe/Paris:20260510T123000
DTSTAMP:20260424T050721
CREATED:20260202T203625Z
LAST-MODIFIED:20260202T203625Z
UID:10000864-1778412600-1778416200@familiespelvalencia.org
SUMMARY:Taller.- Contes a la vora del Rock
DESCRIPTION:En aquest taller descobrirem\, a través de diferents contes o històries\, com sona una bateria\, quines parts té\, com sonen diferents instruments de percussió i com els podem fer servir per tocar un ritme de rock. Experimentarem i identificarem a través de la veu i de la percussió corporal diferents qualitats del so\, com ara fort i fluix\, lent i ràpid o agut i greu. \nTaller recomanat per a famílies amb xiquets i xiquetes a partir de 4 anys. // Durada: 1 hora. \nMés informació i venda d’entrades: Web CaixaFòrum
URL:https://familiespelvalencia.org/activitat/taller-contes-a-la-vora-del-rock/2026-05-10/
LOCATION:Caixa Forum\, Ciutat de les Arts i les Ciències\, C/ Eduardo Primo Yúfera\, 1A\, València\, 46013
CATEGORIES:València - districte capital
ATTACH;FMTTYPE=image/webp:https://familiespelvalencia.org/wp-content/uploads/2026/02/Contes-a-la-vora-del-Rock.webp
GEO:39.4538716;-0.3498098
X-APPLE-STRUCTURED-LOCATION;VALUE=URI;X-ADDRESS=Caixa Forum Ciutat de les Arts i les Ciències C/ Eduardo Primo Yúfera 1A València 46013;X-APPLE-RADIUS=500;X-TITLE=Ciutat de les Arts i les Ciències\, C/ Eduardo Primo Yúfera\, 1A:geo:-0.3498098,39.4538716
END:VEVENT
BEGIN:VEVENT
DTSTART;TZID=Europe/Paris:20260510T113000
DTEND;TZID=Europe/Paris:20260510T123000
DTSTAMP:20260424T050721
CREATED:20260202T210419Z
LAST-MODIFIED:20260202T210419Z
UID:10000883-1778412600-1778416200@familiespelvalencia.org
SUMMARY:Visita en família: Petits músics a la recerca de les matemàtiques
DESCRIPTION:I si la música i les matemàtiques són més semblants del que sembla? I si són tan i tan semblants que per inventar-nos una melodia hem de parlar d’ones sonores\, de proporcions i de càlculs? En aquesta visita dinamitzada\, les matemàtiques ens ajudaran a entendre\, crear i compondre música. Ho farem amb el guiatge d’una persona educadora\, tot experimentant amb els interactius de l’exposició i a partir d’un joc de construcció sonora. Cantar i sumar\, tocar i multiplicar\, compondre i calcular… T’hi atreveixes? \nPetits músics a la recerca de les matemàtiques\, a partir de 4 anys. \nMés informació i venda d’entrades: Web Caixa Fòrum \nEls xiquets i xiquetes han d’anar acompanyats sempre d’un adult\, que també ha de reservar una entrada per a l’activitat.
URL:https://familiespelvalencia.org/activitat/visita-en-familia-petits-musics-a-la-recerca-de-les-matematiques/2026-05-10/
LOCATION:Caixa Forum\, Ciutat de les Arts i les Ciències\, C/ Eduardo Primo Yúfera\, 1A\, València\, 46013
CATEGORIES:València - districte capital
ATTACH;FMTTYPE=image/webp:https://familiespelvalencia.org/wp-content/uploads/2026/02/petits-musics-a-la-recerca-de-les-matematiques.webp
GEO:39.4538716;-0.3498098
X-APPLE-STRUCTURED-LOCATION;VALUE=URI;X-ADDRESS=Caixa Forum Ciutat de les Arts i les Ciències C/ Eduardo Primo Yúfera 1A València 46013;X-APPLE-RADIUS=500;X-TITLE=Ciutat de les Arts i les Ciències\, C/ Eduardo Primo Yúfera\, 1A:geo:-0.3498098,39.4538716
END:VEVENT
BEGIN:VEVENT
DTSTART;TZID=Europe/Paris:20260510T113000
DTEND;TZID=Europe/Paris:20260510T130000
DTSTAMP:20260424T050721
CREATED:20260202T135726Z
LAST-MODIFIED:20260202T135726Z
UID:10000832-1778412600-1778418000@familiespelvalencia.org
SUMMARY:Taller-Espectacle. Els mons d'Alícia.
DESCRIPTION:Descobreix el nostre taller immersiu\, un espai dissenyat per inspirar la creativitat i la col·laboració\, impregnat de l’imaginari d’Alícia al país de les meravelles. En un entorn oníric\, els participants podran interactuar amb objectes reflectants\, translúcids\, taules lluminoses i projeccions plenes de color per contribuir a donar forma a una instal·lació artística. Amb l’ajuda de les educadores que acompanyaran l’experiència\, i mitjançant activitats especials que destaquen la importància dels sentits\, aquest taller instal·lació ofereix una oportunitat única per explorar\, crear i connectar amb els altres i amb l’entorn de manera lliure i creativa. Una proposta creada per Partee\, col·lectiu de dissenyadors que aposten per processos manuals i analògics i que fomenten la creativitat col·lectiva tot propiciant vincles amb els participants i integrant-los en el procés creatiu. \nActivitat recomanada per a famílies amb nens i nenes a partir de 4 anys. \nAtenció: aquesta instal·lació conté esclats de llum que podrien ser perjudicials per a la salut de persones amb epilèpsia fotosensible. // Els menors de 3 anys tenen l’entrada gratuïta\, però n’han d’adquirir el tiquet. Per fer-ho\, s’ha de seleccionar a l’apartat de promocions l’opció “menors de 3 anys”. // Els xiquets i xiquetes han d’anar acompanyats sempre d’un adult\, que també ha de reservar una entrada per a l’activitat // L’entrada al taller no és vàlida per visitar l’exposició “Els mons d’Alicia” \nMés informació i venda d’entrades: Web CaixaFòrum
URL:https://familiespelvalencia.org/activitat/taller-espectacle-els-mons-dalicia/2026-05-10/
LOCATION:Caixa Forum\, Ciutat de les Arts i les Ciències\, C/ Eduardo Primo Yúfera\, 1A\, València\, 46013
CATEGORIES:València - districte capital
ATTACH;FMTTYPE=image/webp:https://familiespelvalencia.org/wp-content/uploads/2026/02/Els-mons-dAlicia.webp
GEO:39.4538716;-0.3498098
X-APPLE-STRUCTURED-LOCATION;VALUE=URI;X-ADDRESS=Caixa Forum Ciutat de les Arts i les Ciències C/ Eduardo Primo Yúfera 1A València 46013;X-APPLE-RADIUS=500;X-TITLE=Ciutat de les Arts i les Ciències\, C/ Eduardo Primo Yúfera\, 1A:geo:-0.3498098,39.4538716
END:VEVENT
BEGIN:VEVENT
DTSTART;TZID=Europe/Paris:20260510T120000
DTEND;TZID=Europe/Paris:20260510T124500
DTSTAMP:20260424T050721
CREATED:20260325T210403Z
LAST-MODIFIED:20260325T211023Z
UID:10001114-1778414400-1778417100@familiespelvalencia.org
SUMMARY:Teatre. La mama dels arbres
DESCRIPTION:La mama dels arbres és la història d’una dona\, Wangari Maathai\, que va decidir empoderar-se i fer front a l’egoisme dels poderosos replantant d’arbres la seua terra\, Kenya\, que estava sent desforestada. Una determinació colossal que la va dur a plantar 30 milions d’arbres! Coratge\, intel·ligència\, i amor\, en un espectacle de profunds valors ecologistes\, pacifistes i espirituals. \nLa mama dels arbres es centra en valors com la consciència ecològica\, la pau i l’empoderament personal i col·lectiu. A través de la figura inspiradora de Wangari Maathai\, l’espectacle mostra com l’acció decidida pot transformar una realitat marcada per la destrucció i la injustícia. Plantar arbres esdevé un acte de resistència i esperança que convida a estimar la natura\, actuar amb coratge i persistir malgrat les adversitats. Una proposta que inspira resiliència\, responsabilitat i compromís amb un món més just i sostenible. \nTeatre | Arts Plàstiques | Titelles | Proximitat \nPrimera infància de 2 a 5 anys | Teatre de proximitat: el públic s’ubicarà dalt de l’escenari
URL:https://familiespelvalencia.org/activitat/teatre-la-mama-dels-arbres/2026-05-10/2/
LOCATION:Sala L’Horta\, Carrer Sant Martí de Porres\, 17 (Poblats del Sud)\, Castellar-L'Oliveral.- València\, L'Horta\, 46026
CATEGORIES:València - districte capital
ATTACH;FMTTYPE=image/jpeg:https://familiespelvalencia.org/wp-content/uploads/2026/03/La-mama-dels-arbres-1.jpg
GEO:39.4247911;-0.3653518
X-APPLE-STRUCTURED-LOCATION;VALUE=URI;X-ADDRESS=Sala L’Horta Carrer Sant Martí de Porres 17 (Poblats del Sud) Castellar-L'Oliveral.- València L'Horta 46026;X-APPLE-RADIUS=500;X-TITLE=Carrer Sant Martí de Porres\, 17 (Poblats del Sud):geo:-0.3653518,39.4247911
END:VEVENT
BEGIN:VEVENT
DTSTART;TZID=Europe/Paris:20260510T123000
DTEND;TZID=Europe/Paris:20260510T132500
DTSTAMP:20260424T050721
CREATED:20260202T214745Z
LAST-MODIFIED:20260202T214745Z
UID:10000904-1778416200-1778419500@familiespelvalencia.org
SUMMARY:Teatre.- El pati
DESCRIPTION:Al pati de l’escola passen totes les coses alhora. Quin desgavell! Al pati de l’escola passen les mateixes coses cada dia: córrer\, jugar\, esmorzar\, cridar\, ballar\, xarrar… Hui ha passat alguna cosa inesperada. Què ha passat al pati? Qui ho ha vist? Qui ho ha sentit? Qui en sap alguna cosa? Amb qui ha sigut? Investigar\, contrastar versions i descobrir la veritat en les històries extraordinàries i quotidianes que passen al pati. Aprenent a identificar mentides\, mitges veritats i faules. \nEdat: de 10 a 12 anys // Durada: 55 minuts \nCompanyia: Pérez&Disla // Direcció: Jaume Pérez Roldán // Autoria: Juli Disla \nMés informació i venda d’entrades: Escalante \n 
URL:https://familiespelvalencia.org/activitat/teatre-el-pati/2026-05-10/2/
LOCATION:Ribes Espai Cultural\, Carrer de les Filipines\, 2 (Barri de Russafa)\, València\, L'Horta\, 46004
CATEGORIES:València - districte capital
ATTACH;FMTTYPE=image/jpeg:https://familiespelvalencia.org/wp-content/uploads/2026/02/El-pati.jpg
GEO:39.4582381;-0.3772651
X-APPLE-STRUCTURED-LOCATION;VALUE=URI;X-ADDRESS=Ribes Espai Cultural Carrer de les Filipines 2 (Barri de Russafa) València L'Horta 46004;X-APPLE-RADIUS=500;X-TITLE=Carrer de les Filipines\, 2 (Barri de Russafa):geo:-0.3772651,39.4582381
END:VEVENT
BEGIN:VEVENT
DTSTART;TZID=Europe/Paris:20260510T173000
DTEND;TZID=Europe/Paris:20260510T190000
DTSTAMP:20260424T050721
CREATED:20260202T142009Z
LAST-MODIFIED:20260202T142009Z
UID:10000836-1778434200-1778439600@familiespelvalencia.org
SUMMARY:Visita taller familiar: Buscant l’Alícia
DESCRIPTION:En aquesta visita taller ens trucarà Lewis Carrol per telèfon\, beurem d’un beuratge\, ens farem grans i petits\, caminarem del revés o sobre el sostre\, celebrarem el nostre no aniversari i ens convertirem en un gat invisible. No us ho creieu? Tot això i moltes coses més passen al país de les meravelles\, on ens endinsarem seguint els passos de l’Alícia. Plegats descobrirem el relat i els personatges d’aquest clàssic de la literatura universal per endinsar-nos en un món de creativitat i imaginació i\, mitjançant diverses dinàmiques i materials diferents\, ens familiaritzarem amb diferents creacions contemporànies inspirades en aquesta història. \nDurada: 1 hora i 30 minuts // Activitat recomanada per a infants a partir de 5 anys. // Activitat conceptualitzada i dissenyada per la mediadora artística Teresa Rubio. \nEls xiquets i xiquetes han d’anar acompanyats sempre d’un adult\, que també ha de reservar una entrada per a l’activitat \nMés informació i venda d’entrades: Web CaixaFòrum
URL:https://familiespelvalencia.org/activitat/visita-taller-familiar-buscant-lalicia/2026-05-10/
LOCATION:Caixa Forum\, Ciutat de les Arts i les Ciències\, C/ Eduardo Primo Yúfera\, 1A\, València\, 46013
CATEGORIES:València - districte capital
ATTACH;FMTTYPE=image/webp:https://familiespelvalencia.org/wp-content/uploads/2026/02/Els-mons-dAlicia.-Somiar-el-pais-de-les-meravelles.webp
GEO:39.4538716;-0.3498098
X-APPLE-STRUCTURED-LOCATION;VALUE=URI;X-ADDRESS=Caixa Forum Ciutat de les Arts i les Ciències C/ Eduardo Primo Yúfera 1A València 46013;X-APPLE-RADIUS=500;X-TITLE=Ciutat de les Arts i les Ciències\, C/ Eduardo Primo Yúfera\, 1A:geo:-0.3498098,39.4538716
END:VEVENT
END:VCALENDAR