BEGIN:VCALENDAR
VERSION:2.0
PRODID:-//FAMÍLIES PEL VALENCIÀ - ECPv6.15.20//NONSGML v1.0//EN
CALSCALE:GREGORIAN
METHOD:PUBLISH
X-ORIGINAL-URL:https://familiespelvalencia.org
X-WR-CALDESC:Esdeveniments per FAMÍLIES PEL VALENCIÀ
REFRESH-INTERVAL;VALUE=DURATION:PT1H
X-Robots-Tag:noindex
X-PUBLISHED-TTL:PT1H
BEGIN:VTIMEZONE
TZID:Europe/Paris
BEGIN:DAYLIGHT
TZOFFSETFROM:+0100
TZOFFSETTO:+0200
TZNAME:CEST
DTSTART:20250330T010000
END:DAYLIGHT
BEGIN:STANDARD
TZOFFSETFROM:+0200
TZOFFSETTO:+0100
TZNAME:CET
DTSTART:20251026T010000
END:STANDARD
BEGIN:DAYLIGHT
TZOFFSETFROM:+0100
TZOFFSETTO:+0200
TZNAME:CEST
DTSTART:20260329T010000
END:DAYLIGHT
BEGIN:STANDARD
TZOFFSETFROM:+0200
TZOFFSETTO:+0100
TZNAME:CET
DTSTART:20261025T010000
END:STANDARD
BEGIN:DAYLIGHT
TZOFFSETFROM:+0100
TZOFFSETTO:+0200
TZNAME:CEST
DTSTART:20270328T010000
END:DAYLIGHT
BEGIN:STANDARD
TZOFFSETFROM:+0200
TZOFFSETTO:+0100
TZNAME:CET
DTSTART:20271031T010000
END:STANDARD
END:VTIMEZONE
BEGIN:VEVENT
DTSTART;TZID=Europe/Paris:20260415T180000
DTEND;TZID=Europe/Paris:20260415T190000
DTSTAMP:20260424T044619
CREATED:20260407T104736Z
LAST-MODIFIED:20260407T104736Z
UID:10001203-1776276000-1776279600@familiespelvalencia.org
SUMMARY:Contacontes. Allò que ens uneix
DESCRIPTION:A càrrec de Elisa M. Matallín \nAquesta activitat requereix d’inscripció prèvia
URL:https://familiespelvalencia.org/activitat/contacontes-allo-que-ens-uneix/
LOCATION:Biblioteca de Torrefiel.- Isabel de Villena\, Carrer de Domènec Gómez\, 35\, València\, L'Horta\, 46025
CATEGORIES:València - districte capital
ATTACH;FMTTYPE=image/jpeg:https://familiespelvalencia.org/wp-content/uploads/2026/04/Allo-que-ens-uneix.jpg
GEO:39.4923611;-0.3820057
X-APPLE-STRUCTURED-LOCATION;VALUE=URI;X-ADDRESS=Biblioteca de Torrefiel.- Isabel de Villena Carrer de Domènec Gómez 35 València L'Horta 46025;X-APPLE-RADIUS=500;X-TITLE=Carrer de Domènec Gómez\, 35:geo:-0.3820057,39.4923611
END:VEVENT
BEGIN:VEVENT
DTSTART;TZID=Europe/Paris:20260417T190000
DTEND;TZID=Europe/Paris:20260419T123000
DTSTAMP:20260424T044619
CREATED:20260417T172119Z
LAST-MODIFIED:20260417T172119Z
UID:10001229-1776452400-1776601800@familiespelvalencia.org
SUMMARY:12 Hores de Glosa
DESCRIPTION:
URL:https://familiespelvalencia.org/activitat/12-hores-de-glosa/
LOCATION:Centre Social Terra\, C/Baró de Sant Petrillo\, 9\, València\, L'Horta\, 46020
CATEGORIES:València - districte capital
ATTACH;FMTTYPE=image/jpeg:https://familiespelvalencia.org/wp-content/uploads/2026/04/12-hores-de-glosa.jpg
GEO:39.4852742;-0.3605384
X-APPLE-STRUCTURED-LOCATION;VALUE=URI;X-ADDRESS=Centre Social Terra C/Baró de Sant Petrillo 9 València L'Horta 46020;X-APPLE-RADIUS=500;X-TITLE=C/Baró de Sant Petrillo\, 9:geo:-0.3605384,39.4852742
END:VEVENT
BEGIN:VEVENT
DTSTART;TZID=Europe/Paris:20260417T210000
DTEND;TZID=Europe/Paris:20260417T233000
DTSTAMP:20260424T044619
CREATED:20260310T215415Z
LAST-MODIFIED:20260310T220304Z
UID:10001046-1776459600-1776468600@familiespelvalencia.org
SUMMARY:Concert. Quinto + Kuu
DESCRIPTION:Quinto i Kuu arriben al Loco Club amb una proposta potent que combina actitud\, energia i un directe intens. Una nit per deixar-se portar per sons contundents i lletres amb caràcter\, en un espai emblemàtic de la música en viu a València. \nPúblic jove i públic en general \nEls menors de 16 anys han d’anar acompanyats d’una persona adulta i omplir l’autorització de menors disponible a www.lococlub.es o a taquilla.
URL:https://familiespelvalencia.org/activitat/concert-quinto-kuu/
LOCATION:Loco Club\, C/ Erudit Orellana número 12\, València\, L'Horta\, 46008
CATEGORIES:València - districte capital
ATTACH;FMTTYPE=image/jpeg:https://familiespelvalencia.org/wp-content/uploads/2026/03/Kuu.jpg
GEO:39.471232;-0.3870548
X-APPLE-STRUCTURED-LOCATION;VALUE=URI;X-ADDRESS=Loco Club C/ Erudit Orellana número 12 València L'Horta 46008;X-APPLE-RADIUS=500;X-TITLE=C/ Erudit Orellana número 12:geo:-0.3870548,39.471232
END:VEVENT
BEGIN:VEVENT
DTSTART;TZID=Europe/Paris:20260419T113000
DTEND;TZID=Europe/Paris:20260419T123000
DTSTAMP:20260424T044619
CREATED:20260129T205808Z
LAST-MODIFIED:20260129T205808Z
UID:10000780-1776598200-1776601800@familiespelvalencia.org
SUMMARY:Calaix de sons. Taller per descobrir el món del so
DESCRIPTION:Si tanques els ulls i pares atenció\, descobriràs una pila de coses que pots identificar només pel so. Però saps què és el so i com s’ho fa per arribar fins a les teves orelles? Acompanya’ns i\, experimentant amb eines i materials molt coneguts\, descobriràs que tot comença amb una petita vibració i també com n’és\, de fascinant\, el món que s’amaga rere el “calaix” de sons. \nActivitat recomanada a partir de 5 anys. \nImportant: Els xiquets i les xiquetes han d’anar acompanyats sempre d’un adult\, que també haurà de reservar una entrada per a l’activitat. \nMés informació i venda d’entrades: web de caixaforum
URL:https://familiespelvalencia.org/activitat/calaix-de-sons-taller-per-descobrir-el-mon-del-so/2026-04-19/
LOCATION:Caixa Forum\, Ciutat de les Arts i les Ciències\, C/ Eduardo Primo Yúfera\, 1A\, València\, 46013
CATEGORIES:València - districte capital
ATTACH;FMTTYPE=image/webp:https://familiespelvalencia.org/wp-content/uploads/2026/01/calaix-de-sons.webp
GEO:39.4538716;-0.3498098
X-APPLE-STRUCTURED-LOCATION;VALUE=URI;X-ADDRESS=Caixa Forum Ciutat de les Arts i les Ciències C/ Eduardo Primo Yúfera 1A València 46013;X-APPLE-RADIUS=500;X-TITLE=Ciutat de les Arts i les Ciències\, C/ Eduardo Primo Yúfera\, 1A:geo:-0.3498098,39.4538716
END:VEVENT
BEGIN:VEVENT
DTSTART;TZID=Europe/Paris:20260419T113000
DTEND;TZID=Europe/Paris:20260419T123000
DTSTAMP:20260424T044619
CREATED:20260202T210419Z
LAST-MODIFIED:20260202T210419Z
UID:10000880-1776598200-1776601800@familiespelvalencia.org
SUMMARY:Visita en família: Petits músics a la recerca de les matemàtiques
DESCRIPTION:I si la música i les matemàtiques són més semblants del que sembla? I si són tan i tan semblants que per inventar-nos una melodia hem de parlar d’ones sonores\, de proporcions i de càlculs? En aquesta visita dinamitzada\, les matemàtiques ens ajudaran a entendre\, crear i compondre música. Ho farem amb el guiatge d’una persona educadora\, tot experimentant amb els interactius de l’exposició i a partir d’un joc de construcció sonora. Cantar i sumar\, tocar i multiplicar\, compondre i calcular… T’hi atreveixes? \nPetits músics a la recerca de les matemàtiques\, a partir de 4 anys. \nMés informació i venda d’entrades: Web Caixa Fòrum \nEls xiquets i xiquetes han d’anar acompanyats sempre d’un adult\, que també ha de reservar una entrada per a l’activitat.
URL:https://familiespelvalencia.org/activitat/visita-en-familia-petits-musics-a-la-recerca-de-les-matematiques/2026-04-19/
LOCATION:Caixa Forum\, Ciutat de les Arts i les Ciències\, C/ Eduardo Primo Yúfera\, 1A\, València\, 46013
CATEGORIES:València - districte capital
ATTACH;FMTTYPE=image/webp:https://familiespelvalencia.org/wp-content/uploads/2026/02/petits-musics-a-la-recerca-de-les-matematiques.webp
GEO:39.4538716;-0.3498098
X-APPLE-STRUCTURED-LOCATION;VALUE=URI;X-ADDRESS=Caixa Forum Ciutat de les Arts i les Ciències C/ Eduardo Primo Yúfera 1A València 46013;X-APPLE-RADIUS=500;X-TITLE=Ciutat de les Arts i les Ciències\, C/ Eduardo Primo Yúfera\, 1A:geo:-0.3498098,39.4538716
END:VEVENT
BEGIN:VEVENT
DTSTART;TZID=Europe/Paris:20260419T120000
DTEND;TZID=Europe/Paris:20260419T130000
DTSTAMP:20260424T044619
CREATED:20260129T221436Z
LAST-MODIFIED:20260129T221436Z
UID:10000824-1776600000-1776603600@familiespelvalencia.org
SUMMARY:Espectacle: Estació Paradís
DESCRIPTION:Després de l’èxit de Parade\, la companyia La Maquiné ens presenta el seu projecte més intimista en el que ens parla del pas del temps. Un espectacle amb titelles que ens porta a conèixer històries del passat i del present\, i que ens mostra com aconseguir diferents objectius. \nEspectacle recomanat a partir de 6 anys. // Música en directe a càrrec del pianista: Daniel Tarrida Sugrañes. \nImportant: Els xiquets i les xiquetes han d’anar acompanyats\, com a mínim\, per una persona adulta. Totes les persones assistents a l’activitat han de reservar entrada. \nMés informació i venda d’entrades: Web Caixa Fòrum
URL:https://familiespelvalencia.org/activitat/espectacle-estacio-paradis/
LOCATION:Caixa Forum\, Ciutat de les Arts i les Ciències\, C/ Eduardo Primo Yúfera\, 1A\, València\, 46013
CATEGORIES:València - districte capital
ATTACH;FMTTYPE=image/jpeg:https://familiespelvalencia.org/wp-content/uploads/2026/01/Estacio-Paradia.jpg
GEO:39.4538716;-0.3498098
X-APPLE-STRUCTURED-LOCATION;VALUE=URI;X-ADDRESS=Caixa Forum Ciutat de les Arts i les Ciències C/ Eduardo Primo Yúfera 1A València 46013;X-APPLE-RADIUS=500;X-TITLE=Ciutat de les Arts i les Ciències\, C/ Eduardo Primo Yúfera\, 1A:geo:-0.3498098,39.4538716
END:VEVENT
BEGIN:VEVENT
DTSTART;TZID=Europe/Paris:20260419T120000
DTEND;TZID=Europe/Paris:20260419T130000
DTSTAMP:20260424T044619
CREATED:20260309T220543Z
LAST-MODIFIED:20260309T220602Z
UID:10001042-1776600000-1776603600@familiespelvalencia.org
SUMMARY:Teatre. La rateta marieta
DESCRIPTION:Marieta va nàixer en un full\, i d’un full en sorgirà per omplir l’escenari de màgia\, històries i aventures. La rata Marieta parteix del desig de donar vida escènica a un personatge que ha acompanyat diverses generacions d’infants valencians. El seu esperit continua plenament vigent: curiositat\, imaginació\, llibertat\, moviment\, color i alegria. Quantes aventures poden cabre en un full? Quants somnis pot contenir un sol traç? Quantes històries amaguen les pàgines d’un llibre? Portar aquest univers literari al llenguatge escènic —teatre i dansa— és donar cos i veu a un personatge inquiet\, creatiu i ple d’energia\, acostant-lo a noves generacions a través de l’art viu. Un espectacle que combina teatre\, dansa i poesia visual\, i que ret homenatge a les seues creadores: dues dones que van transformar la manera de contar i de mirar el món infantil. En un temps en què l’educació artística i la lectura necessiten noves formes de connexió\, Marieta representa una oportunitat única per unir: literatura i moviment\, paraula i imatge i creació femenina i valors educatius universals. \nMés informació i venda d’entrades: Sala l’Horta \nTeatre | Dansa | Poesia Visual // Públic familiar a partir de 3 anys \nPremi Nacional de les Arts Escèniques per a la Infància i la Joventut 2023 \n 
URL:https://familiespelvalencia.org/activitat/teatre-la-rateta-marieta-2/
LOCATION:Sala L’Horta\, Carrer Sant Martí de Porres\, 17 (Poblats del Sud)\, Castellar-L'Oliveral.- València\, L'Horta\, 46026
CATEGORIES:València - districte capital
ATTACH;FMTTYPE=image/webp:https://familiespelvalencia.org/wp-content/uploads/2026/03/la-rateta-marieta-lhorta.webp
GEO:39.4247911;-0.3653518
X-APPLE-STRUCTURED-LOCATION;VALUE=URI;X-ADDRESS=Sala L’Horta Carrer Sant Martí de Porres 17 (Poblats del Sud) Castellar-L'Oliveral.- València L'Horta 46026;X-APPLE-RADIUS=500;X-TITLE=Carrer Sant Martí de Porres\, 17 (Poblats del Sud):geo:-0.3653518,39.4247911
END:VEVENT
END:VCALENDAR