BEGIN:VCALENDAR
VERSION:2.0
PRODID:-//FAMÍLIES PEL VALENCIÀ - ECPv6.15.20//NONSGML v1.0//EN
CALSCALE:GREGORIAN
METHOD:PUBLISH
X-ORIGINAL-URL:https://familiespelvalencia.org
X-WR-CALDESC:Esdeveniments per FAMÍLIES PEL VALENCIÀ
REFRESH-INTERVAL;VALUE=DURATION:PT1H
X-Robots-Tag:noindex
X-PUBLISHED-TTL:PT1H
BEGIN:VTIMEZONE
TZID:Europe/Paris
BEGIN:DAYLIGHT
TZOFFSETFROM:+0100
TZOFFSETTO:+0200
TZNAME:CEST
DTSTART:20250330T010000
END:DAYLIGHT
BEGIN:STANDARD
TZOFFSETFROM:+0200
TZOFFSETTO:+0100
TZNAME:CET
DTSTART:20251026T010000
END:STANDARD
BEGIN:DAYLIGHT
TZOFFSETFROM:+0100
TZOFFSETTO:+0200
TZNAME:CEST
DTSTART:20260329T010000
END:DAYLIGHT
BEGIN:STANDARD
TZOFFSETFROM:+0200
TZOFFSETTO:+0100
TZNAME:CET
DTSTART:20261025T010000
END:STANDARD
BEGIN:DAYLIGHT
TZOFFSETFROM:+0100
TZOFFSETTO:+0200
TZNAME:CEST
DTSTART:20270328T010000
END:DAYLIGHT
BEGIN:STANDARD
TZOFFSETFROM:+0200
TZOFFSETTO:+0100
TZNAME:CET
DTSTART:20271031T010000
END:STANDARD
END:VTIMEZONE
BEGIN:VEVENT
DTSTART;TZID=Europe/Paris:20260109T180000
DTEND;TZID=Europe/Paris:20260109T190000
DTSTAMP:20260424T054137
CREATED:20251129T100311Z
LAST-MODIFIED:20251129T205216Z
UID:10000502-1767981600-1767985200@familiespelvalencia.org
SUMMARY:Abocador
DESCRIPTION:A l’alba\, un camió de l’arreplega del fem llança la càrrega en l’abocador de la ciutat. Entre les escombraries nouvingudes es troben una botella de vidre\, presumida i malhumorada pel tracte rebut\, i un periòdic molt educat i intel·ligent. Després de la sorpresa inicial i d’haver fet amistat amb altres habitants\, un pal de fregar valent i una tomaca podrida\, tímida i espantadissa\, començaran a sospitar que aquell lloc pudent i abarrotat\, no s’assembla gens a la planta de reciclatge on els havien dit que podrien tindre una segona i fins a una tercera o quarta vida. \nL’aparició d’un grup de residus tòxics complica una trama en la qual també es veurà involucrat Olmo\, un jove que ha anat a l’abocador amb l’esperança de trobar una caçadora que el seu germà ha tirat al fem. \nAbocador és un espectacle dirigit a públic infantil\, juvenil i familiar amb el qual s’aconseguix d’una manera amena i divertida\, reforçar la consciència ecològica i\, en particular\, la necessitat imperiosa d’una participació en el procés de reducció\, reutilització i reciclatge dels residus.
URL:https://familiespelvalencia.org/activitat/abocador/2026-01-09/
LOCATION:Ribes Espai Cultural\, Carrer de les Filipines\, 2 (Barri de Russafa)\, València\, L'Horta\, 46004
CATEGORIES:València - districte capital
ATTACH;FMTTYPE=image/jpeg:https://familiespelvalencia.org/wp-content/uploads/2025/11/abocador.jpg
GEO:39.4582381;-0.3772651
X-APPLE-STRUCTURED-LOCATION;VALUE=URI;X-ADDRESS=Ribes Espai Cultural Carrer de les Filipines 2 (Barri de Russafa) València L'Horta 46004;X-APPLE-RADIUS=500;X-TITLE=Carrer de les Filipines\, 2 (Barri de Russafa):geo:-0.3772651,39.4582381
END:VEVENT
BEGIN:VEVENT
DTSTART;TZID=Europe/Paris:20260110T173000
DTEND;TZID=Europe/Paris:20260111T183000
DTSTAMP:20260424T054137
CREATED:20251129T100311Z
LAST-MODIFIED:20251129T205216Z
UID:10000503-1768066200-1768156200@familiespelvalencia.org
SUMMARY:Abocador
DESCRIPTION:A l’alba\, un camió de l’arreplega del fem llança la càrrega en l’abocador de la ciutat. Entre les escombraries nouvingudes es troben una botella de vidre\, presumida i malhumorada pel tracte rebut\, i un periòdic molt educat i intel·ligent. Després de la sorpresa inicial i d’haver fet amistat amb altres habitants\, un pal de fregar valent i una tomaca podrida\, tímida i espantadissa\, començaran a sospitar que aquell lloc pudent i abarrotat\, no s’assembla gens a la planta de reciclatge on els havien dit que podrien tindre una segona i fins a una tercera o quarta vida. \nL’aparició d’un grup de residus tòxics complica una trama en la qual també es veurà involucrat Olmo\, un jove que ha anat a l’abocador amb l’esperança de trobar una caçadora que el seu germà ha tirat al fem. \nAbocador és un espectacle dirigit a públic infantil\, juvenil i familiar amb el qual s’aconseguix d’una manera amena i divertida\, reforçar la consciència ecològica i\, en particular\, la necessitat imperiosa d’una participació en el procés de reducció\, reutilització i reciclatge dels residus.
URL:https://familiespelvalencia.org/activitat/abocador/2026-01-10/
LOCATION:Ribes Espai Cultural\, Carrer de les Filipines\, 2 (Barri de Russafa)\, València\, L'Horta\, 46004
CATEGORIES:València - districte capital
ATTACH;FMTTYPE=image/jpeg:https://familiespelvalencia.org/wp-content/uploads/2025/11/abocador.jpg
GEO:39.4582381;-0.3772651
X-APPLE-STRUCTURED-LOCATION;VALUE=URI;X-ADDRESS=Ribes Espai Cultural Carrer de les Filipines 2 (Barri de Russafa) València L'Horta 46004;X-APPLE-RADIUS=500;X-TITLE=Carrer de les Filipines\, 2 (Barri de Russafa):geo:-0.3772651,39.4582381
END:VEVENT
BEGIN:VEVENT
DTSTART;TZID=Europe/Paris:20260111T113000
DTEND;TZID=Europe/Paris:20260111T123000
DTSTAMP:20260424T054137
CREATED:20251129T100311Z
LAST-MODIFIED:20251129T205216Z
UID:10000504-1768131000-1768134600@familiespelvalencia.org
SUMMARY:Abocador
DESCRIPTION:A l’alba\, un camió de l’arreplega del fem llança la càrrega en l’abocador de la ciutat. Entre les escombraries nouvingudes es troben una botella de vidre\, presumida i malhumorada pel tracte rebut\, i un periòdic molt educat i intel·ligent. Després de la sorpresa inicial i d’haver fet amistat amb altres habitants\, un pal de fregar valent i una tomaca podrida\, tímida i espantadissa\, començaran a sospitar que aquell lloc pudent i abarrotat\, no s’assembla gens a la planta de reciclatge on els havien dit que podrien tindre una segona i fins a una tercera o quarta vida. \nL’aparició d’un grup de residus tòxics complica una trama en la qual també es veurà involucrat Olmo\, un jove que ha anat a l’abocador amb l’esperança de trobar una caçadora que el seu germà ha tirat al fem. \nAbocador és un espectacle dirigit a públic infantil\, juvenil i familiar amb el qual s’aconseguix d’una manera amena i divertida\, reforçar la consciència ecològica i\, en particular\, la necessitat imperiosa d’una participació en el procés de reducció\, reutilització i reciclatge dels residus.
URL:https://familiespelvalencia.org/activitat/abocador/2026-01-11/
LOCATION:Ribes Espai Cultural\, Carrer de les Filipines\, 2 (Barri de Russafa)\, València\, L'Horta\, 46004
CATEGORIES:València - districte capital
ATTACH;FMTTYPE=image/jpeg:https://familiespelvalencia.org/wp-content/uploads/2025/11/abocador.jpg
GEO:39.4582381;-0.3772651
X-APPLE-STRUCTURED-LOCATION;VALUE=URI;X-ADDRESS=Ribes Espai Cultural Carrer de les Filipines 2 (Barri de Russafa) València L'Horta 46004;X-APPLE-RADIUS=500;X-TITLE=Carrer de les Filipines\, 2 (Barri de Russafa):geo:-0.3772651,39.4582381
END:VEVENT
BEGIN:VEVENT
DTSTART;TZID=Europe/Paris:20260111T120000
DTEND;TZID=Europe/Paris:20260111T130000
DTSTAMP:20260424T054137
CREATED:20260109T154733Z
LAST-MODIFIED:20260109T154933Z
UID:10000698-1768132800-1768136400@familiespelvalencia.org
SUMMARY:Teatre. Dadà.
DESCRIPTION:Dadà proposa als més xicotets un joc que sorprén amb les formes\, els colors\, les paraules\, la música i el mim. Una experiència teatral que obri els sentits per descobrir que la realitat és canviant i es pot veure i interpretar de moltes formes diferents i complementàries. Una vivència activa i sensorial per aprendre sobre els beneficis que aporta l’art i la creativitat en el creixement i l’aprenentatge. \nInspirat en l’obra i la personalitat dels artistes Joan Miró\, Yayoi Kusama i Jeff Koons\, és un muntatge ideat per a divertir-se i aprendre amb una dramatúrgia inspirada en els processos creatius contemporanis on el més important és la connexió interior i la identificació total de l’artista amb la seua obra. L’art ens obri la ment\, ens transforma i ens connecta amb el món. \nRecomanada per a públic de 3 a 7 anys \nMés informació i compra d’entrades: Sala l’Horta
URL:https://familiespelvalencia.org/activitat/teatre-dada/
LOCATION:Sala L’Horta\, Carrer Sant Martí de Porres\, 17 (Poblats del Sud)\, Castellar-L'Oliveral.- València\, L'Horta\, 46026
CATEGORIES:València - districte capital
ATTACH;FMTTYPE=image/webp:https://familiespelvalencia.org/wp-content/uploads/2026/01/Dada.webp
GEO:39.4247911;-0.3653518
X-APPLE-STRUCTURED-LOCATION;VALUE=URI;X-ADDRESS=Sala L’Horta Carrer Sant Martí de Porres 17 (Poblats del Sud) Castellar-L'Oliveral.- València L'Horta 46026;X-APPLE-RADIUS=500;X-TITLE=Carrer Sant Martí de Porres\, 17 (Poblats del Sud):geo:-0.3653518,39.4247911
END:VEVENT
END:VCALENDAR