BEGIN:VCALENDAR
VERSION:2.0
PRODID:-//FAMÍLIES PEL VALENCIÀ - ECPv6.15.20//NONSGML v1.0//EN
CALSCALE:GREGORIAN
METHOD:PUBLISH
X-ORIGINAL-URL:https://familiespelvalencia.org
X-WR-CALDESC:Esdeveniments per FAMÍLIES PEL VALENCIÀ
REFRESH-INTERVAL;VALUE=DURATION:PT1H
X-Robots-Tag:noindex
X-PUBLISHED-TTL:PT1H
BEGIN:VTIMEZONE
TZID:Europe/Paris
BEGIN:DAYLIGHT
TZOFFSETFROM:+0100
TZOFFSETTO:+0200
TZNAME:CEST
DTSTART:20250330T010000
END:DAYLIGHT
BEGIN:STANDARD
TZOFFSETFROM:+0200
TZOFFSETTO:+0100
TZNAME:CET
DTSTART:20251026T010000
END:STANDARD
BEGIN:DAYLIGHT
TZOFFSETFROM:+0100
TZOFFSETTO:+0200
TZNAME:CEST
DTSTART:20260329T010000
END:DAYLIGHT
BEGIN:STANDARD
TZOFFSETFROM:+0200
TZOFFSETTO:+0100
TZNAME:CET
DTSTART:20261025T010000
END:STANDARD
BEGIN:DAYLIGHT
TZOFFSETFROM:+0100
TZOFFSETTO:+0200
TZNAME:CEST
DTSTART:20270328T010000
END:DAYLIGHT
BEGIN:STANDARD
TZOFFSETFROM:+0200
TZOFFSETTO:+0100
TZNAME:CET
DTSTART:20271031T010000
END:STANDARD
END:VTIMEZONE
BEGIN:VEVENT
DTSTART;TZID=Europe/Paris:20260607T113000
DTEND;TZID=Europe/Paris:20260607T123000
DTSTAMP:20260424T050705
CREATED:20260202T204425Z
LAST-MODIFIED:20260202T204425Z
UID:10000868-1780831800-1780835400@familiespelvalencia.org
SUMMARY:Taller.- Veus i ritmes del món.
DESCRIPTION:La música tradicional es caracteritza per la senzillesa melòdica\, per l’ús de la pregunta i la resposta\, per una harmonització homofònica de les veus\, per l’ús d’ostinato i per la utilització de la percussió. Aquests trets són perfectes per introduir els assistents al cant i\, sobretot\, al cant a veus. En paral·lel\, explorarem la percussió corporal i\, amb això\, conceptes com la rítmica\, la coordinació\, la lateralitat\, l’atenció o la capacitat de treballar en grup. En aquest taller\, muntarem un petit repertori de música folklòrica amb origen en diversos indrets del món: combinarem moviments\, cançons a veus i percussió corporal. \nActivitat recomanada per a famílies amb infants a partir de 6 anys. // Durada: 1 hora \nMés informació i venda d’entrades: Web Caixa Fòrum \nEls xiquets i xiquets han d’anar acompanyats sempre d’un adult\, que també ha de reservar una entrada per a l’activitat
URL:https://familiespelvalencia.org/activitat/taller-veus-i-ritmes-del-mon/2026-06-07/
LOCATION:Caixa Forum\, Ciutat de les Arts i les Ciències\, C/ Eduardo Primo Yúfera\, 1A\, València\, 46013
CATEGORIES:València - districte capital
ATTACH;FMTTYPE=image/jpeg:https://familiespelvalencia.org/wp-content/uploads/2026/02/Veus-i-ritmes-del-mon.jpeg
GEO:39.4538716;-0.3498098
X-APPLE-STRUCTURED-LOCATION;VALUE=URI;X-ADDRESS=Caixa Forum Ciutat de les Arts i les Ciències C/ Eduardo Primo Yúfera 1A València 46013;X-APPLE-RADIUS=500;X-TITLE=Ciutat de les Arts i les Ciències\, C/ Eduardo Primo Yúfera\, 1A:geo:-0.3498098,39.4538716
END:VEVENT
BEGIN:VEVENT
DTSTART;TZID=Europe/Paris:20260607T113000
DTEND;TZID=Europe/Paris:20260607T123000
DTSTAMP:20260424T050705
CREATED:20260202T210419Z
LAST-MODIFIED:20260202T210419Z
UID:10000887-1780831800-1780835400@familiespelvalencia.org
SUMMARY:Visita en família: Petits músics a la recerca de les matemàtiques
DESCRIPTION:I si la música i les matemàtiques són més semblants del que sembla? I si són tan i tan semblants que per inventar-nos una melodia hem de parlar d’ones sonores\, de proporcions i de càlculs? En aquesta visita dinamitzada\, les matemàtiques ens ajudaran a entendre\, crear i compondre música. Ho farem amb el guiatge d’una persona educadora\, tot experimentant amb els interactius de l’exposició i a partir d’un joc de construcció sonora. Cantar i sumar\, tocar i multiplicar\, compondre i calcular… T’hi atreveixes? \nPetits músics a la recerca de les matemàtiques\, a partir de 4 anys. \nMés informació i venda d’entrades: Web Caixa Fòrum \nEls xiquets i xiquetes han d’anar acompanyats sempre d’un adult\, que també ha de reservar una entrada per a l’activitat.
URL:https://familiespelvalencia.org/activitat/visita-en-familia-petits-musics-a-la-recerca-de-les-matematiques/2026-06-07/
LOCATION:Caixa Forum\, Ciutat de les Arts i les Ciències\, C/ Eduardo Primo Yúfera\, 1A\, València\, 46013
CATEGORIES:València - districte capital
ATTACH;FMTTYPE=image/webp:https://familiespelvalencia.org/wp-content/uploads/2026/02/petits-musics-a-la-recerca-de-les-matematiques.webp
GEO:39.4538716;-0.3498098
X-APPLE-STRUCTURED-LOCATION;VALUE=URI;X-ADDRESS=Caixa Forum Ciutat de les Arts i les Ciències C/ Eduardo Primo Yúfera 1A València 46013;X-APPLE-RADIUS=500;X-TITLE=Ciutat de les Arts i les Ciències\, C/ Eduardo Primo Yúfera\, 1A:geo:-0.3498098,39.4538716
END:VEVENT
BEGIN:VEVENT
DTSTART;TZID=Europe/Paris:20260607T173000
DTEND;TZID=Europe/Paris:20260607T190000
DTSTAMP:20260424T050705
CREATED:20260202T142009Z
LAST-MODIFIED:20260202T142009Z
UID:10000840-1780853400-1780858800@familiespelvalencia.org
SUMMARY:Visita taller familiar: Buscant l’Alícia
DESCRIPTION:En aquesta visita taller ens trucarà Lewis Carrol per telèfon\, beurem d’un beuratge\, ens farem grans i petits\, caminarem del revés o sobre el sostre\, celebrarem el nostre no aniversari i ens convertirem en un gat invisible. No us ho creieu? Tot això i moltes coses més passen al país de les meravelles\, on ens endinsarem seguint els passos de l’Alícia. Plegats descobrirem el relat i els personatges d’aquest clàssic de la literatura universal per endinsar-nos en un món de creativitat i imaginació i\, mitjançant diverses dinàmiques i materials diferents\, ens familiaritzarem amb diferents creacions contemporànies inspirades en aquesta història. \nDurada: 1 hora i 30 minuts // Activitat recomanada per a infants a partir de 5 anys. // Activitat conceptualitzada i dissenyada per la mediadora artística Teresa Rubio. \nEls xiquets i xiquetes han d’anar acompanyats sempre d’un adult\, que també ha de reservar una entrada per a l’activitat \nMés informació i venda d’entrades: Web CaixaFòrum
URL:https://familiespelvalencia.org/activitat/visita-taller-familiar-buscant-lalicia/2026-06-07/
LOCATION:Caixa Forum\, Ciutat de les Arts i les Ciències\, C/ Eduardo Primo Yúfera\, 1A\, València\, 46013
CATEGORIES:València - districte capital
ATTACH;FMTTYPE=image/webp:https://familiespelvalencia.org/wp-content/uploads/2026/02/Els-mons-dAlicia.-Somiar-el-pais-de-les-meravelles.webp
GEO:39.4538716;-0.3498098
X-APPLE-STRUCTURED-LOCATION;VALUE=URI;X-ADDRESS=Caixa Forum Ciutat de les Arts i les Ciències C/ Eduardo Primo Yúfera 1A València 46013;X-APPLE-RADIUS=500;X-TITLE=Ciutat de les Arts i les Ciències\, C/ Eduardo Primo Yúfera\, 1A:geo:-0.3498098,39.4538716
END:VEVENT
END:VCALENDAR