BEGIN:VCALENDAR
VERSION:2.0
PRODID:-//FAMÍLIES PEL VALENCIÀ - ECPv6.15.20//NONSGML v1.0//EN
CALSCALE:GREGORIAN
METHOD:PUBLISH
X-ORIGINAL-URL:https://familiespelvalencia.org
X-WR-CALDESC:Esdeveniments per FAMÍLIES PEL VALENCIÀ
REFRESH-INTERVAL;VALUE=DURATION:PT1H
X-Robots-Tag:noindex
X-PUBLISHED-TTL:PT1H
BEGIN:VTIMEZONE
TZID:Europe/Paris
BEGIN:DAYLIGHT
TZOFFSETFROM:+0100
TZOFFSETTO:+0200
TZNAME:CEST
DTSTART:20250330T010000
END:DAYLIGHT
BEGIN:STANDARD
TZOFFSETFROM:+0200
TZOFFSETTO:+0100
TZNAME:CET
DTSTART:20251026T010000
END:STANDARD
BEGIN:DAYLIGHT
TZOFFSETFROM:+0100
TZOFFSETTO:+0200
TZNAME:CEST
DTSTART:20260329T010000
END:DAYLIGHT
BEGIN:STANDARD
TZOFFSETFROM:+0200
TZOFFSETTO:+0100
TZNAME:CET
DTSTART:20261025T010000
END:STANDARD
BEGIN:DAYLIGHT
TZOFFSETFROM:+0100
TZOFFSETTO:+0200
TZNAME:CEST
DTSTART:20270328T010000
END:DAYLIGHT
BEGIN:STANDARD
TZOFFSETFROM:+0200
TZOFFSETTO:+0100
TZNAME:CET
DTSTART:20271031T010000
END:STANDARD
END:VTIMEZONE
BEGIN:VEVENT
DTSTART;TZID=Europe/Paris:20260425T113000
DTEND;TZID=Europe/Paris:20260425T122000
DTSTAMP:20260424T042327
CREATED:20260202T213919Z
LAST-MODIFIED:20260202T213919Z
UID:10000901-1777116600-1777119600@familiespelvalencia.org
SUMMARY:Teatre.- La rateta Marieta
DESCRIPTION:Coneixeu Marieta? Marieta és una rateta molt curiosa i valenta. No para mai quieta. La rata Marieta va nàixer en un full i d’un full eixirà per a omplir l’escenari. Aquest personatge fa 35 anys que acompanya els i les primeres lectores; és el moment de retre-li un homenatge. Un espectacle a partir del personatge creat per Lourdes Bellver i Fina Masgrau que posa en valor la creació literària per a la infància. \nEdat: De 3 a 8 anys // Durada: 50 minuts aproximadament \nCompanyia: L’Horta Teatre; Direcció i autoria: Kika Garcelán \nMés informació i venda d’entrades: Escalante \n 
URL:https://familiespelvalencia.org/activitat/teatre-la-rateta-marieta/2026-04-25/
LOCATION:Ribes Espai Cultural\, Carrer de les Filipines\, 2 (Barri de Russafa)\, València\, L'Horta\, 46004
CATEGORIES:València - districte capital
ATTACH;FMTTYPE=image/jpeg:https://familiespelvalencia.org/wp-content/uploads/2026/02/La-rateta-marieta.jpg
GEO:39.4582381;-0.3772651
X-APPLE-STRUCTURED-LOCATION;VALUE=URI;X-ADDRESS=Ribes Espai Cultural Carrer de les Filipines 2 (Barri de Russafa) València L'Horta 46004;X-APPLE-RADIUS=500;X-TITLE=Carrer de les Filipines\, 2 (Barri de Russafa):geo:-0.3772651,39.4582381
END:VEVENT
BEGIN:VEVENT
DTSTART;TZID=Europe/Paris:20260425T120000
DTEND;TZID=Europe/Paris:20260425T130000
DTSTAMP:20260424T042327
CREATED:20260405T090439Z
LAST-MODIFIED:20260405T090439Z
UID:10001191-1777118400-1777122000@familiespelvalencia.org
SUMMARY:Abril de contes: Contes en valencià\, de Júlia Cantavella.
DESCRIPTION:A l’abril\, cada conte val per mil! 🌸 \nAmb la primavera tornen les animacions lectores! Vols crear un conte amb mi? Apunta\, apunta: \n👉 25 d’abril a les 12h a @llibreriacampanar a València.
URL:https://familiespelvalencia.org/activitat/abril-de-contes-contes-en-valencia-de-julia-cantavella-3/
LOCATION:Lliberia Campanar\, València\, Carrer d'Aparicio Albiñana\, 13\, Campanar\,\, València\, 46015
CATEGORIES:València - districte capital
ATTACH;FMTTYPE=image/jpeg:https://familiespelvalencia.org/wp-content/uploads/2026/04/contes-en-valencia.jpg
GEO:39.4844095;-0.3978737
X-APPLE-STRUCTURED-LOCATION;VALUE=URI;X-ADDRESS=Lliberia Campanar València Carrer d'Aparicio Albiñana 13 Campanar València 46015;X-APPLE-RADIUS=500;X-TITLE=Carrer d'Aparicio Albiñana\, 13\, Campanar\,:geo:-0.3978737,39.4844095
END:VEVENT
BEGIN:VEVENT
DTSTART;TZID=Europe/Paris:20260425T174200
DTEND;TZID=Europe/Paris:20260425T180000
DTSTAMP:20260424T042327
CREATED:20260411T072652Z
LAST-MODIFIED:20260411T075818Z
UID:10001215-1777138920-1777140000@familiespelvalencia.org
SUMMARY:Correllengua Agermanat. Tram Famílies pel valencià
DESCRIPTION:Famílies pel Valencià se suma al Correllengua Agermanat corrent un tram molt especial\, pensat per a fer ben visible que les futures generacions també són protagonistes d’aquesta lluita col·lectiva. Ho fem per mostrar el nostre suport al Correllengua Agermanat\, però sobretot també per reivindicar el dret de les nostres criatures a viure\, créixer i somiar en valencià. Convidem totes les famílies a unir-se al nostre tram i a participar-hi d’una manera ben simbòlica i festiva: veniu amb bici\, patinets\, carrets o com vulgueu\, però vingueu amb ganes de fer-vos veure. Que el Correllengua s’ompliga de xiquets i xiquetes és una manera clara de dir que el valencià té futur i que aquest futur es construeix des de casa\, des de l’escola i des del carrer. Córrer aquest tram juntes i junts és molt més que un gest: és un compromís compartit perquè el valencià siga llengua viva ara i demà. És l’hora de córrer… i de no parar.
URL:https://familiespelvalencia.org/activitat/correllengua-agermanat-tram-families-pel-valencia/
LOCATION:València.- Plaça de Tetuan\, Plaça de Tetuan\, València\, L'Horta\, 46003
CATEGORIES:València - districte capital
ATTACH;FMTTYPE=image/jpeg:https://familiespelvalencia.org/wp-content/uploads/2026/04/Correllengua-Families.jpeg
GEO:39.4747158;-0.3697593
X-APPLE-STRUCTURED-LOCATION;VALUE=URI;X-ADDRESS=València.- Plaça de Tetuan Plaça de Tetuan València L'Horta 46003;X-APPLE-RADIUS=500;X-TITLE=Plaça de Tetuan:geo:-0.3697593,39.4747158
END:VEVENT
BEGIN:VEVENT
DTSTART;TZID=Europe/Paris:20260425T180000
DTEND;TZID=Europe/Paris:20260425T185000
DTSTAMP:20260424T042327
CREATED:20260202T142910Z
LAST-MODIFIED:20260202T142910Z
UID:10000860-1777140000-1777143000@familiespelvalencia.org
SUMMARY:Cinema concert: petits tresors de butxaca
DESCRIPTION:Vols gaudir d’una manera melòdica i creativa d’un conjunt de curtmetratges seleccionats especialment? Aquesta sessió de cinema concert ofereix una experiència sensorial que uneix el cinema i la música en directe. Un conjunt de sis curtmetratges seleccionats per a tota la família que es desplega com un viatge ple de faules màgiques\, emocions i missatges sensibles\, en els quals la música es converteix en el fil narratiu. \nProjecte a càrrec de Josep Maria Baldomà\, compositor barceloní especialitzat en bandes sonores per a cinema i televisió\, creador de la música original dels curtmetratges que conformen aquest cinema concert. \nDurada: 49 minuts // Edat recomanada: +3 anys \nMés informació\, fitxa educativa i venda d’entrades: Web CaixaFòrum
URL:https://familiespelvalencia.org/activitat/cinema-concert-petits-tresors-de-butxaca/
LOCATION:Caixa Forum\, Ciutat de les Arts i les Ciències\, C/ Eduardo Primo Yúfera\, 1A\, València\, 46013
CATEGORIES:València - districte capital
ATTACH;FMTTYPE=image/webp:https://familiespelvalencia.org/wp-content/uploads/2026/02/Petits-tresors-de-butxaca.webp
GEO:39.4538716;-0.3498098
X-APPLE-STRUCTURED-LOCATION;VALUE=URI;X-ADDRESS=Caixa Forum Ciutat de les Arts i les Ciències C/ Eduardo Primo Yúfera 1A València 46013;X-APPLE-RADIUS=500;X-TITLE=Ciutat de les Arts i les Ciències\, C/ Eduardo Primo Yúfera\, 1A:geo:-0.3498098,39.4538716
END:VEVENT
END:VCALENDAR