BEGIN:VCALENDAR
VERSION:2.0
PRODID:-//FAMÍLIES PEL VALENCIÀ - ECPv6.15.20//NONSGML v1.0//EN
CALSCALE:GREGORIAN
METHOD:PUBLISH
X-ORIGINAL-URL:https://familiespelvalencia.org
X-WR-CALDESC:Esdeveniments per FAMÍLIES PEL VALENCIÀ
REFRESH-INTERVAL;VALUE=DURATION:PT1H
X-Robots-Tag:noindex
X-PUBLISHED-TTL:PT1H
BEGIN:VTIMEZONE
TZID:Europe/Paris
BEGIN:DAYLIGHT
TZOFFSETFROM:+0100
TZOFFSETTO:+0200
TZNAME:CEST
DTSTART:20250330T010000
END:DAYLIGHT
BEGIN:STANDARD
TZOFFSETFROM:+0200
TZOFFSETTO:+0100
TZNAME:CET
DTSTART:20251026T010000
END:STANDARD
BEGIN:DAYLIGHT
TZOFFSETFROM:+0100
TZOFFSETTO:+0200
TZNAME:CEST
DTSTART:20260329T010000
END:DAYLIGHT
BEGIN:STANDARD
TZOFFSETFROM:+0200
TZOFFSETTO:+0100
TZNAME:CET
DTSTART:20261025T010000
END:STANDARD
BEGIN:DAYLIGHT
TZOFFSETFROM:+0100
TZOFFSETTO:+0200
TZNAME:CEST
DTSTART:20270328T010000
END:DAYLIGHT
BEGIN:STANDARD
TZOFFSETFROM:+0200
TZOFFSETTO:+0100
TZNAME:CET
DTSTART:20271031T010000
END:STANDARD
END:VTIMEZONE
BEGIN:VEVENT
DTSTART;TZID=Europe/Paris:20260412T110000
DTEND;TZID=Europe/Paris:20260412T123000
DTSTAMP:20260424T042327
CREATED:20260328T161222Z
LAST-MODIFIED:20260328T161529Z
UID:10001121-1775991600-1775997000@familiespelvalencia.org
SUMMARY:Visita familiar guiada + taller
DESCRIPTION:L’arribada de la primavera i l’estiu al Jardí Botànic és una explosió de vida que transforma aquest oasi en un festival de colors i aromes. Un jardí que dóna vida i que convida a descobrir-lo amb les seues visites guiades de cap de setmana. \nPúblic familiar | durada 1.30 h\, inclou taller | aformanet limitat a 25 participants. \nMés informació\, reserva i abonament: Jardí Botànic
URL:https://familiespelvalencia.org/activitat/visita-familiar-guiada-taller/2026-04-12/
LOCATION:Jardí Botànic de València\, C/ Quart 80\, València\, L'Horta\, 46008
CATEGORIES:València - districte capital
ATTACH;FMTTYPE=image/jpeg:https://familiespelvalencia.org/wp-content/uploads/2026/03/Botanic-primavera-estiu.jpg
GEO:39.4754911;-0.386497
X-APPLE-STRUCTURED-LOCATION;VALUE=URI;X-ADDRESS=Jardí Botànic de València C/ Quart 80 València L'Horta 46008;X-APPLE-RADIUS=500;X-TITLE=C/ Quart 80:geo:-0.386497,39.4754911
END:VEVENT
BEGIN:VEVENT
DTSTART;TZID=Europe/Paris:20260412T113000
DTEND;TZID=Europe/Paris:20260412T123000
DTSTAMP:20260424T042327
CREATED:20260129T205808Z
LAST-MODIFIED:20260129T205808Z
UID:10000779-1775993400-1775997000@familiespelvalencia.org
SUMMARY:Calaix de sons. Taller per descobrir el món del so
DESCRIPTION:Si tanques els ulls i pares atenció\, descobriràs una pila de coses que pots identificar només pel so. Però saps què és el so i com s’ho fa per arribar fins a les teves orelles? Acompanya’ns i\, experimentant amb eines i materials molt coneguts\, descobriràs que tot comença amb una petita vibració i també com n’és\, de fascinant\, el món que s’amaga rere el “calaix” de sons. \nActivitat recomanada a partir de 5 anys. \nImportant: Els xiquets i les xiquetes han d’anar acompanyats sempre d’un adult\, que també haurà de reservar una entrada per a l’activitat. \nMés informació i venda d’entrades: web de caixaforum
URL:https://familiespelvalencia.org/activitat/calaix-de-sons-taller-per-descobrir-el-mon-del-so/2026-04-12/
LOCATION:Caixa Forum\, Ciutat de les Arts i les Ciències\, C/ Eduardo Primo Yúfera\, 1A\, València\, 46013
CATEGORIES:València - districte capital
ATTACH;FMTTYPE=image/webp:https://familiespelvalencia.org/wp-content/uploads/2026/01/calaix-de-sons.webp
GEO:39.4538716;-0.3498098
X-APPLE-STRUCTURED-LOCATION;VALUE=URI;X-ADDRESS=Caixa Forum Ciutat de les Arts i les Ciències C/ Eduardo Primo Yúfera 1A València 46013;X-APPLE-RADIUS=500;X-TITLE=Ciutat de les Arts i les Ciències\, C/ Eduardo Primo Yúfera\, 1A:geo:-0.3498098,39.4538716
END:VEVENT
BEGIN:VEVENT
DTSTART;TZID=Europe/Paris:20260412T113000
DTEND;TZID=Europe/Paris:20260412T123000
DTSTAMP:20260424T042327
CREATED:20260202T210419Z
LAST-MODIFIED:20260202T210419Z
UID:10000879-1775993400-1775997000@familiespelvalencia.org
SUMMARY:Visita en família: Petits músics a la recerca de les matemàtiques
DESCRIPTION:I si la música i les matemàtiques són més semblants del que sembla? I si són tan i tan semblants que per inventar-nos una melodia hem de parlar d’ones sonores\, de proporcions i de càlculs? En aquesta visita dinamitzada\, les matemàtiques ens ajudaran a entendre\, crear i compondre música. Ho farem amb el guiatge d’una persona educadora\, tot experimentant amb els interactius de l’exposició i a partir d’un joc de construcció sonora. Cantar i sumar\, tocar i multiplicar\, compondre i calcular… T’hi atreveixes? \nPetits músics a la recerca de les matemàtiques\, a partir de 4 anys. \nMés informació i venda d’entrades: Web Caixa Fòrum \nEls xiquets i xiquetes han d’anar acompanyats sempre d’un adult\, que també ha de reservar una entrada per a l’activitat.
URL:https://familiespelvalencia.org/activitat/visita-en-familia-petits-musics-a-la-recerca-de-les-matematiques/2026-04-12/
LOCATION:Caixa Forum\, Ciutat de les Arts i les Ciències\, C/ Eduardo Primo Yúfera\, 1A\, València\, 46013
CATEGORIES:València - districte capital
ATTACH;FMTTYPE=image/webp:https://familiespelvalencia.org/wp-content/uploads/2026/02/petits-musics-a-la-recerca-de-les-matematiques.webp
GEO:39.4538716;-0.3498098
X-APPLE-STRUCTURED-LOCATION;VALUE=URI;X-ADDRESS=Caixa Forum Ciutat de les Arts i les Ciències C/ Eduardo Primo Yúfera 1A València 46013;X-APPLE-RADIUS=500;X-TITLE=Ciutat de les Arts i les Ciències\, C/ Eduardo Primo Yúfera\, 1A:geo:-0.3498098,39.4538716
END:VEVENT
BEGIN:VEVENT
DTSTART;TZID=Europe/Paris:20260412T120000
DTEND;TZID=Europe/Paris:20260412T130000
DTSTAMP:20260424T042327
CREATED:20260408T121803Z
LAST-MODIFIED:20260408T121950Z
UID:10001207-1775995200-1775998800@familiespelvalencia.org
SUMMARY:Contacontes. Pasqua Florida
DESCRIPTION:A càrrec de Joanvi Cubedo (Tio Vicent: actor/narrador) \nTio Vicent\, nom artístic de Joanvi Cubedo\, protagonitza una sessió de contacontes en valencià amb títol Pasqua Florida. Amb una trajectòria consolidada en la narració oral i la divulgació de la cultura popular valenciana\, el Tio Vicent destaca per un estil pròxim i directe\, especialment pensat per connectar amb el públic familiar. Una proposta per gaudir en comunitat i acostar la llengua i la tradició oral als més menuts en un espai cultural acollidor \nMés informació i venda entrades: Espai Rebombori
URL:https://familiespelvalencia.org/activitat/contacontes-dia-del-llaurador-2/
LOCATION:Espai Rebombori\, C/ del Dibuixant Manuel Gago\, 14 (Patraix)\, València\, 46018
CATEGORIES:València - districte capital
ATTACH;FMTTYPE=image/jpeg:https://familiespelvalencia.org/wp-content/uploads/2026/04/Pasqua-Florida-rotated.jpg
GEO:39.4623751;-0.39132
X-APPLE-STRUCTURED-LOCATION;VALUE=URI;X-ADDRESS=Espai Rebombori C/ del Dibuixant Manuel Gago 14 (Patraix) València 46018;X-APPLE-RADIUS=500;X-TITLE=C/ del Dibuixant Manuel Gago\, 14 (Patraix):geo:-0.39132,39.4623751
END:VEVENT
END:VCALENDAR