BEGIN:VCALENDAR
VERSION:2.0
PRODID:-//FAMÍLIES PEL VALENCIÀ - ECPv6.15.20//NONSGML v1.0//EN
CALSCALE:GREGORIAN
METHOD:PUBLISH
X-WR-CALNAME:FAMÍLIES PEL VALENCIÀ
X-ORIGINAL-URL:https://familiespelvalencia.org
X-WR-CALDESC:Esdeveniments per FAMÍLIES PEL VALENCIÀ
REFRESH-INTERVAL;VALUE=DURATION:PT1H
X-Robots-Tag:noindex
X-PUBLISHED-TTL:PT1H
BEGIN:VTIMEZONE
TZID:Europe/Paris
BEGIN:DAYLIGHT
TZOFFSETFROM:+0100
TZOFFSETTO:+0200
TZNAME:CEST
DTSTART:20250330T010000
END:DAYLIGHT
BEGIN:STANDARD
TZOFFSETFROM:+0200
TZOFFSETTO:+0100
TZNAME:CET
DTSTART:20251026T010000
END:STANDARD
BEGIN:DAYLIGHT
TZOFFSETFROM:+0100
TZOFFSETTO:+0200
TZNAME:CEST
DTSTART:20260329T010000
END:DAYLIGHT
BEGIN:STANDARD
TZOFFSETFROM:+0200
TZOFFSETTO:+0100
TZNAME:CET
DTSTART:20261025T010000
END:STANDARD
BEGIN:DAYLIGHT
TZOFFSETFROM:+0100
TZOFFSETTO:+0200
TZNAME:CEST
DTSTART:20270328T010000
END:DAYLIGHT
BEGIN:STANDARD
TZOFFSETFROM:+0200
TZOFFSETTO:+0100
TZNAME:CET
DTSTART:20271031T010000
END:STANDARD
END:VTIMEZONE
BEGIN:VEVENT
DTSTART;TZID=Europe/Paris:20260322T113000
DTEND;TZID=Europe/Paris:20260322T123000
DTSTAMP:20260424T044624
CREATED:20260129T205808Z
LAST-MODIFIED:20260129T205808Z
UID:10000776-1774179000-1774182600@familiespelvalencia.org
SUMMARY:Calaix de sons. Taller per descobrir el món del so
DESCRIPTION:Si tanques els ulls i pares atenció\, descobriràs una pila de coses que pots identificar només pel so. Però saps què és el so i com s’ho fa per arribar fins a les teves orelles? Acompanya’ns i\, experimentant amb eines i materials molt coneguts\, descobriràs que tot comença amb una petita vibració i també com n’és\, de fascinant\, el món que s’amaga rere el “calaix” de sons. \nActivitat recomanada a partir de 5 anys. \nImportant: Els xiquets i les xiquetes han d’anar acompanyats sempre d’un adult\, que també haurà de reservar una entrada per a l’activitat. \nMés informació i venda d’entrades: web de caixaforum
URL:https://familiespelvalencia.org/activitat/calaix-de-sons-taller-per-descobrir-el-mon-del-so/2026-03-22/
LOCATION:Caixa Forum\, Ciutat de les Arts i les Ciències\, C/ Eduardo Primo Yúfera\, 1A\, València\, 46013
CATEGORIES:València - districte capital
ATTACH;FMTTYPE=image/webp:https://familiespelvalencia.org/wp-content/uploads/2026/01/calaix-de-sons.webp
GEO:39.4538716;-0.3498098
X-APPLE-STRUCTURED-LOCATION;VALUE=URI;X-ADDRESS=Caixa Forum Ciutat de les Arts i les Ciències C/ Eduardo Primo Yúfera 1A València 46013;X-APPLE-RADIUS=500;X-TITLE=Ciutat de les Arts i les Ciències\, C/ Eduardo Primo Yúfera\, 1A:geo:-0.3498098,39.4538716
END:VEVENT
BEGIN:VEVENT
DTSTART;TZID=Europe/Paris:20260322T113000
DTEND;TZID=Europe/Paris:20260322T123000
DTSTAMP:20260424T044624
CREATED:20260202T210419Z
LAST-MODIFIED:20260202T210419Z
UID:10000876-1774179000-1774182600@familiespelvalencia.org
SUMMARY:Visita en família: Petits músics a la recerca de les matemàtiques
DESCRIPTION:I si la música i les matemàtiques són més semblants del que sembla? I si són tan i tan semblants que per inventar-nos una melodia hem de parlar d’ones sonores\, de proporcions i de càlculs? En aquesta visita dinamitzada\, les matemàtiques ens ajudaran a entendre\, crear i compondre música. Ho farem amb el guiatge d’una persona educadora\, tot experimentant amb els interactius de l’exposició i a partir d’un joc de construcció sonora. Cantar i sumar\, tocar i multiplicar\, compondre i calcular… T’hi atreveixes? \nPetits músics a la recerca de les matemàtiques\, a partir de 4 anys. \nMés informació i venda d’entrades: Web Caixa Fòrum \nEls xiquets i xiquetes han d’anar acompanyats sempre d’un adult\, que també ha de reservar una entrada per a l’activitat.
URL:https://familiespelvalencia.org/activitat/visita-en-familia-petits-musics-a-la-recerca-de-les-matematiques/2026-03-22/
LOCATION:Caixa Forum\, Ciutat de les Arts i les Ciències\, C/ Eduardo Primo Yúfera\, 1A\, València\, 46013
CATEGORIES:València - districte capital
ATTACH;FMTTYPE=image/webp:https://familiespelvalencia.org/wp-content/uploads/2026/02/petits-musics-a-la-recerca-de-les-matematiques.webp
GEO:39.4538716;-0.3498098
X-APPLE-STRUCTURED-LOCATION;VALUE=URI;X-ADDRESS=Caixa Forum Ciutat de les Arts i les Ciències C/ Eduardo Primo Yúfera 1A València 46013;X-APPLE-RADIUS=500;X-TITLE=Ciutat de les Arts i les Ciències\, C/ Eduardo Primo Yúfera\, 1A:geo:-0.3498098,39.4538716
END:VEVENT
BEGIN:VEVENT
DTSTART;TZID=Europe/Paris:20260322T120000
DTEND;TZID=Europe/Paris:20260322T130000
DTSTAMP:20260424T044624
CREATED:20260309T211614Z
LAST-MODIFIED:20260309T211614Z
UID:10001035-1774180800-1774184400@familiespelvalencia.org
SUMMARY:Una visiteta a l’IVAM (Andrea Canepa)
DESCRIPTION:Visites per a adults amb bebés a las exposicions de l’IVAM \nUna visiteta a l’IVAM posa el focus en les persones adultes que estan criant i que volen continuar gaudint de propostes d’oci cultural sense renunciar a estar amb els seus bebés. És una resposta de l’IVAM a la necessitat de les mares i pares més fans de visitar museus: una visita comentada per les exposicions més recents\, on s’assistisca en parella adult-bebé. En finalitzar el recorregut\, adaptat en temps al grup\, donarem pas a un moment de descans en la nova Sala Blanda de l’IVAM. \nExplorarem les exposicions a través de sessions de mediació artística condicionades especialment per a poder realitzar còmodament la lactància\, alimentació o canvi de bolquers sense interrupció\, ni eixir expressament a espais específics\, mentre es realitza l’activitat. Pauses\, racons de descans\, cuidat de les llums\, els sons i la veu. Tot perquè\, a més de cuidar el contingut\, cuidem el benestar dels bebés\, facilitant que les adultes donen de mamar\, portegen o adormen als nounats durant el recorregut. \nAndrea Canepa. Projecte Entre allò profund i allò distant \nMés informació: IVAM \n 
URL:https://familiespelvalencia.org/activitat/una-visiteta-a-livam-andrea-canepa-2/2026-03-22/
LOCATION:IVAM\, Carrer Guillem de Castro\, 118\, València\, València\, 46003
CATEGORIES:València - districte capital
ATTACH;FMTTYPE=image/jpeg:https://familiespelvalencia.org/wp-content/uploads/2025/12/Andrea-Canepa.jpg
ORGANIZER;CN="Institut Valenci%C3%A0 d'Art Modern (IVAM)":MAILTO:ivam@ivam.es
GEO:39.4781991;-0.3833337
X-APPLE-STRUCTURED-LOCATION;VALUE=URI;X-ADDRESS=IVAM Carrer Guillem de Castro 118 València València 46003;X-APPLE-RADIUS=500;X-TITLE=Carrer Guillem de Castro\, 118:geo:-0.3833337,39.4781991
END:VEVENT
BEGIN:VEVENT
DTSTART;TZID=Europe/Paris:20260322T120000
DTEND;TZID=Europe/Paris:20260322T130000
DTSTAMP:20260424T044624
CREATED:20260313T104747Z
LAST-MODIFIED:20260313T104747Z
UID:10001051-1774180800-1774184400@familiespelvalencia.org
SUMMARY:Contacontes. Dia del Llaurador
DESCRIPTION:A càrrec de Joanvi Cubedo (Tio Vicent: actor/narrador) \nJoanvi Cubedo protagonitza una sessió especial pel Dia del Llaurador\, dedicada a la llaurança i a la cultura popular valenciana. Amb el seu estil pròxim i participatiu\, proposa un espectacle pensat per a tots els públics\, on la paraula\, el joc i la tradició es donen la mà. L’activitat forma part d’un repertori dinàmic que combina Xip\, Xap\, conte contat\, amb històries per escoltar i participar\, recuperant l’imaginari del camp i els sabers de sempre. Una proposta ideal per compartir en família i acostar la xicalla a les arrels de la nostra terra d’una manera divertida i viva. \nMés informació i venda entrades: Espai Rebombori
URL:https://familiespelvalencia.org/activitat/contacontes-dia-del-llaurador/
LOCATION:Espai Rebombori\, C/ del Dibuixant Manuel Gago\, 14 (Patraix)\, València\, 46018
CATEGORIES:València - districte capital
ATTACH;FMTTYPE=image/jpeg:https://familiespelvalencia.org/wp-content/uploads/2026/03/Joanvi-Cubedo-Llauranca-.jpeg.jpg
GEO:39.4623751;-0.39132
X-APPLE-STRUCTURED-LOCATION;VALUE=URI;X-ADDRESS=Espai Rebombori C/ del Dibuixant Manuel Gago 14 (Patraix) València 46018;X-APPLE-RADIUS=500;X-TITLE=C/ del Dibuixant Manuel Gago\, 14 (Patraix):geo:-0.39132,39.4623751
END:VEVENT
END:VCALENDAR