BEGIN:VCALENDAR
VERSION:2.0
PRODID:-//FAMÍLIES PEL VALENCIÀ - ECPv6.15.20//NONSGML v1.0//EN
CALSCALE:GREGORIAN
METHOD:PUBLISH
X-WR-CALNAME:FAMÍLIES PEL VALENCIÀ
X-ORIGINAL-URL:https://familiespelvalencia.org
X-WR-CALDESC:Esdeveniments per FAMÍLIES PEL VALENCIÀ
REFRESH-INTERVAL;VALUE=DURATION:PT1H
X-Robots-Tag:noindex
X-PUBLISHED-TTL:PT1H
BEGIN:VTIMEZONE
TZID:Europe/Paris
BEGIN:DAYLIGHT
TZOFFSETFROM:+0100
TZOFFSETTO:+0200
TZNAME:CEST
DTSTART:20250330T010000
END:DAYLIGHT
BEGIN:STANDARD
TZOFFSETFROM:+0200
TZOFFSETTO:+0100
TZNAME:CET
DTSTART:20251026T010000
END:STANDARD
BEGIN:DAYLIGHT
TZOFFSETFROM:+0100
TZOFFSETTO:+0200
TZNAME:CEST
DTSTART:20260329T010000
END:DAYLIGHT
BEGIN:STANDARD
TZOFFSETFROM:+0200
TZOFFSETTO:+0100
TZNAME:CET
DTSTART:20261025T010000
END:STANDARD
BEGIN:DAYLIGHT
TZOFFSETFROM:+0100
TZOFFSETTO:+0200
TZNAME:CEST
DTSTART:20270328T010000
END:DAYLIGHT
BEGIN:STANDARD
TZOFFSETFROM:+0200
TZOFFSETTO:+0100
TZNAME:CET
DTSTART:20271031T010000
END:STANDARD
END:VTIMEZONE
BEGIN:VEVENT
DTSTART;TZID=Europe/Paris:20260317T120000
DTEND;TZID=Europe/Paris:20260317T190000
DTSTAMP:20260424T044608
CREATED:20260309T222353Z
LAST-MODIFIED:20260309T222443Z
UID:10001043-1773748800-1773774000@familiespelvalencia.org
SUMMARY:Falles Terra 26. Concert Dani Miquel
DESCRIPTION:Falles ’26 es presenta com una jornada festiva i popular per a viure les Falles en ambient col·lectiu i de barri\, amb una programació que combina música\, gastronomia i bon humor\, pensada per a tots els públics. Al llarg del dia\, el Camp de l’Esporting de Benimaclet acollirà diverses propostes per gaudir de la festa des del migdia fins a la vesprada. La jornada començarà amb el concert de Dani Miquel\, continuarà amb paelles populars\, i seguirà amb un concert acústic de Sandra Monfort\, per acabar amb vespreig amb DJs. Una proposta completa per celebrar les Falles amb música en directe\, bon ambient i esperit festiu.
URL:https://familiespelvalencia.org/activitat/falles-terra-26-concert-dani-miquel/
LOCATION:Camp Futbol. Sporting Benimaclet\, Carrer de Diógenes López Mechó\, 7 (Benimaclet)\, València\, L'Horta\, 46020
CATEGORIES:València - districte capital
ATTACH;FMTTYPE=image/png:https://familiespelvalencia.org/wp-content/uploads/2026/03/Falles-2026-Terra.png
GEO:39.4849346;-0.3540709
X-APPLE-STRUCTURED-LOCATION;VALUE=URI;X-ADDRESS=Camp Futbol. Sporting Benimaclet Carrer de Diógenes López Mechó 7 (Benimaclet) València L'Horta 46020;X-APPLE-RADIUS=500;X-TITLE=Carrer de Diógenes López Mechó\, 7 (Benimaclet):geo:-0.3540709,39.4849346
END:VEVENT
END:VCALENDAR