BEGIN:VCALENDAR
VERSION:2.0
PRODID:-//FAMÍLIES PEL VALENCIÀ - ECPv6.15.20//NONSGML v1.0//EN
CALSCALE:GREGORIAN
METHOD:PUBLISH
X-WR-CALNAME:FAMÍLIES PEL VALENCIÀ
X-ORIGINAL-URL:https://familiespelvalencia.org
X-WR-CALDESC:Esdeveniments per FAMÍLIES PEL VALENCIÀ
REFRESH-INTERVAL;VALUE=DURATION:PT1H
X-Robots-Tag:noindex
X-PUBLISHED-TTL:PT1H
BEGIN:VTIMEZONE
TZID:Europe/Paris
BEGIN:DAYLIGHT
TZOFFSETFROM:+0100
TZOFFSETTO:+0200
TZNAME:CEST
DTSTART:20250330T010000
END:DAYLIGHT
BEGIN:STANDARD
TZOFFSETFROM:+0200
TZOFFSETTO:+0100
TZNAME:CET
DTSTART:20251026T010000
END:STANDARD
BEGIN:DAYLIGHT
TZOFFSETFROM:+0100
TZOFFSETTO:+0200
TZNAME:CEST
DTSTART:20260329T010000
END:DAYLIGHT
BEGIN:STANDARD
TZOFFSETFROM:+0200
TZOFFSETTO:+0100
TZNAME:CET
DTSTART:20261025T010000
END:STANDARD
BEGIN:DAYLIGHT
TZOFFSETFROM:+0100
TZOFFSETTO:+0200
TZNAME:CEST
DTSTART:20270328T010000
END:DAYLIGHT
BEGIN:STANDARD
TZOFFSETFROM:+0200
TZOFFSETTO:+0100
TZNAME:CET
DTSTART:20271031T010000
END:STANDARD
END:VTIMEZONE
BEGIN:VEVENT
DTSTART;TZID=Europe/Paris:20260221T173000
DTEND;TZID=Europe/Paris:20260221T181000
DTSTAMP:20260424T050633
CREATED:20260201T101322Z
LAST-MODIFIED:20260201T102033Z
UID:10000825-1771695000-1771697400@familiespelvalencia.org
SUMMARY:Teatre. Magatzem de somnis
DESCRIPTION:A càrrec de : Nelo Sebastián (Vudú Teatro). Baix de l’escenari d’un antic teatre\, un home té cura d’un magatzem molt especial: hi guarda titelles\, vestuaris i decorats que ja no s’utilitzen\, i allí allò oblidat no desapareix… es transforma i torna a estrenar-se. Així\, quan tot acaba a dalt\, una nova funció comença a baix. Ens endinsem en el seu univers? \nDurada: 40 minuits / A partir de 6 anys \nMés informació i venda d’entrades: Teatre Escalante
URL:https://familiespelvalencia.org/activitat/teatre-magatzem-de-somnis/2026-02-21/
LOCATION:Ribes Espai Cultural\, Carrer de les Filipines\, 2 (Barri de Russafa)\, València\, L'Horta\, 46004
CATEGORIES:València - districte capital
GEO:39.4582381;-0.3772651
X-APPLE-STRUCTURED-LOCATION;VALUE=URI;X-ADDRESS=Ribes Espai Cultural Carrer de les Filipines 2 (Barri de Russafa) València L'Horta 46004;X-APPLE-RADIUS=500;X-TITLE=Carrer de les Filipines\, 2 (Barri de Russafa):geo:-0.3772651,39.4582381
END:VEVENT
END:VCALENDAR