BEGIN:VCALENDAR
VERSION:2.0
PRODID:-//FAMÍLIES PEL VALENCIÀ - ECPv6.15.20//NONSGML v1.0//EN
CALSCALE:GREGORIAN
METHOD:PUBLISH
X-WR-CALNAME:FAMÍLIES PEL VALENCIÀ
X-ORIGINAL-URL:https://familiespelvalencia.org
X-WR-CALDESC:Esdeveniments per FAMÍLIES PEL VALENCIÀ
REFRESH-INTERVAL;VALUE=DURATION:PT1H
X-Robots-Tag:noindex
X-PUBLISHED-TTL:PT1H
BEGIN:VTIMEZONE
TZID:Europe/Paris
BEGIN:DAYLIGHT
TZOFFSETFROM:+0100
TZOFFSETTO:+0200
TZNAME:CEST
DTSTART:20250330T010000
END:DAYLIGHT
BEGIN:STANDARD
TZOFFSETFROM:+0200
TZOFFSETTO:+0100
TZNAME:CET
DTSTART:20251026T010000
END:STANDARD
BEGIN:DAYLIGHT
TZOFFSETFROM:+0100
TZOFFSETTO:+0200
TZNAME:CEST
DTSTART:20260329T010000
END:DAYLIGHT
BEGIN:STANDARD
TZOFFSETFROM:+0200
TZOFFSETTO:+0100
TZNAME:CET
DTSTART:20261025T010000
END:STANDARD
BEGIN:DAYLIGHT
TZOFFSETFROM:+0100
TZOFFSETTO:+0200
TZNAME:CEST
DTSTART:20270328T010000
END:DAYLIGHT
BEGIN:STANDARD
TZOFFSETFROM:+0200
TZOFFSETTO:+0100
TZNAME:CET
DTSTART:20271031T010000
END:STANDARD
END:VTIMEZONE
BEGIN:VEVENT
DTSTART;TZID=Europe/Paris:20260220T170000
DTEND;TZID=Europe/Paris:20260220T180000
DTSTAMP:20260424T050632
CREATED:20260220T104145Z
LAST-MODIFIED:20260220T104145Z
UID:10000981-1771606800-1771610400@familiespelvalencia.org
SUMMARY:Contacontes.- Contes al Jardí
DESCRIPTION:La Biblioteca de Trinitat Vivers acollirà una sessió especial de contacontes amb Rosa García Robles\, que presentarà Contes al jardí\, una proposta pensada per a fer volar la imaginació entre històries i natura. L’activitat tindrà lloc el 20 de febrer a les 17:00 h i requereix inscripció prèvia. Una oportunitat perfecta perquè les famílies gaudisquen de la lectura en un ambient proper i acollidor.
URL:https://familiespelvalencia.org/activitat/contacontes-contes-al-jardi-2/
LOCATION:Biblioteca de Trinitat – Vivers\, C/ Pintor Genaro Lahuerta\, s/n\, València\, L'Horta\, 46010
CATEGORIES:València - districte capital
ATTACH;FMTTYPE=image/jpeg:https://familiespelvalencia.org/wp-content/uploads/2026/02/contes-al-jardi.jpg
GEO:39.4848272;-0.3675515
X-APPLE-STRUCTURED-LOCATION;VALUE=URI;X-ADDRESS=Biblioteca de Trinitat – Vivers C/ Pintor Genaro Lahuerta s/n València L'Horta 46010;X-APPLE-RADIUS=500;X-TITLE=C/ Pintor Genaro Lahuerta\, s/n:geo:-0.3675515,39.4848272
END:VEVENT
BEGIN:VEVENT
DTSTART;TZID=Europe/Paris:20260220T180000
DTEND;TZID=Europe/Paris:20260220T193000
DTSTAMP:20260424T050632
CREATED:20260211T143722Z
LAST-MODIFIED:20260211T143900Z
UID:10000951-1771610400-1771615800@familiespelvalencia.org
SUMMARY:Presentació cançó Trobades 2026.- Canta Canalla
DESCRIPTION:Escola Valenciana encetarà el camí cap a les Trobades 2026 amb un acte molt especial el divendres 20 de febrer a les 18 h\, a la Sala d’Actes Sanchis Guarner de la Facultat de Filologia de la Universitat de València. L’esdeveniment servirà per presentar la nova imatge i el calendari complet de les Trobades d’enguany\, i ho farà en un ambient festiu i familiar. L’acte culminarà amb l’estrena de “Xiulaballariu”\, la cançó oficial de les Trobades 2026\, interpretada per Canta Canalla\, que oferirà un xicotet concert perquè la xicalla\, i també els adults\, cantem\, ballem i carreguem energia per a tot allò que vindrà. L’entrada és lliure fins a completar aforament\, i Escola Valenciana anima tothom a vindre amb família\, amistats i moltes ganes de festa per donar plegades i plegats el tret d’eixida a unes Trobades que prometen molta vida i molta llengua.
URL:https://familiespelvalencia.org/activitat/6946/
LOCATION:Facultat de Filologia de la Universitat de València\, Av. de Blasco Ibáñez\, 32\, València\, L'Horta\, 46010
CATEGORIES:València - districte capital
ATTACH;FMTTYPE=image/jpeg:https://familiespelvalencia.org/wp-content/uploads/2026/02/Canta-Canalla-Canco-Trobades.jpg
GEO:39.4767098;-0.3594269
X-APPLE-STRUCTURED-LOCATION;VALUE=URI;X-ADDRESS=Facultat de Filologia de la Universitat de València Av. de Blasco Ibáñez 32 València L'Horta 46010;X-APPLE-RADIUS=500;X-TITLE=Av. de Blasco Ibáñez\, 32:geo:-0.3594269,39.4767098
END:VEVENT
END:VCALENDAR