BEGIN:VCALENDAR
VERSION:2.0
PRODID:-//FAMÍLIES PEL VALENCIÀ - ECPv6.15.20//NONSGML v1.0//EN
CALSCALE:GREGORIAN
METHOD:PUBLISH
X-ORIGINAL-URL:https://familiespelvalencia.org
X-WR-CALDESC:Esdeveniments per FAMÍLIES PEL VALENCIÀ
REFRESH-INTERVAL;VALUE=DURATION:PT1H
X-Robots-Tag:noindex
X-PUBLISHED-TTL:PT1H
BEGIN:VTIMEZONE
TZID:Europe/Paris
BEGIN:DAYLIGHT
TZOFFSETFROM:+0100
TZOFFSETTO:+0200
TZNAME:CEST
DTSTART:20250330T010000
END:DAYLIGHT
BEGIN:STANDARD
TZOFFSETFROM:+0200
TZOFFSETTO:+0100
TZNAME:CET
DTSTART:20251026T010000
END:STANDARD
BEGIN:DAYLIGHT
TZOFFSETFROM:+0100
TZOFFSETTO:+0200
TZNAME:CEST
DTSTART:20260329T010000
END:DAYLIGHT
BEGIN:STANDARD
TZOFFSETFROM:+0200
TZOFFSETTO:+0100
TZNAME:CET
DTSTART:20261025T010000
END:STANDARD
BEGIN:DAYLIGHT
TZOFFSETFROM:+0100
TZOFFSETTO:+0200
TZNAME:CEST
DTSTART:20270328T010000
END:DAYLIGHT
BEGIN:STANDARD
TZOFFSETFROM:+0200
TZOFFSETTO:+0100
TZNAME:CET
DTSTART:20271031T010000
END:STANDARD
END:VTIMEZONE
BEGIN:VEVENT
DTSTART;TZID=Europe/Paris:20260214T103000
DTEND;TZID=Europe/Paris:20260214T190000
DTSTAMP:20260424T050726
CREATED:20260122T092847Z
LAST-MODIFIED:20260213T194051Z
UID:10000759-1771065000-1771095600@familiespelvalencia.org
SUMMARY:Festa pel Valencià
DESCRIPTION:📅 Dissabte 14 (Centre Social Terra 📍)\n🎤 Concert familiar amb @danimiquel i activitats infantils\n🗼 Actuació de @jovemuixerangavalencia\n🔥Calçotada popular (pròximament\, els tiquets a @centresocialterra )\n🎲 Bingo musical\n🎶 Concert acústic de @sandramonfortoliver
URL:https://familiespelvalencia.org/activitat/festa-pel-valencia/
LOCATION:Centre Social Terra\, C/Baró de Sant Petrillo\, 9\, València\, L'Horta\, 46020
CATEGORIES:València - districte capital
ATTACH;FMTTYPE=image/png:https://familiespelvalencia.org/wp-content/uploads/2026/01/FESTA-PEL-VALENCIA-AJORNAT.png
GEO:39.4852742;-0.3605384
X-APPLE-STRUCTURED-LOCATION;VALUE=URI;X-ADDRESS=Centre Social Terra C/Baró de Sant Petrillo 9 València L'Horta 46020;X-APPLE-RADIUS=500;X-TITLE=C/Baró de Sant Petrillo\, 9:geo:-0.3605384,39.4852742
END:VEVENT
BEGIN:VEVENT
DTSTART;TZID=Europe/Paris:20260214T190000
DTEND;TZID=Europe/Paris:20260214T200000
DTSTAMP:20260424T050726
CREATED:20260202T212336Z
LAST-MODIFIED:20260202T212800Z
UID:10000900-1771095600-1771099200@familiespelvalencia.org
SUMMARY:Teatre.- El pes de l’aïgua
DESCRIPTION:En 1994\, cinc dones d’El Palmar van sol·licitar entrar a la Comunitat de Pescadors\, que només admetia homes fills de pescadors. Davant la negativa\, iniciaren una lluita judicial per la igualtat que duraria fins al 2008. La història\, centrada en Petra\, mostra les conseqüències personals i socials d’aquesta batalla. El rebuig\, els silencis i les ferides emocionals marquen el procés. Finalment\, el jutjat els dona la raó\, però el poble i les relacions ja han canviat per sempre. \nCompanyia: La Figuera infinita // Direcció i Autoria: Manuel Maestro \nEdat + de 12 anys // Durada 60 minuts \nMés informació i venda d’entrades: Escalante
URL:https://familiespelvalencia.org/activitat/teatre-el-pes-de-laigua/2026-02-14/
LOCATION:Ribes Espai Cultural\, Carrer de les Filipines\, 2 (Barri de Russafa)\, València\, L'Horta\, 46004
CATEGORIES:València - districte capital
ATTACH;FMTTYPE=image/webp:https://familiespelvalencia.org/wp-content/uploads/2026/02/El-pes-de-laigua.webp
GEO:39.4582381;-0.3772651
X-APPLE-STRUCTURED-LOCATION;VALUE=URI;X-ADDRESS=Ribes Espai Cultural Carrer de les Filipines 2 (Barri de Russafa) València L'Horta 46004;X-APPLE-RADIUS=500;X-TITLE=Carrer de les Filipines\, 2 (Barri de Russafa):geo:-0.3772651,39.4582381
END:VEVENT
END:VCALENDAR