BEGIN:VCALENDAR
VERSION:2.0
PRODID:-//FAMÍLIES PEL VALENCIÀ - ECPv6.15.20//NONSGML v1.0//EN
CALSCALE:GREGORIAN
METHOD:PUBLISH
X-WR-CALNAME:FAMÍLIES PEL VALENCIÀ
X-ORIGINAL-URL:https://familiespelvalencia.org
X-WR-CALDESC:Esdeveniments per FAMÍLIES PEL VALENCIÀ
REFRESH-INTERVAL;VALUE=DURATION:PT1H
X-Robots-Tag:noindex
X-PUBLISHED-TTL:PT1H
BEGIN:VTIMEZONE
TZID:Europe/Paris
BEGIN:DAYLIGHT
TZOFFSETFROM:+0100
TZOFFSETTO:+0200
TZNAME:CEST
DTSTART:20250330T010000
END:DAYLIGHT
BEGIN:STANDARD
TZOFFSETFROM:+0200
TZOFFSETTO:+0100
TZNAME:CET
DTSTART:20251026T010000
END:STANDARD
BEGIN:DAYLIGHT
TZOFFSETFROM:+0100
TZOFFSETTO:+0200
TZNAME:CEST
DTSTART:20260329T010000
END:DAYLIGHT
BEGIN:STANDARD
TZOFFSETFROM:+0200
TZOFFSETTO:+0100
TZNAME:CET
DTSTART:20261025T010000
END:STANDARD
BEGIN:DAYLIGHT
TZOFFSETFROM:+0100
TZOFFSETTO:+0200
TZNAME:CEST
DTSTART:20270328T010000
END:DAYLIGHT
BEGIN:STANDARD
TZOFFSETFROM:+0200
TZOFFSETTO:+0100
TZNAME:CET
DTSTART:20271031T010000
END:STANDARD
END:VTIMEZONE
BEGIN:VEVENT
DTSTART;TZID=Europe/Paris:20260118T110000
DTEND;TZID=Europe/Paris:20260118T120000
DTSTAMP:20260424T052457
CREATED:20251129T205336Z
LAST-MODIFIED:20251129T205336Z
UID:10000506-1768734000-1768737600@familiespelvalencia.org
SUMMARY:An-Ki
DESCRIPTION:An-ki és l’imaginari que crea una xiqueta\, Adja\, per a sostindre la seua realitat\, on ombres de gegants apareixen entre els boscos i fan caure els seus somnis. Adja i la seua família buscaran les arrels del seu passat i l’esperança del futur per a fer front a l’existència desoladora a la qual s’enfronten. An-ki és una experiència teatral immersiva\, en un espai viu que et convida a descobrir cada racó\, cada secret\, on tu no sols escoltes i mires\, també et mous\,toques i sents. \nActivitat per a xiquetes i xiquets de més de 8 anys. \nSESSIONS \n17 de gener a les 17.00 i 18.30 h\n18 de gener a les 11.00 i 12.30 h \n 
URL:https://familiespelvalencia.org/activitat/an-ki/2026-01-18/
LOCATION:Institut Valencià d’Audiofonologia Luis Fortich\, Carrer de Juan de Garay\, 25\, València
CATEGORIES:València - districte capital
ATTACH;FMTTYPE=image/jpeg:https://familiespelvalencia.org/wp-content/uploads/2025/11/anki-2.jpg
GEO:39.4546519;-0.3957776
X-APPLE-STRUCTURED-LOCATION;VALUE=URI;X-ADDRESS=Institut Valencià d’Audiofonologia Luis Fortich Carrer de Juan de Garay 25 València;X-APPLE-RADIUS=500;X-TITLE=Carrer de Juan de Garay\, 25:geo:-0.3957776,39.4546519
END:VEVENT
BEGIN:VEVENT
DTSTART;TZID=Europe/Paris:20260118T110000
DTEND;TZID=Europe/Paris:20260118T120000
DTSTAMP:20260424T052457
CREATED:20251225T212454Z
LAST-MODIFIED:20251225T213117Z
UID:10000683-1768734000-1768737600@familiespelvalencia.org
SUMMARY:Titelles. Aventura a la biblioteca
DESCRIPTION:A càrrec de Actuando Entucole \nSINOPSI: A Rosi li encanta llegir i li fa molta il·lusió l’excursió del col·legi a la biblioteca\, en canvi Pau no ho té tan clar: ell preferix jugar amb els seus videojocs. Però un descuit els farà viure la major aventura de les seues vides\, coneixent els grans personatges de la literatura universal i sent partícips de les seues fantàstiques històries. Tot és meravellós… fins que ix d’un dels llibres el terrible drac. \nMés informació: La Beneficiència
URL:https://familiespelvalencia.org/activitat/titelles-aventura-a-la-biblioteca/
LOCATION:La Beneficiència\, C/Corona\, 36\, València\, L'Horta\, 46003
CATEGORIES:València - districte capital
ATTACH;FMTTYPE=image/jpeg:https://familiespelvalencia.org/wp-content/uploads/2025/12/Aventura-a-la-biblioteca.jpg
GEO:39.4788387;-0.382941
X-APPLE-STRUCTURED-LOCATION;VALUE=URI;X-ADDRESS=La Beneficiència C/Corona 36 València L'Horta 46003;X-APPLE-RADIUS=500;X-TITLE=C/Corona\, 36:geo:-0.382941,39.4788387
END:VEVENT
END:VCALENDAR