BEGIN:VCALENDAR
VERSION:2.0
PRODID:-//FAMÍLIES PEL VALENCIÀ - ECPv6.15.20//NONSGML v1.0//EN
CALSCALE:GREGORIAN
METHOD:PUBLISH
X-WR-CALNAME:FAMÍLIES PEL VALENCIÀ
X-ORIGINAL-URL:https://familiespelvalencia.org
X-WR-CALDESC:Esdeveniments per FAMÍLIES PEL VALENCIÀ
REFRESH-INTERVAL;VALUE=DURATION:PT1H
X-Robots-Tag:noindex
X-PUBLISHED-TTL:PT1H
BEGIN:VTIMEZONE
TZID:Europe/Paris
BEGIN:DAYLIGHT
TZOFFSETFROM:+0100
TZOFFSETTO:+0200
TZNAME:CEST
DTSTART:20250330T010000
END:DAYLIGHT
BEGIN:STANDARD
TZOFFSETFROM:+0200
TZOFFSETTO:+0100
TZNAME:CET
DTSTART:20251026T010000
END:STANDARD
BEGIN:DAYLIGHT
TZOFFSETFROM:+0100
TZOFFSETTO:+0200
TZNAME:CEST
DTSTART:20260329T010000
END:DAYLIGHT
BEGIN:STANDARD
TZOFFSETFROM:+0200
TZOFFSETTO:+0100
TZNAME:CET
DTSTART:20261025T010000
END:STANDARD
BEGIN:DAYLIGHT
TZOFFSETFROM:+0100
TZOFFSETTO:+0200
TZNAME:CEST
DTSTART:20270328T010000
END:DAYLIGHT
BEGIN:STANDARD
TZOFFSETFROM:+0200
TZOFFSETTO:+0100
TZNAME:CET
DTSTART:20271031T010000
END:STANDARD
END:VTIMEZONE
BEGIN:VEVENT
DTSTART;TZID=Europe/Paris:20260116T170000
DTEND;TZID=Europe/Paris:20260116T190000
DTSTAMP:20260424T052457
CREATED:20260113T114149Z
LAST-MODIFIED:20260113T115045Z
UID:10000712-1768582800-1768590000@familiespelvalencia.org
SUMMARY:Taller de música en família. L'Andana Escola de Música
DESCRIPTION:L’Andana Escola de Música convida les famílies a una vesprada plena de ritme\, joc i descobriments musicals en aquest Taller de Música en Família\, pensat perquè la xicalla i les famílies compartisquen una experiència sensorial i afectiva a través del so i el moviment. Amb instruments senzills\, cançons\, ritmes i activitats participatives\, els menuts experimentaran la música de manera natural i lúdica\, estimulant la coordinació\, l’escolta\, la memòria i el vincle emocional amb els seus adults de referència. Un espai acollidor\, respectuós i creatiu on cada família podrà gaudir al seu ritme\, descobrir noves propostes educatives i fomentar l’amor per la música des de ben menuts. Una activitat ideal per a compartir\, créixer i vibrar junts. \n⏰ Horaris segons edats: 17.00 h – Bebés d’entre 12 i 23 mesos // 18.00 h – Peques d’entre 2 i 3 anys \nIMPORTANT: Aforament limitat. Cal inscripció prèvia al telèfon que apareix al cartell
URL:https://familiespelvalencia.org/activitat/taller-de-musica-en-familia-landana-escola-de-musica/
LOCATION:L’Andana Escola de Música\, C/ de l'Arquitecte Arnau 63 baix (Benimaclet)\, València\, L'Horta\, 46020
CATEGORIES:València - districte capital
ATTACH;FMTTYPE=image/jpeg:https://familiespelvalencia.org/wp-content/uploads/2026/01/Andana.jpeg
GEO:39.486676;-0.3563741
X-APPLE-STRUCTURED-LOCATION;VALUE=URI;X-ADDRESS=L’Andana Escola de Música C/ de l'Arquitecte Arnau 63 baix (Benimaclet) València L'Horta 46020;X-APPLE-RADIUS=500;X-TITLE=C/ de l'Arquitecte Arnau 63 baix (Benimaclet):geo:-0.3563741,39.486676
END:VEVENT
END:VCALENDAR