BEGIN:VCALENDAR
VERSION:2.0
PRODID:-//FAMÍLIES PEL VALENCIÀ - ECPv6.15.20//NONSGML v1.0//EN
CALSCALE:GREGORIAN
METHOD:PUBLISH
X-WR-CALNAME:FAMÍLIES PEL VALENCIÀ
X-ORIGINAL-URL:https://familiespelvalencia.org
X-WR-CALDESC:Esdeveniments per FAMÍLIES PEL VALENCIÀ
REFRESH-INTERVAL;VALUE=DURATION:PT1H
X-Robots-Tag:noindex
X-PUBLISHED-TTL:PT1H
BEGIN:VTIMEZONE
TZID:Europe/Paris
BEGIN:DAYLIGHT
TZOFFSETFROM:+0100
TZOFFSETTO:+0200
TZNAME:CEST
DTSTART:20250330T010000
END:DAYLIGHT
BEGIN:STANDARD
TZOFFSETFROM:+0200
TZOFFSETTO:+0100
TZNAME:CET
DTSTART:20251026T010000
END:STANDARD
BEGIN:DAYLIGHT
TZOFFSETFROM:+0100
TZOFFSETTO:+0200
TZNAME:CEST
DTSTART:20260329T010000
END:DAYLIGHT
BEGIN:STANDARD
TZOFFSETFROM:+0200
TZOFFSETTO:+0100
TZNAME:CET
DTSTART:20261025T010000
END:STANDARD
BEGIN:DAYLIGHT
TZOFFSETFROM:+0100
TZOFFSETTO:+0200
TZNAME:CEST
DTSTART:20270328T010000
END:DAYLIGHT
BEGIN:STANDARD
TZOFFSETFROM:+0200
TZOFFSETTO:+0100
TZNAME:CET
DTSTART:20271031T010000
END:STANDARD
END:VTIMEZONE
BEGIN:VEVENT
DTSTART;TZID=Europe/Paris:20260102T110000
DTEND;TZID=Europe/Paris:20260102T120000
DTSTAMP:20260424T052459
CREATED:20251218T150112Z
LAST-MODIFIED:20251218T150112Z
UID:10000643-1767351600-1767355200@familiespelvalencia.org
SUMMARY:Una visiteta a l’IVAM (Andrea Canepa)
DESCRIPTION:Visites per a adults amb bebés a las exposicions de l’IVAM \nUna visiteta a l’IVAM posa el focus en les persones adultes que estan criant i que volen continuar gaudint de propostes d’oci cultural sense renunciar a estar amb els seus bebés. És una resposta de l’IVAM a la necessitat de les mares i pares més fans de visitar museus: una visita comentada per les exposicions més recents\, on s’assistisca en parella adult-bebé. En finalitzar el recorregut\, adaptat en temps al grup\, donarem pas a un moment de descans en la nova Sala Blanda de l’IVAM. \nExplorarem les exposicions a través de sessions de mediació artística condicionades especialment per a poder realitzar còmodament la lactància\, alimentació o canvi de bolquers sense interrupció\, ni eixir expressament a espais específics\, mentre es realitza l’activitat. Pauses\, racons de descans\, cuidat de les llums\, els sons i la veu. Tot perquè\, a més de cuidar el contingut\, cuidem el benestar dels bebés\, facilitant que les adultes donen de mamar\, portegen o adormen als nounats durant el recorregut. \nAndrea Canepa. Projecte Entre allò profund i allò distant \nMés informació: IVAM \n 
URL:https://familiespelvalencia.org/activitat/una-visiteta-a-livam-andrea-canepa/2026-01-02/
LOCATION:IVAM\, Carrer Guillem de Castro\, 118\, València\, València\, 46003
CATEGORIES:València - districte capital
ATTACH;FMTTYPE=image/jpeg:https://familiespelvalencia.org/wp-content/uploads/2025/12/Andrea-Canepa.jpg
ORGANIZER;CN="Institut Valenci%C3%A0 d'Art Modern (IVAM)":MAILTO:ivam@ivam.es
GEO:39.4781991;-0.3833337
X-APPLE-STRUCTURED-LOCATION;VALUE=URI;X-ADDRESS=IVAM Carrer Guillem de Castro 118 València València 46003;X-APPLE-RADIUS=500;X-TITLE=Carrer Guillem de Castro\, 118:geo:-0.3833337,39.4781991
END:VEVENT
BEGIN:VEVENT
DTSTART;TZID=Europe/Paris:20260102T180000
DTEND;TZID=Europe/Paris:20260102T185000
DTSTAMP:20260424T052459
CREATED:20251210T143247Z
LAST-MODIFIED:20251212T184609Z
UID:10000590-1767376800-1767379800@familiespelvalencia.org
SUMMARY:Obra de teatre  DESOBEDIENT
DESCRIPTION:A partir de 5 anys \n50 minuts. \nUna vegada hi havia una xiqueta que es portava tan bé\, tan bé\, tan bé\, que es va oblidar de com es jugava. Una vegada hi havia una xiqueta que es portava tan bé\, tan bé\, tan bé\, que es va oblidar de ser una xiqueta.” \nAixí comença la nostra rondalla que reivindica els drets de la infància\, posant en el centre les necessitats de la xicalla. Els adults entenem socialment la infància com una època sense valor en si mateix\, com un estar en la banqueta de la vida esperant que arribe el moment de ser productiu. \nCom deia Marx\, els interessos de classe són irreconciliables\, i el mateix passa amb els interessos d’adults i xiquets. Mentres un adult projecta el futur dels xiquets\, la naturalesa essencial de les criatures és fer tot allò que més importuna als adults: córrer\, xisclar\, molestar\, entorpir en fi\, el correcte funcionament del sistema adult/capitalista. Perquè el sistema en què vivim\, és contrari en els processos naturals i fisiològics de la pròpia vida. En l’espectacle “Desobedient” qüestionarem tot aquest sistema des de la perspectiva de la infància. \nEquip \n\nCreació i interpretació_Alejandra Mandli\, Claudia Monleón\, Margarida Mateos i Carla Chillida;\nDirecció_Carla Chillida;\nDibuixos_Elias Taño;\nEscenografia i vestuari_Atirohecho;\nMúsica_Carlos Mitrofan;\nIl·luminació_Carla Chillida;\nProducció_Atirohecho
URL:https://familiespelvalencia.org/activitat/obra-de-teatre-desobedient/2026-01-02/
LOCATION:Espai Inestable\, C/ Aparisi i Guijarro\, 7\, València\, L'Horta\, 46003
CATEGORIES:València - districte capital
ATTACH;FMTTYPE=image/png:https://familiespelvalencia.org/wp-content/uploads/2025/12/1000215821.png
GEO:39.475475876514;-0.37201560470369
X-APPLE-STRUCTURED-LOCATION;VALUE=URI;X-ADDRESS=Espai Inestable C/ Aparisi i Guijarro 7 València L'Horta 46003;X-APPLE-RADIUS=500;X-TITLE=C/ Aparisi i Guijarro\, 7:geo:-0.37201560470369,39.475475876514
END:VEVENT
END:VCALENDAR