BEGIN:VCALENDAR
VERSION:2.0
PRODID:-//FAMÍLIES PEL VALENCIÀ - ECPv6.15.20//NONSGML v1.0//EN
CALSCALE:GREGORIAN
METHOD:PUBLISH
X-ORIGINAL-URL:https://familiespelvalencia.org
X-WR-CALDESC:Esdeveniments per FAMÍLIES PEL VALENCIÀ
REFRESH-INTERVAL;VALUE=DURATION:PT1H
X-Robots-Tag:noindex
X-PUBLISHED-TTL:PT1H
BEGIN:VTIMEZONE
TZID:Europe/Paris
BEGIN:DAYLIGHT
TZOFFSETFROM:+0100
TZOFFSETTO:+0200
TZNAME:CEST
DTSTART:20240331T010000
END:DAYLIGHT
BEGIN:STANDARD
TZOFFSETFROM:+0200
TZOFFSETTO:+0100
TZNAME:CET
DTSTART:20241027T010000
END:STANDARD
BEGIN:DAYLIGHT
TZOFFSETFROM:+0100
TZOFFSETTO:+0200
TZNAME:CEST
DTSTART:20250330T010000
END:DAYLIGHT
BEGIN:STANDARD
TZOFFSETFROM:+0200
TZOFFSETTO:+0100
TZNAME:CET
DTSTART:20251026T010000
END:STANDARD
BEGIN:DAYLIGHT
TZOFFSETFROM:+0100
TZOFFSETTO:+0200
TZNAME:CEST
DTSTART:20260329T010000
END:DAYLIGHT
BEGIN:STANDARD
TZOFFSETFROM:+0200
TZOFFSETTO:+0100
TZNAME:CET
DTSTART:20261025T010000
END:STANDARD
END:VTIMEZONE
BEGIN:VEVENT
DTSTART;TZID=Europe/Paris:20251216T173000
DTEND;TZID=Europe/Paris:20251216T183000
DTSTAMP:20260424T054207
CREATED:20251020T152601Z
LAST-MODIFIED:20251214T210406Z
UID:10000154-1765906200-1765909800@familiespelvalencia.org
SUMMARY:Sessions mensuals "Pissiganya"
DESCRIPTION:Pissiganya és un activitat grupal en què pares i mares\, juntament amb els fills\, es reunixen una volta al mes per a jugar i conversar en valencià a partir d’una proposta ludicoartística dinamitzada per Maria Gargallo\, del col·lectiu d’art i educació Massa Salvatge. \nEsta iniciativa s’emmarca dins del projecte Creixent al caliu <www.creixentalcaliu.com>\, del Gabinet de Noramalització Lingüística de l’Ajuntament de València\, a través del qual posen en valor\, promouen i faciliten la transmissió lingüística i la presència social del valencià en la primera infància. Cal inscripció prèvia. \nPodeu inscriure-vos-hi ací: Formulari inscripció \nMés informació: Pissiganya \n 
URL:https://familiespelvalencia.org/activitat/sessions-mensuals-pissiganya-12/
LOCATION:València
CATEGORIES:València - districte capital
ATTACH;FMTTYPE=image/png:https://familiespelvalencia.org/wp-content/uploads/2025/10/20250923-Pissiganya.png
END:VEVENT
BEGIN:VEVENT
DTSTART;TZID=Europe/Paris:20251216T190000
DTEND;TZID=Europe/Paris:20251216T200000
DTSTAMP:20260424T054207
CREATED:20251214T205733Z
LAST-MODIFIED:20251214T210524Z
UID:10000614-1765911600-1765915200@familiespelvalencia.org
SUMMARY:Lectures dramatitzades. Tot esperant el bot
DESCRIPTION:Val i la seua colla han decidit anar al riu a tirar-se des de la pedra grossa: és estiu\, fa calor i tothom ho fa. Per què no havia de fer-ho Val també? Tanmateix\, una vegada damunt de la pedra\, es queda paralitzada\, té por. Tota la gent que hi ha allí\, les persones que han vingut amb ella\, les que ja estaven…\, tothom l’espera. Ha de fer el bot. O no? Al capdavall totes tenim en la nostra història una pedra grossa que ens ha fet dubtar. \nEl programa INÈDITS de l’IVC naix amb la voluntat de secundar i visibilitzar l’autoria valenciana a través de l’assaig i lectura de projectes en estat embrionari perquè puguen ser provats en col·laboració amb directors/es i intèrprets com a agents necessaris per al desenvolupament d’un text i la seua posada en escena. \nA partir de 10 anys \nMés informació i compra d’entrades: Institut Valencià de Cultura
URL:https://familiespelvalencia.org/activitat/lectures-dramatitzades-tot-esperant-el-bot/2025-12-16/
LOCATION:Taetre Rialto\, Plaça de l'Ajuntament\, 17\, València\, L'Horta\, 46002
CATEGORIES:València - districte capital
ATTACH;FMTTYPE=image/jpeg:https://familiespelvalencia.org/wp-content/uploads/2025/12/web_tot-esperant-el-bot.jpg
GEO:39.4709591;-0.3762768
X-APPLE-STRUCTURED-LOCATION;VALUE=URI;X-ADDRESS=Taetre Rialto Plaça de l'Ajuntament 17 València L'Horta 46002;X-APPLE-RADIUS=500;X-TITLE=Plaça de l'Ajuntament\, 17:geo:-0.3762768,39.4709591
END:VEVENT
END:VCALENDAR