BEGIN:VCALENDAR
VERSION:2.0
PRODID:-//FAMÍLIES PEL VALENCIÀ - ECPv6.15.20//NONSGML v1.0//EN
CALSCALE:GREGORIAN
METHOD:PUBLISH
X-WR-CALNAME:FAMÍLIES PEL VALENCIÀ
X-ORIGINAL-URL:https://familiespelvalencia.org
X-WR-CALDESC:Esdeveniments per FAMÍLIES PEL VALENCIÀ
REFRESH-INTERVAL;VALUE=DURATION:PT1H
X-Robots-Tag:noindex
X-PUBLISHED-TTL:PT1H
BEGIN:VTIMEZONE
TZID:Europe/Paris
BEGIN:DAYLIGHT
TZOFFSETFROM:+0100
TZOFFSETTO:+0200
TZNAME:CEST
DTSTART:20240331T010000
END:DAYLIGHT
BEGIN:STANDARD
TZOFFSETFROM:+0200
TZOFFSETTO:+0100
TZNAME:CET
DTSTART:20241027T010000
END:STANDARD
BEGIN:DAYLIGHT
TZOFFSETFROM:+0100
TZOFFSETTO:+0200
TZNAME:CEST
DTSTART:20250330T010000
END:DAYLIGHT
BEGIN:STANDARD
TZOFFSETFROM:+0200
TZOFFSETTO:+0100
TZNAME:CET
DTSTART:20251026T010000
END:STANDARD
BEGIN:DAYLIGHT
TZOFFSETFROM:+0100
TZOFFSETTO:+0200
TZNAME:CEST
DTSTART:20260329T010000
END:DAYLIGHT
BEGIN:STANDARD
TZOFFSETFROM:+0200
TZOFFSETTO:+0100
TZNAME:CET
DTSTART:20261025T010000
END:STANDARD
END:VTIMEZONE
BEGIN:VEVENT
DTSTART;TZID=Europe/Paris:20251214T110000
DTEND;TZID=Europe/Paris:20251214T123000
DTSTAMP:20260424T053907
CREATED:20251211T223505Z
LAST-MODIFIED:20251213T202310Z
UID:10000602-1765710000-1765715400@familiespelvalencia.org
SUMMARY:Obra de teatre Una Faula Nadalenca
DESCRIPTION:  \nA CÀRREC DE: Xana teatre \nIDIOMA: valencià \nSINOPSI: Una entranyable comèdia que té lloc en el màgic bosc de Lapònia durant la Nit de Nadal. Els protagonistes són Ballarina\, una de les rens del Pare Noel\, i el Llop\, una criatura que desafia els prejuís. També hi participen el Pare Noel\, un Oficiant i un Cambrer\, completant este peculiar elenc. \n  \nLa història ens convida a reflexionar sobre com escollim relacionar-nos amb altres persones. Res no està escrit per sempre: els vincles poden transformar-se\, evolucionar i sanar. L’amor es presenta ací com un acte de voluntat\, com el desig profund de comprendre l’altre\, de mirar més enllà de les aparences i d’obrir el cor a la trobada.
URL:https://familiespelvalencia.org/activitat/obra-de-teatre-una-faula-nadalenca/
LOCATION:La Beneficiència\, C/Corona\, 36\, València\, L'Horta\, 46003
CATEGORIES:València - districte capital
ATTACH;FMTTYPE=image/jpeg:https://familiespelvalencia.org/wp-content/uploads/2025/12/1000216269.jpg
GEO:39.4788387;-0.382941
X-APPLE-STRUCTURED-LOCATION;VALUE=URI;X-ADDRESS=La Beneficiència C/Corona 36 València L'Horta 46003;X-APPLE-RADIUS=500;X-TITLE=C/Corona\, 36:geo:-0.382941,39.4788387
END:VEVENT
BEGIN:VEVENT
DTSTART;TZID=Europe/Paris:20251214T113000
DTEND;TZID=Europe/Paris:20251214T123000
DTSTAMP:20260424T053907
CREATED:20251128T085012Z
LAST-MODIFIED:20251201T095108Z
UID:10000498-1765711800-1765715400@familiespelvalencia.org
SUMMARY:En els núvols
DESCRIPTION:“En els núvols” és la història del meu amic. \nEl meu amic de vegades se sent diferent. El meu amics de vegades eixiria volant com un globus i es colaria en l’univers. El meu amic té un amic que és un ¡núvol!. \n“En els núvols” és una obra on les bombolles de sabó es converteixen en titelles i on la imaginació s’apodera de tot. \nHORARIS \n13 de desembre a las 17.30h \n14 de desembre a  las 11.30 h
URL:https://familiespelvalencia.org/activitat/ens-els-nuvols-2/
LOCATION:Ribes Espai Cultural\, Carrer de les Filipines\, 2 (Barri de Russafa)\, València\, L'Horta\, 46004
CATEGORIES:València - districte capital
GEO:39.4582381;-0.3772651
X-APPLE-STRUCTURED-LOCATION;VALUE=URI;X-ADDRESS=Ribes Espai Cultural Carrer de les Filipines 2 (Barri de Russafa) València L'Horta 46004;X-APPLE-RADIUS=500;X-TITLE=Carrer de les Filipines\, 2 (Barri de Russafa):geo:-0.3772651,39.4582381
END:VEVENT
END:VCALENDAR