BEGIN:VCALENDAR
VERSION:2.0
PRODID:-//FAMÍLIES PEL VALENCIÀ - ECPv6.15.20//NONSGML v1.0//EN
CALSCALE:GREGORIAN
METHOD:PUBLISH
X-ORIGINAL-URL:https://familiespelvalencia.org
X-WR-CALDESC:Esdeveniments per FAMÍLIES PEL VALENCIÀ
REFRESH-INTERVAL;VALUE=DURATION:PT1H
X-Robots-Tag:noindex
X-PUBLISHED-TTL:PT1H
BEGIN:VTIMEZONE
TZID:Europe/Paris
BEGIN:DAYLIGHT
TZOFFSETFROM:+0100
TZOFFSETTO:+0200
TZNAME:CEST
DTSTART:20240331T010000
END:DAYLIGHT
BEGIN:STANDARD
TZOFFSETFROM:+0200
TZOFFSETTO:+0100
TZNAME:CET
DTSTART:20241027T010000
END:STANDARD
BEGIN:DAYLIGHT
TZOFFSETFROM:+0100
TZOFFSETTO:+0200
TZNAME:CEST
DTSTART:20250330T010000
END:DAYLIGHT
BEGIN:STANDARD
TZOFFSETFROM:+0200
TZOFFSETTO:+0100
TZNAME:CET
DTSTART:20251026T010000
END:STANDARD
BEGIN:DAYLIGHT
TZOFFSETFROM:+0100
TZOFFSETTO:+0200
TZNAME:CEST
DTSTART:20260329T010000
END:DAYLIGHT
BEGIN:STANDARD
TZOFFSETFROM:+0200
TZOFFSETTO:+0100
TZNAME:CET
DTSTART:20261025T010000
END:STANDARD
END:VTIMEZONE
BEGIN:VEVENT
DTSTART;TZID=Europe/Paris:20251213T120000
DTEND;TZID=Europe/Paris:20251213T130000
DTSTAMP:20260424T054207
CREATED:20251020T152545Z
LAST-MODIFIED:20251126T173110Z
UID:10000150-1765627200-1765630800@familiespelvalencia.org
SUMMARY:Museu en família: Una visiteta a l’IVAM
DESCRIPTION:Visites per a adults amb bebés a les exposicions de l’IVAM. \nUna visiteta a l’IVAM posa el focus en les persones adultes que estan criant i que volen continuar gaudint de propostes d’oci cultural sense renunciar a estar amb els seus bebés. És una resposta de l’IVAM a la necessitat de les mares i pares més fans de visitar museus: una visita comentada per les exposicions més recents\, on s’assistisca en parella adult-bebé. En finalitzar el recorregut\, adaptat en temps al grup\, donarem pas a un moment de descans en la nova Sala Blana de l’IVAM. \nExplorarem les exposicions a través de sessions de mediació artística condicionades especialment per a poder realitzar còmodament la lactància\, alimentació o canvi de bolquers sense interrupció\, ni eixir expressament a espais específics\, mentre es realitza l’activitat. Pauses\, racons de descans\, cuidat de les llums\, els sons i la veu. Tot perquè\, a més de cuidar el contingut\, cuidem el benestar dels bebés\, facilitant que les adultes donen de mamar\, portegen o adormen als nounats durant el recorregut. \nVisita a l’exposició: Habitar les ombres \nMés informació: Institut Valencià d’Art Modern
URL:https://familiespelvalencia.org/activitat/museu-en-familia-una-visiteta-a-livam-4/
LOCATION:IVAM\, Carrer Guillem de Castro\, 118\, València\, València\, 46003
CATEGORIES:València - districte capital
GEO:39.4781991;-0.3833337
X-APPLE-STRUCTURED-LOCATION;VALUE=URI;X-ADDRESS=IVAM Carrer Guillem de Castro 118 València València 46003;X-APPLE-RADIUS=500;X-TITLE=Carrer Guillem de Castro\, 118:geo:-0.3833337,39.4781991
END:VEVENT
BEGIN:VEVENT
DTSTART;TZID=Europe/Paris:20251213T173000
DTEND;TZID=Europe/Paris:20251213T173000
DTSTAMP:20260424T054207
CREATED:20251128T084731Z
LAST-MODIFIED:20251201T095127Z
UID:10000497-1765647000-1765647000@familiespelvalencia.org
SUMMARY:En els núvols
DESCRIPTION:En els núvols” és la història del meu amic. \nEl meu amic de vegades se sent diferent. El meu amics de vegades eixiria volant com un globus i es colaria en l’univers. El meu amic té un amic que és un ¡núvol!. \n“En els núvols” és una obra on les bombolles de sabó es converteixen en titelles i on la imaginació s’apodera de tot. \nHORARIS \n13 de desembre a las 17.30h \n14 de desembre a  las 11.30 h
URL:https://familiespelvalencia.org/activitat/ens-els-nuvols/
LOCATION:Ribes Espai Cultural\, Carrer de les Filipines\, 2 (Barri de Russafa)\, València\, L'Horta\, 46004
CATEGORIES:València - districte capital
ATTACH;FMTTYPE=image/jpeg:https://familiespelvalencia.org/wp-content/uploads/2025/11/en-els-nuvols.jpg
GEO:39.4582381;-0.3772651
X-APPLE-STRUCTURED-LOCATION;VALUE=URI;X-ADDRESS=Ribes Espai Cultural Carrer de les Filipines 2 (Barri de Russafa) València L'Horta 46004;X-APPLE-RADIUS=500;X-TITLE=Carrer de les Filipines\, 2 (Barri de Russafa):geo:-0.3772651,39.4582381
END:VEVENT
BEGIN:VEVENT
DTSTART;TZID=Europe/Paris:20251213T180000
DTEND;TZID=Europe/Paris:20251213T193000
DTSTAMP:20260424T054207
CREATED:20251126T122403Z
LAST-MODIFIED:20251201T095055Z
UID:10000475-1765648800-1765654200@familiespelvalencia.org
SUMMARY:Cinema. Ice Age 3: L’origen dels dinosaures
DESCRIPTION:Ice Age 3 és la tercera part de les emocionants aventures d’en Diego\, l’Scrat i companyia. Aquesta vegada\, l’Scrat continua maldant per apoderar-se de la molt esmunyedissa gla (mentre\, potser\, troba el veritable amor); en Manny i l’Ellie esperen el naixement del seu minimamut; en Sid\, el peresós\, es fica en un bon embolic quan forma de cop i volta una família pròpia després de trobar-se uns ous de dinosaure; i en Diego\, el tigre de dents de sabre\, es pregunta si passar tant de temps amb els seus amics no el fa tornar massa sensible. A fi de salvar l’infortunat Sid\, la colla s’endinsa en un misteriós món subterrani\, on tenen alguns enfrontaments amb dinosaures\, s’enfronten amb una enfurida flora i fauna\, i coneixen una mostela bòrnia i implacable caçadora de dinosaures que es diu Buck. \nAl principi de cada sessió\, l’equip educatiu de CaixaForum presenta la pel·lícula proporcionant les claus bàsiques per interpretar-la i gaudir-la\, i convida el públic assistent a un debat en família després de la projecció. \nGènere: animació\, infantil // Durada: 85 minuts // Edat: a partir de 6 anys \n*Els xiquets i xiquetes han d’anar acompanyats sempre d’un adult\, que també ha de reservar una entrada per a l’activitat
URL:https://familiespelvalencia.org/activitat/cinema-ice-age-3-lorigen-dels-dinosauris/
LOCATION:Caixa Forum\, Ciutat de les Arts i les Ciències\, C/ Eduardo Primo Yúfera\, 1A\, València\, 46013
CATEGORIES:València - districte capital
ATTACH;FMTTYPE=image/webp:https://familiespelvalencia.org/wp-content/uploads/2025/11/Dinosaures.-Petits-cinefils.webp
GEO:39.4538716;-0.3498098
X-APPLE-STRUCTURED-LOCATION;VALUE=URI;X-ADDRESS=Caixa Forum Ciutat de les Arts i les Ciències C/ Eduardo Primo Yúfera 1A València 46013;X-APPLE-RADIUS=500;X-TITLE=Ciutat de les Arts i les Ciències\, C/ Eduardo Primo Yúfera\, 1A:geo:-0.3498098,39.4538716
END:VEVENT
BEGIN:VEVENT
DTSTART;TZID=Europe/Paris:20251213T200000
DTEND;TZID=Europe/Paris:20251213T220000
DTSTAMP:20260424T054207
CREATED:20251212T220821Z
LAST-MODIFIED:20251212T220821Z
UID:10000612-1765656000-1765663200@familiespelvalencia.org
SUMMARY:Concert. Avant
DESCRIPTION:AVANT és un projecte musical jove que aposta per la creativitat i la identitat\, amb un estil fresc que barreja ritmes urbans. Les seues cançons\, connecten amb les inquietuds i l’energia de la generació actual\, amb lletres que parlen de vida quotidiana\, emocions i reivindicació cultural.\nAmb una imatge potent i una presència activa a xarxes socials\, AVANT s’ha convertit en referent. Els seus directes destaquen per la proximitat amb el públic\, la força escènica i un so que convida a ballar i compartir. \nPúblic jove. \nAVANT – NOSALTRES (Video Oficial) \nCompra d’entrades: Ticketic
URL:https://familiespelvalencia.org/activitat/concert-avant/
LOCATION:Aguanile Pub\, carrer del Doctor Vicent Zaragoza\, 42 (Benimaclet)\, València\, L'Horta\, 46020
CATEGORIES:València - districte capital
ATTACH;FMTTYPE=image/jpeg:https://familiespelvalencia.org/wp-content/uploads/2025/12/AVANT-RET.jpg
GEO:39.4839946;-0.3601645
X-APPLE-STRUCTURED-LOCATION;VALUE=URI;X-ADDRESS=Aguanile Pub carrer del Doctor Vicent Zaragoza 42 (Benimaclet) València L'Horta 46020;X-APPLE-RADIUS=500;X-TITLE=carrer del Doctor Vicent Zaragoza\, 42 (Benimaclet):geo:-0.3601645,39.4839946
END:VEVENT
END:VCALENDAR