BEGIN:VCALENDAR
VERSION:2.0
PRODID:-//FAMÍLIES PEL VALENCIÀ - ECPv6.15.20//NONSGML v1.0//EN
CALSCALE:GREGORIAN
METHOD:PUBLISH
X-WR-CALNAME:FAMÍLIES PEL VALENCIÀ
X-ORIGINAL-URL:https://familiespelvalencia.org
X-WR-CALDESC:Esdeveniments per FAMÍLIES PEL VALENCIÀ
REFRESH-INTERVAL;VALUE=DURATION:PT1H
X-Robots-Tag:noindex
X-PUBLISHED-TTL:PT1H
BEGIN:VTIMEZONE
TZID:Europe/Paris
BEGIN:DAYLIGHT
TZOFFSETFROM:+0100
TZOFFSETTO:+0200
TZNAME:CEST
DTSTART:20240331T010000
END:DAYLIGHT
BEGIN:STANDARD
TZOFFSETFROM:+0200
TZOFFSETTO:+0100
TZNAME:CET
DTSTART:20241027T010000
END:STANDARD
BEGIN:DAYLIGHT
TZOFFSETFROM:+0100
TZOFFSETTO:+0200
TZNAME:CEST
DTSTART:20250330T010000
END:DAYLIGHT
BEGIN:STANDARD
TZOFFSETFROM:+0200
TZOFFSETTO:+0100
TZNAME:CET
DTSTART:20251026T010000
END:STANDARD
BEGIN:DAYLIGHT
TZOFFSETFROM:+0100
TZOFFSETTO:+0200
TZNAME:CEST
DTSTART:20260329T010000
END:DAYLIGHT
BEGIN:STANDARD
TZOFFSETFROM:+0200
TZOFFSETTO:+0100
TZNAME:CET
DTSTART:20261025T010000
END:STANDARD
END:VTIMEZONE
BEGIN:VEVENT
DTSTART;TZID=Europe/Paris:20251210T180000
DTEND;TZID=Europe/Paris:20251210T190000
DTSTAMP:20260424T054111
CREATED:20251126T161731Z
LAST-MODIFIED:20251126T170104Z
UID:10000481-1765389600-1765393200@familiespelvalencia.org
SUMMARY:Contacontes: "Ratolinades" d'Eva Andújar
DESCRIPTION:Eva Andújar\, narradora amb més de 20 anys d’experiència\, ens porta un espectacle dinàmic i proper que farà volar la imaginació de grans i menuts. Ideal per a gaudir en família i descobrir el poder de la paraula i la fantasia. \nRatolinades: El ratolí que va eixir del forat del calaix ens va contar\, que dos ratolins i una rata es van barallar per un formatge. Que el gat mandrós segueix mirant a la rateta\, però de moment no es mou. I que el rei lleó\, fart del ratolí sorollós\, S’ho va voler berenar. I tu\, et vols assabentar? \nDurada: 50 minuts \nCal inscripció: Per a inscriure-s’hi cal posar-se en contacte amb la biblioteca. Aforament limitat.
URL:https://familiespelvalencia.org/activitat/contacontes-ratolinades-deva-andujar/
LOCATION:Bibilioteca de Marxalenes-Joanot Martorell\, Carrer Reus\, S/N\, València\, 46009
CATEGORIES:València - districte capital
GEO:39.4857349;-0.3815913
X-APPLE-STRUCTURED-LOCATION;VALUE=URI;X-ADDRESS=Bibilioteca de Marxalenes-Joanot Martorell Carrer Reus S/N València 46009;X-APPLE-RADIUS=500;X-TITLE=Carrer Reus\, S/N:geo:-0.3815913,39.4857349
END:VEVENT
END:VCALENDAR