BEGIN:VCALENDAR
VERSION:2.0
PRODID:-//FAMÍLIES PEL VALENCIÀ - ECPv6.15.20//NONSGML v1.0//EN
CALSCALE:GREGORIAN
METHOD:PUBLISH
X-ORIGINAL-URL:https://familiespelvalencia.org
X-WR-CALDESC:Esdeveniments per FAMÍLIES PEL VALENCIÀ
REFRESH-INTERVAL;VALUE=DURATION:PT1H
X-Robots-Tag:noindex
X-PUBLISHED-TTL:PT1H
BEGIN:VTIMEZONE
TZID:Europe/Paris
BEGIN:DAYLIGHT
TZOFFSETFROM:+0100
TZOFFSETTO:+0200
TZNAME:CEST
DTSTART:20240331T010000
END:DAYLIGHT
BEGIN:STANDARD
TZOFFSETFROM:+0200
TZOFFSETTO:+0100
TZNAME:CET
DTSTART:20241027T010000
END:STANDARD
BEGIN:DAYLIGHT
TZOFFSETFROM:+0100
TZOFFSETTO:+0200
TZNAME:CEST
DTSTART:20250330T010000
END:DAYLIGHT
BEGIN:STANDARD
TZOFFSETFROM:+0200
TZOFFSETTO:+0100
TZNAME:CET
DTSTART:20251026T010000
END:STANDARD
BEGIN:DAYLIGHT
TZOFFSETFROM:+0100
TZOFFSETTO:+0200
TZNAME:CEST
DTSTART:20260329T010000
END:DAYLIGHT
BEGIN:STANDARD
TZOFFSETFROM:+0200
TZOFFSETTO:+0100
TZNAME:CET
DTSTART:20261025T010000
END:STANDARD
END:VTIMEZONE
BEGIN:VEVENT
DTSTART;TZID=Europe/Paris:20251202T173000
DTEND;TZID=Europe/Paris:20251202T183000
DTSTAMP:20260424T053938
CREATED:20251020T152530Z
LAST-MODIFIED:20251126T170026Z
UID:10000145-1764696600-1764700200@familiespelvalencia.org
SUMMARY:Sessions mensuals "Pissiganya"
DESCRIPTION:Pissiganya és un activitat grupal en què pares i mares\, juntament amb els fills\, es reunixen una volta al mes per a jugar i conversar en valencià a partir d’una proposta ludicoartística dinamitzada per Maria Gargallo\, del col·lectiu d’art i educació Massa Salvatge. \nEsta iniciativa s’emmarca dins del projecte Creixent al caliu www.creixentalcaliu.com\, del Gabinet de Noramalització Lingüística de l’Ajuntament de València\, a través del qual posen en valor\, promouen i faciliten la transmissió lingüística i la presència social del valencià en la primera infància. Cal inscripció prèvia. \nPodeu inscriure-vos-hi ací: Formulari inscripció \nMés informació: Pissiganya \n 
URL:https://familiespelvalencia.org/activitat/sessions-mensuals-pissiganya-9/
LOCATION:Biblioteca d’Algirós – María Moliner\, C/ del Serpis\, 9\, (Barri Algirós)\, València\, València\, 46021
CATEGORIES:València - districte capital
GEO:39.4762622;-0.3491807
X-APPLE-STRUCTURED-LOCATION;VALUE=URI;X-ADDRESS=Biblioteca d’Algirós – María Moliner C/ del Serpis 9 (Barri Algirós) València València 46021;X-APPLE-RADIUS=500;X-TITLE=C/ del Serpis\, 9\, (Barri Algirós):geo:-0.3491807,39.4762622
END:VEVENT
BEGIN:VEVENT
DTSTART;TZID=Europe/Paris:20251202T180000
DTEND;TZID=Europe/Paris:20251202T190000
DTSTAMP:20260424T053938
CREATED:20251201T154448Z
LAST-MODIFIED:20251201T154448Z
UID:10000524-1764698400-1764702000@familiespelvalencia.org
SUMMARY:Contacontes. Ratolinades
DESCRIPTION:La màgia dels contes amb Eva Andújar i el seu espectacle Ratolinades\, una proposta plena de tendresa\, humor i imaginació. A través de les històries d’uns ratolins molt especials\, els més menuts descobriran aventures que desperten la curiositat i les ganes de somiar. Un contacontes dinàmic i participatiu\, pensat per a públic familiar\, especialment xiquets i xiquetes\, que combina paraules\, gestos i música per fer volar la imaginació. \n**L’activitat requereix inscripció prèvia. \nMés informació: Biblioteca Arrancapins
URL:https://familiespelvalencia.org/activitat/contacontes-ratolinades/
LOCATION:Biblioteca Pública Municipal d’Arrancapins- Eduard Escalante\, Carrer d'Alberic\, 18 (Barri d'Arrancapins)\, València\, L'Horta\, 46008
CATEGORIES:València - districte capital
ATTACH;FMTTYPE=image/jpeg:https://familiespelvalencia.org/wp-content/uploads/2025/12/eva-andujar.jpeg
GEO:39.4676087;-0.3886402
X-APPLE-STRUCTURED-LOCATION;VALUE=URI;X-ADDRESS=Biblioteca Pública Municipal d’Arrancapins- Eduard Escalante Carrer d'Alberic 18 (Barri d'Arrancapins) València L'Horta 46008;X-APPLE-RADIUS=500;X-TITLE=Carrer d'Alberic\, 18 (Barri d'Arrancapins):geo:-0.3886402,39.4676087
END:VEVENT
END:VCALENDAR