BEGIN:VCALENDAR
VERSION:2.0
PRODID:-//FAMÍLIES PEL VALENCIÀ - ECPv6.15.20//NONSGML v1.0//EN
CALSCALE:GREGORIAN
METHOD:PUBLISH
X-ORIGINAL-URL:https://familiespelvalencia.org
X-WR-CALDESC:Esdeveniments per FAMÍLIES PEL VALENCIÀ
REFRESH-INTERVAL;VALUE=DURATION:PT1H
X-Robots-Tag:noindex
X-PUBLISHED-TTL:PT1H
BEGIN:VTIMEZONE
TZID:Europe/Paris
BEGIN:DAYLIGHT
TZOFFSETFROM:+0100
TZOFFSETTO:+0200
TZNAME:CEST
DTSTART:20240331T010000
END:DAYLIGHT
BEGIN:STANDARD
TZOFFSETFROM:+0200
TZOFFSETTO:+0100
TZNAME:CET
DTSTART:20241027T010000
END:STANDARD
BEGIN:DAYLIGHT
TZOFFSETFROM:+0100
TZOFFSETTO:+0200
TZNAME:CEST
DTSTART:20250330T010000
END:DAYLIGHT
BEGIN:STANDARD
TZOFFSETFROM:+0200
TZOFFSETTO:+0100
TZNAME:CET
DTSTART:20251026T010000
END:STANDARD
BEGIN:DAYLIGHT
TZOFFSETFROM:+0100
TZOFFSETTO:+0200
TZNAME:CEST
DTSTART:20260329T010000
END:DAYLIGHT
BEGIN:STANDARD
TZOFFSETFROM:+0200
TZOFFSETTO:+0100
TZNAME:CET
DTSTART:20261025T010000
END:STANDARD
END:VTIMEZONE
BEGIN:VEVENT
DTSTART;TZID=Europe/Paris:20251126T173000
DTEND;TZID=Europe/Paris:20251126T183000
DTSTAMP:20260424T054112
CREATED:20251020T152530Z
LAST-MODIFIED:20251126T165845Z
UID:10000141-1764178200-1764181800@familiespelvalencia.org
SUMMARY:Sessions mensuals "Pissiganya"
DESCRIPTION:Pissiganya és un activitat grupal en què pares i mares\, juntament amb els fills\, es reuneixen una volta al mes per a jugar i conversar en valencià a partir d’una proposta ludicoartística dinamitzada per Maria Gargallo\, del col·lectiu d’art i educació Massa Salvatge. \nEsta iniciativa s’emmarca dins del projecte Creixent al caliu www.creixentalcaliu.com\, del Gabinet de Normalització Lingüística de l’Ajuntament de València\, a través del qual posen en valor\, promouen i faciliten la transmissió lingüística i la presència social del valencià en la primera infància. Cal inscripció prèvia. \nPodeu inscriure-vos-hi ací: Formulari inscripció \nMés informació: Pissiganya \n 
URL:https://familiespelvalencia.org/activitat/sessions-mensuals-pissiganya-8/
LOCATION:Biblioteca de Sant Marcel·lí  –  Clara Santiró\, C/ de Pius IX\, 2\, (Barri Jesús)\, València\, València\, 46017
CATEGORIES:València - districte capital
GEO:39.447147;-0.3926459
X-APPLE-STRUCTURED-LOCATION;VALUE=URI;X-ADDRESS=Biblioteca de Sant Marcel·lí  –  Clara Santiró C/ de Pius IX 2 (Barri Jesús) València València 46017;X-APPLE-RADIUS=500;X-TITLE=C/ de Pius IX\, 2\, (Barri Jesús):geo:-0.3926459,39.447147
END:VEVENT
BEGIN:VEVENT
DTSTART;TZID=Europe/Paris:20251126T190000
DTEND;TZID=Europe/Paris:20251126T200000
DTSTAMP:20260424T054112
CREATED:20251115T065916Z
LAST-MODIFIED:20251126T165937Z
UID:10000470-1764183600-1764187200@familiespelvalencia.org
SUMMARY:Celebrem els 30 anys de La mestra
DESCRIPTION:Tertúlia amb l’autor del llibre\, Víctor Labrado\, la mestra Marifé Arroyo\, Josep Piera\, escriptor i poeta i Adriana Gil de Famílies pel Valencià.
URL:https://familiespelvalencia.org/activitat/celebrem-els-30-anys-de-la-mestra/
LOCATION:Llibreria Fan Set\, C/Sant Ferran\,12\, València\, L'Horta
CATEGORIES:València - districte capital
ATTACH;FMTTYPE=image/jpeg:https://familiespelvalencia.org/wp-content/uploads/2025/11/4624f9ea-f2fe-427d-9c05-47b15f6a2f79.jpeg
GEO:39.4728088;-0.3765243
X-APPLE-STRUCTURED-LOCATION;VALUE=URI;X-ADDRESS=Llibreria Fan Set C/Sant Ferran12 València L'Horta;X-APPLE-RADIUS=500;X-TITLE=C/Sant Ferran\,12:geo:-0.3765243,39.4728088
END:VEVENT
BEGIN:VEVENT
DTSTART;TZID=Europe/Paris:20251129T120000
DTEND;TZID=Europe/Paris:20251129T130000
DTSTAMP:20260424T054112
CREATED:20251126T115952Z
LAST-MODIFIED:20251127T122702Z
UID:10000474-1764417600-1764421200@familiespelvalencia.org
SUMMARY:Presentació de "Contes en valencià" amb Júlia Cantavella
DESCRIPTION:Vine a descobrir la màgia dels contes en valencià amb Júlia Cantavella\, autora del nou llibre publicat per Drassana. Una sessió de narració oral per a xiquets i xiquetes a partir de 3 anys\, plena d’imaginació\, humor i participació. \nLeolo oferirà exemplars del llibre perquè pugues emportar-te’l dedicat. Una cita ideal per gaudir en família!
URL:https://familiespelvalencia.org/activitat/presentacio-de-contes-en-valencia-amb-julia-cantavella/
LOCATION:Llibreria Leolo\, C/ Túria\, 50 (Extramurs)\, València\, 46008
CATEGORIES:València - districte capital
ATTACH;FMTTYPE=image/jpeg:https://familiespelvalencia.org/wp-content/uploads/2025/11/Contes-en-valencia_Leolo.jpg
GEO:39.4773327;-0.3851576
X-APPLE-STRUCTURED-LOCATION;VALUE=URI;X-ADDRESS=Llibreria Leolo C/ Túria 50 (Extramurs) València 46008;X-APPLE-RADIUS=500;X-TITLE=C/ Túria\, 50 (Extramurs):geo:-0.3851576,39.4773327
END:VEVENT
BEGIN:VEVENT
DTSTART;TZID=Europe/Paris:20251129T170000
DTEND;TZID=Europe/Paris:20251129T193000
DTSTAMP:20260424T054112
CREATED:20251127T215642Z
LAST-MODIFIED:20251127T215806Z
UID:10000494-1764435600-1764444600@familiespelvalencia.org
SUMMARY:Dansa contemporània. Marceline (Doble sessió: 17h i 18:30h)
DESCRIPTION:Marceline fusiona la dansa contemporània i la música barroca (amb un quartet de cordes\, una ballarina i una soprano) en una escenografia poètica i immersiva\, amb abundant tecnologia i participació per a tot tipus de públic\, inclosos bebés i xiquets menuts. Conta la història de Marcelino Orbés\, un pallasso nascut a Espanya que va ser referent per a Charles Chaplin i Buster Keaton. El públic s’asseu a l’escenari\, i es convida adults\, bebés i xiquets a participar activament en l’espectacle. \nCompanyia: La petita malumaluga // Direcció: Eva Vilamitjana y Albert Vilà // Autoria: Eva Vilamitjana y Albert Vilà\nEdat: De 0 a 3 anys // Durada: 40 minuts \nMés informació i compra d’entrades: Escalante
URL:https://familiespelvalencia.org/activitat/dansa-contemporania-marceline-doble-sessio-17h-i-1830h/
LOCATION:Ribes Espai Cultural\, Carrer de les Filipines\, 2 (Barri de Russafa)\, València\, L'Horta\, 46004
CATEGORIES:València - districte capital
ATTACH;FMTTYPE=image/png:https://familiespelvalencia.org/wp-content/uploads/2025/11/Captura-de-pantalla-2025-11-27-225549.png
GEO:39.4582381;-0.3772651
X-APPLE-STRUCTURED-LOCATION;VALUE=URI;X-ADDRESS=Ribes Espai Cultural Carrer de les Filipines 2 (Barri de Russafa) València L'Horta 46004;X-APPLE-RADIUS=500;X-TITLE=Carrer de les Filipines\, 2 (Barri de Russafa):geo:-0.3772651,39.4582381
END:VEVENT
BEGIN:VEVENT
DTSTART;TZID=Europe/Paris:20251129T182000
DTEND;TZID=Europe/Paris:20251129T193000
DTSTAMP:20260424T054112
CREATED:20251128T213515Z
LAST-MODIFIED:20251128T213705Z
UID:10000499-1764440400-1764444600@familiespelvalencia.org
SUMMARY:Cinema. L'Olivia i el terratremol invisible
DESCRIPTION:Olivia\, el seu germà petit Tim i la seua mare Ingrid són expulsats de casa i han de començar de zero a un altre barri. Mentre Ingrid fa malabars per resoldre la situació\, Olivia s’inventa una fantasia protectora per al seu germà i per a ella: tot allò que viuen no és real\, estan rodant una pel·lícula. \nDirectora: Irene Iborra\nDurada: 70 min. \nCinema Familiar \nMés informació i compra d’entrades: Cines Babel \nTràiler oficial
URL:https://familiespelvalencia.org/activitat/cinema-lolivia-i-el-terratremol-invisible/
LOCATION:Cines Babel\, Carrer de Vicent Sancho Tello\, 10\, (Barri de Mestalla)\, València\, L'Horta\, 46021
CATEGORIES:València - districte capital
ATTACH;FMTTYPE=image/webp:https://familiespelvalencia.org/wp-content/uploads/2025/11/lOlivia.webp
GEO:39.4697007;-0.3572393
X-APPLE-STRUCTURED-LOCATION;VALUE=URI;X-ADDRESS=Cines Babel Carrer de Vicent Sancho Tello 10 (Barri de Mestalla) València L'Horta 46021;X-APPLE-RADIUS=500;X-TITLE=Carrer de Vicent Sancho Tello\, 10\, (Barri de Mestalla):geo:-0.3572393,39.4697007
END:VEVENT
BEGIN:VEVENT
DTSTART;TZID=Europe/Paris:20251130T110000
DTEND;TZID=Europe/Paris:20251130T120000
DTSTAMP:20260424T054112
CREATED:20251020T152530Z
LAST-MODIFIED:20251127T094153Z
UID:10000143-1764500400-1764504000@familiespelvalencia.org
SUMMARY:Teatre / Titelles: Elmer\, l'elefant multicolor (Doble sessió: 11h i 12.30h)
DESCRIPTION:Cia. Tutatis (Catalunya) \nHoraris:\n– 11:00h\n– 12.30h \nDurada: 50 min / Edat: Públic Familiar a partir de 3 anys \nSinopsi\n\nElmer\, és un elefant gens avorrit. A diferència dels seus amics\, ell és multicolor. Aquest clàssic infantil creat per David Mckee\, que va vendre més de 8 milions d’exemplars i s’ha traduït a més de 50 llengües\, explica la història d’aquest elefant i el seu dia a dia\, en un món on tots els seus amics són de color “elefant”. Un espectacle on el convencional queda de costat i on s’ensenya la importància de ser un mateix\, transmetent valors positius tan importants com el respecte\, l’acceptació i la diversitat. \nMés informació i venda d’entrades: L’Horta Teatre\nVídeo promocional: Elmer\, l’elefant multicolor
URL:https://familiespelvalencia.org/activitat/teatre-titelles-elmer-lelefant-multicolor-doble-sessio-11h-i-12-30h-2/
LOCATION:Sala L’Horta\, Carrer Sant Martí de Porres\, 17 (Poblats del Sud)\, Castellar-L'Oliveral.- València\, L'Horta\, 46026
CATEGORIES:València - districte capital
ATTACH;FMTTYPE=image/jpeg:https://familiespelvalencia.org/wp-content/uploads/2025/10/Elmer.jpg
GEO:39.4247911;-0.3653518
X-APPLE-STRUCTURED-LOCATION;VALUE=URI;X-ADDRESS=Sala L’Horta Carrer Sant Martí de Porres 17 (Poblats del Sud) Castellar-L'Oliveral.- València L'Horta 46026;X-APPLE-RADIUS=500;X-TITLE=Carrer Sant Martí de Porres\, 17 (Poblats del Sud):geo:-0.3653518,39.4247911
END:VEVENT
BEGIN:VEVENT
DTSTART;TZID=Europe/Paris:20251130T110000
DTEND;TZID=Europe/Paris:20251130T120000
DTSTAMP:20260424T054112
CREATED:20251020T152530Z
LAST-MODIFIED:20251126T165818Z
UID:10000144-1764500400-1764504000@familiespelvalencia.org
SUMMARY:Museu en família: Una visiteta a l’IVAM
DESCRIPTION:Visites per a adults amb bebés a les exposicions de l’IVAM. \nUna visiteta a l’IVAM posa el focus en les persones adultes que estan criant i que volen continuar gaudint de propostes d’oci cultural sense renunciar a estar amb els seus bebés. És una resposta de l’IVAM a la necessitat de les mares i pares més fans de visitar museus: una visita comentada per les exposicions més recents\, on s’assistisca en parella adult-bebé. En finalitzar el recorregut\, adaptat en temps al grup\, donarem pas a un moment de descans en la nova Sala Blana de l’IVAM. \nExplorarem les exposicions a través de sessions de mediació artística condicionades especialment per a poder realitzar còmodament la lactància\, alimentació o canvi de bolquers sense interrupció\, ni eixir expressament a espais específics\, mentre es realitza l’activitat. Pauses\, racons de descans\, cuidat de les llums\, els sons i la veu. Tot perquè\, a més de cuidar el contingut\, cuidem el benestar dels bebés\, facilitant que les adultes donen de mamar\, portegen o adormen als nounats durant el recorregut.\nVisita a l’exposició: Atreverse a más \nMés informació: Institut Valencià d’Art Modern
URL:https://familiespelvalencia.org/activitat/museu-en-familia-una-visiteta-a-livam-3/
LOCATION:IVAM\, Carrer Guillem de Castro\, 118\, València\, València\, 46003
CATEGORIES:València - districte capital
GEO:39.4781991;-0.3833337
X-APPLE-STRUCTURED-LOCATION;VALUE=URI;X-ADDRESS=IVAM Carrer Guillem de Castro 118 València València 46003;X-APPLE-RADIUS=500;X-TITLE=Carrer Guillem de Castro\, 118:geo:-0.3833337,39.4781991
END:VEVENT
BEGIN:VEVENT
DTSTART;TZID=Europe/Paris:20251130T110000
DTEND;TZID=Europe/Paris:20251130T130000
DTSTAMP:20260424T054112
CREATED:20251127T215742Z
LAST-MODIFIED:20251127T215816Z
UID:10000495-1764500400-1764507600@familiespelvalencia.org
SUMMARY:Dansa contemporània. Marceline (Doble sessió: 11h i 12:30h)
DESCRIPTION:Marceline fusiona la dansa contemporània i la música barroca (amb un quartet de cordes\, una ballarina i una soprano) en una escenografia poètica i immersiva\, amb abundant tecnologia i participació per a tot tipus de públic\, inclosos bebés i xiquets menuts. Conta la història de Marcelino Orbés\, un pallasso nascut a Espanya que va ser referent per a Charles Chaplin i Buster Keaton. El públic s’asseu a l’escenari\, i es convida adults\, bebés i xiquets a participar activament en l’espectacle. \nCompanyia: La petita malumaluga // Direcció: Eva Vilamitjana y Albert Vilà // Autoria: Eva Vilamitjana y Albert Vilà\nEdat: De 0 a 3 anys // Durada: 40 minuts \nMés informació i compra d’entrades: Escalante
URL:https://familiespelvalencia.org/activitat/dansa-contemporania-marceline-doble-sessio-11h-i-1230h/
LOCATION:Ribes Espai Cultural\, Carrer de les Filipines\, 2 (Barri de Russafa)\, València\, L'Horta\, 46004
CATEGORIES:València - districte capital
ATTACH;FMTTYPE=image/png:https://familiespelvalencia.org/wp-content/uploads/2025/11/Captura-de-pantalla-2025-11-27-225549.png
GEO:39.4582381;-0.3772651
X-APPLE-STRUCTURED-LOCATION;VALUE=URI;X-ADDRESS=Ribes Espai Cultural Carrer de les Filipines 2 (Barri de Russafa) València L'Horta 46004;X-APPLE-RADIUS=500;X-TITLE=Carrer de les Filipines\, 2 (Barri de Russafa):geo:-0.3772651,39.4582381
END:VEVENT
BEGIN:VEVENT
DTSTART;TZID=Europe/Paris:20251130T182000
DTEND;TZID=Europe/Paris:20251130T193000
DTSTAMP:20260424T054112
CREATED:20251128T213603Z
LAST-MODIFIED:20251128T213716Z
UID:10000500-1764526800-1764531000@familiespelvalencia.org
SUMMARY:Cinema. L'Olivia i el terratremol invisible
DESCRIPTION:Olivia\, el seu germà petit Tim i la seua mare Ingrid són expulsats de casa i han de començar de zero a un altre barri. Mentre Ingrid fa malabars per resoldre la situació\, Olivia s’inventa una fantasia protectora per al seu germà i per a ella: tot allò que viuen no és real\, estan rodant una pel·lícula. \nDirectora: Irene Iborra\nDurada: 70 min. \nCinema Familiar \nMés informació i compra d’entrades: Cines Babel \nTràiler oficial
URL:https://familiespelvalencia.org/activitat/cinema-lolivia-i-el-terratremol-invisible-2/
LOCATION:Cines Babel\, Carrer de Vicent Sancho Tello\, 10\, (Barri de Mestalla)\, València\, L'Horta\, 46021
CATEGORIES:València - districte capital
ATTACH;FMTTYPE=image/webp:https://familiespelvalencia.org/wp-content/uploads/2025/11/lOlivia.webp
GEO:39.4697007;-0.3572393
X-APPLE-STRUCTURED-LOCATION;VALUE=URI;X-ADDRESS=Cines Babel Carrer de Vicent Sancho Tello 10 (Barri de Mestalla) València L'Horta 46021;X-APPLE-RADIUS=500;X-TITLE=Carrer de Vicent Sancho Tello\, 10\, (Barri de Mestalla):geo:-0.3572393,39.4697007
END:VEVENT
END:VCALENDAR