BEGIN:VCALENDAR
VERSION:2.0
PRODID:-//FAMÍLIES PEL VALENCIÀ - ECPv6.15.20//NONSGML v1.0//EN
CALSCALE:GREGORIAN
METHOD:PUBLISH
X-WR-CALNAME:FAMÍLIES PEL VALENCIÀ
X-ORIGINAL-URL:https://familiespelvalencia.org
X-WR-CALDESC:Esdeveniments per FAMÍLIES PEL VALENCIÀ
REFRESH-INTERVAL;VALUE=DURATION:PT1H
X-Robots-Tag:noindex
X-PUBLISHED-TTL:PT1H
BEGIN:VTIMEZONE
TZID:Europe/Paris
BEGIN:DAYLIGHT
TZOFFSETFROM:+0100
TZOFFSETTO:+0200
TZNAME:CEST
DTSTART:20250330T010000
END:DAYLIGHT
BEGIN:STANDARD
TZOFFSETFROM:+0200
TZOFFSETTO:+0100
TZNAME:CET
DTSTART:20251026T010000
END:STANDARD
BEGIN:DAYLIGHT
TZOFFSETFROM:+0100
TZOFFSETTO:+0200
TZNAME:CEST
DTSTART:20260329T010000
END:DAYLIGHT
BEGIN:STANDARD
TZOFFSETFROM:+0200
TZOFFSETTO:+0100
TZNAME:CET
DTSTART:20261025T010000
END:STANDARD
BEGIN:DAYLIGHT
TZOFFSETFROM:+0100
TZOFFSETTO:+0200
TZNAME:CEST
DTSTART:20270328T010000
END:DAYLIGHT
BEGIN:STANDARD
TZOFFSETFROM:+0200
TZOFFSETTO:+0100
TZNAME:CET
DTSTART:20271031T010000
END:STANDARD
END:VTIMEZONE
BEGIN:VEVENT
DTSTART;TZID=Europe/Paris:20260421T173000
DTEND;TZID=Europe/Paris:20260421T183000
DTSTAMP:20260424T042224
CREATED:20260414T144143Z
LAST-MODIFIED:20260414T144143Z
UID:10001217-1776792600-1776796200@familiespelvalencia.org
SUMMARY:Bebeteca. La Bebeteca musical de Pepot
DESCRIPTION:Una activitat pensada per als més menuts! La Bebeteca musical de Pepot és una experiència sensorial i musical adreçada a bebés i xiquets de 1 a 36 mesos\, on la música es converteix en un joc compartit amb les famílies. Sons\, ritmes i cançons per despertar la curiositat i gaudir junts d’un moment especial. \n👉 Places limitades. Podrà accedir una adult acompanyant a la criatura.\n✅ Cal inscripció prèvia en l’Agència de Lectura de Museros. \nMés informació: Ajuntament de Museros
URL:https://familiespelvalencia.org/activitat/bebeteca-la-bebeteca-musical-de-pepot-3/
LOCATION:Agència de Lectura Municipal Museros\, Carrer de les Escoles Velles\, 1\, Museros\, L'Horta\, 46136\, Spain
CATEGORIES:Comarques Túria–Xúquer
ATTACH;FMTTYPE=image/jpeg:https://familiespelvalencia.org/wp-content/uploads/2026/04/Bebeteca-Pepot.jpg
GEO:39.5639725;-0.3407994
X-APPLE-STRUCTURED-LOCATION;VALUE=URI;X-ADDRESS=Agència de Lectura Municipal Museros Carrer de les Escoles Velles 1 Museros L'Horta 46136 Spain;X-APPLE-RADIUS=500;X-TITLE=Carrer de les Escoles Velles\, 1:geo:-0.3407994,39.5639725
END:VEVENT
BEGIN:VEVENT
DTSTART;TZID=Europe/Paris:20260423T173000
DTEND;TZID=Europe/Paris:20260423T183000
DTSTAMP:20260424T042224
CREATED:20260414T145715Z
LAST-MODIFIED:20260414T145715Z
UID:10001219-1776965400-1776969000@familiespelvalencia.org
SUMMARY:Contacontes. La piruleta pallassa\, què passa? I menys'guasa'!
DESCRIPTION:Dins de la programació de la Setmana del Llibre de Museros (del 17 al 26 d’abril)\, el 23 d’abril la Casa de la Cultura acollirà una proposta pensada especialment per al públic infantil i familiar: una sessió de contacontes plena d’imaginació\, humor i gust per la lectura. \nMés informació: Ajuntament de Museros
URL:https://familiespelvalencia.org/activitat/contacontes-la-piruleta-pallassa-que-passa-i-menysguasa/
LOCATION:Agència de Lectura Municipal Museros\, Carrer de les Escoles Velles\, 1\, Museros\, L'Horta\, 46136\, Spain
CATEGORIES:Comarques Túria–Xúquer
ATTACH;FMTTYPE=image/jpeg:https://familiespelvalencia.org/wp-content/uploads/2026/04/a-mother-and-daughter-sit-on-the-floor-engaged-in-reading-a-colorful-childrens-book.-8301231-scaled.jpg
GEO:39.5639725;-0.3407994
X-APPLE-STRUCTURED-LOCATION;VALUE=URI;X-ADDRESS=Agència de Lectura Municipal Museros Carrer de les Escoles Velles 1 Museros L'Horta 46136 Spain;X-APPLE-RADIUS=500;X-TITLE=Carrer de les Escoles Velles\, 1:geo:-0.3407994,39.5639725
END:VEVENT
BEGIN:VEVENT
DTSTART;TZID=Europe/Paris:20260423T173000
DTEND;TZID=Europe/Paris:20260423T190000
DTSTAMP:20260424T042224
CREATED:20260423T100813Z
LAST-MODIFIED:20260423T100813Z
UID:10001246-1776965400-1776970800@familiespelvalencia.org
SUMMARY:Contacontes amb Kummerlin
DESCRIPTION:Aforament limitat. Cal arreplegar entrada a la biblioteca
URL:https://familiespelvalencia.org/activitat/contacontes-amb-kummerlin/
LOCATION:Biblioteca Municipal de Sueca\, Plaça Molins de la Vila\, 9\, Sueca\, Ribera Baixa\, 46410
CATEGORIES:Comarques Túria–Xúquer
ATTACH;FMTTYPE=image/jpeg:https://familiespelvalencia.org/wp-content/uploads/2026/04/kUMERLIN.jpg
GEO:39.2031523;-0.315036
X-APPLE-STRUCTURED-LOCATION;VALUE=URI;X-ADDRESS=Biblioteca Municipal de Sueca Plaça Molins de la Vila 9 Sueca Ribera Baixa 46410;X-APPLE-RADIUS=500;X-TITLE=Plaça Molins de la Vila\, 9:geo:-0.315036,39.2031523
END:VEVENT
BEGIN:VEVENT
DTSTART;TZID=Europe/Paris:20260423T180000
DTEND;TZID=Europe/Paris:20260423T190000
DTSTAMP:20260424T042224
CREATED:20260402T072633Z
LAST-MODIFIED:20260402T072733Z
UID:10001179-1776967200-1776970800@familiespelvalencia.org
SUMMARY:Contacontes + Taller. "No polses el botó... o sí"
DESCRIPTION:Una activitat especial conduïda per Alba Polit\, mestra\, especialista en Audició i Llenguatge\, psicopedagoga i doctoranda en Intel·ligències socioemocionals\, que farà d’este conte una experiència participativa\, emocionant i plena d’imaginació. \nEscoltar\, crear\, gaudir i somiar. T’animes?
URL:https://familiespelvalencia.org/activitat/contacontes-taller-no-polses-el-boto-o-si/
LOCATION:Biblioteca Pública Municipal Ramon Guillem.- Catarroja\, C/ Esteve Paluzié\, núm. 2\, Catarroja\, L'Horta\, 46470
CATEGORIES:Comarques Túria–Xúquer
ATTACH;FMTTYPE=image/png:https://familiespelvalencia.org/wp-content/uploads/2026/04/No-polses-el-boto.png
GEO:39.4016258;-0.4042765
X-APPLE-STRUCTURED-LOCATION;VALUE=URI;X-ADDRESS=Biblioteca Pública Municipal Ramon Guillem.- Catarroja C/ Esteve Paluzié núm. 2 Catarroja L'Horta 46470;X-APPLE-RADIUS=500;X-TITLE=C/ Esteve Paluzié\, núm. 2:geo:-0.4042765,39.4016258
END:VEVENT
BEGIN:VEVENT
DTSTART;TZID=Europe/Paris:20260424T203000
DTEND;TZID=Europe/Paris:20260424T235900
DTSTAMP:20260424T042224
CREATED:20260331T152224Z
LAST-MODIFIED:20260402T115651Z
UID:10001164-1777062600-1777075140@familiespelvalencia.org
SUMMARY:Concert: La Gossa Sorda. Minigira "a Tornallom"
DESCRIPTION:🎶 La Gossa Sorda torna amb “a TORNALLOM”📅 El 24 i 25 d’abril\, Picassent acollirà el retorn d’una de les bandes més influents i estimades de la música en valencià: La Gossa Sorda. Amb una trajectòria que ha marcat generacions i ha posat banda sonora a les lluites socials del nostre país\, el grup inicia una minigira de tres dates sota el nom “A Tornallom”\, que també passarà per Palma (2 de maig\, Felanitx) i Cunit (23 de maig).🔧 Fidels als seus valors\, la banda aposta per un format autogestionat\, allunyat dels grans festivals. En aquesta línia\, la gira servirà per activar col·laboracions amb entitats cíviques i causes socials.💛 Al concert de Picassent\, es proposarà una microdonació d’1 euro per entrada per a Famílies pel Valencià\, que Caixa Popular igualarà amb un altre euro. Una manera directa de donar suport a la llengua i a les iniciatives que la defensen.🔥 No et quedes fora: vine a Picassent i forma part del retorn d’una banda que ha fet història i que torna per seguir transformant-la!Més informació:  La Gossa SordaENTRADES EXHAURIDES \nObertura portes: 19.30h
URL:https://familiespelvalencia.org/activitat/concert-la-gossa-sorda-minigira-a-tornallom-3/
LOCATION:Centre multiactivitats de Picassent\, Carrer Clara Campoamor s/n\, Picassent\, València\, 46220\, Spain
CATEGORIES:Comarques Túria–Xúquer
ATTACH;FMTTYPE=image/jpeg:https://familiespelvalencia.org/wp-content/uploads/2026/03/la-gossa-24.jpg
GEO:39.3670681;-0.4611044
X-APPLE-STRUCTURED-LOCATION;VALUE=URI;X-ADDRESS=Centre multiactivitats de Picassent Carrer Clara Campoamor s/n Picassent València 46220 Spain;X-APPLE-RADIUS=500;X-TITLE=Carrer Clara Campoamor s/n:geo:-0.4611044,39.3670681
END:VEVENT
BEGIN:VEVENT
DTSTART;TZID=Europe/Paris:20260425T110000
DTEND;TZID=Europe/Paris:20260425T123000
DTSTAMP:20260424T042224
CREATED:20260405T211914Z
LAST-MODIFIED:20260417T203228Z
UID:10001195-1777114800-1777120200@familiespelvalencia.org
SUMMARY:Jornada 25 d'abril. Fira d'entitats\, Concert de Trobadorets\, Contacontes i altres activitats.
DESCRIPTION:Trobadorets farà vibrar Paiporta dins dels actes del 25 d’abril\, amb Anem de festa: un espectacle alegre i participatiu que farà cantar i ballar la menudalla i les seues famílies\, omplint el poble de música i bon humor.
URL:https://familiespelvalencia.org/activitat/concert-de-trobadorets-8/
LOCATION:Museu de la Rajoleria\, Carrer Enrique Reig\, 3\, Paiporta\, Horta Sud\, 46200
CATEGORIES:Comarques Túria–Xúquer
ATTACH;FMTTYPE=image/webp:https://familiespelvalencia.org/wp-content/uploads/2026/04/191758c3-0ea4-49db-b08d-d95bc46fd2eb.webp
GEO:39.4287524;-0.4186571
X-APPLE-STRUCTURED-LOCATION;VALUE=URI;X-ADDRESS=Museu de la Rajoleria Carrer Enrique Reig 3 Paiporta Horta Sud 46200;X-APPLE-RADIUS=500;X-TITLE=Carrer Enrique Reig\, 3:geo:-0.4186571,39.4287524
END:VEVENT
BEGIN:VEVENT
DTSTART;TZID=Europe/Paris:20260425T203000
DTEND;TZID=Europe/Paris:20260425T235900
DTSTAMP:20260424T042224
CREATED:20260331T151738Z
LAST-MODIFIED:20260402T115713Z
UID:10001163-1777149000-1777161540@familiespelvalencia.org
SUMMARY:Concert: La Gossa Sorda. Minigira "a Tornallom"
DESCRIPTION:🎶 La Gossa Sorda torna amb “a TORNALLOM”📅 El 24 i 25 d’abril\, Picassent acollirà el retorn d’una de les bandes més influents i estimades de la música en valencià: La Gossa Sorda. Amb una trajectòria que ha marcat generacions i ha posat banda sonora a les lluites socials del nostre país\, el grup inicia una minigira de tres dates sota el nom “A Tornallom”\, que també passarà per Palma (2 de maig\, Felanitx) i Cunit (23 de maig).🔧 Fidels als seus valors\, la banda aposta per un format autogestionat\, allunyat dels grans festivals. En aquesta línia\, la gira servirà per activar col·laboracions amb entitats cíviques i causes socials.💛 Al concert de Picassent\, es proposarà una microdonació d’1 euro per entrada per a Famílies pel Valencià\, que Caixa Popular igualarà amb un altre euro. Una manera directa de donar suport a la llengua i a les iniciatives que la defensen.🔥 No et quedes fora: vine a Picassent i forma part del retorn d’una banda que ha fet història i que torna per seguir transformant-la!Més informació:  La Gossa SordaENTRADES EXHAURIDES \nObertura portes: 20.30h
URL:https://familiespelvalencia.org/activitat/concert-la-gossa-sorda-minigira-a-tornallom-2/
LOCATION:Centre multiactivitats de Picassent\, Carrer Clara Campoamor s/n\, Picassent\, València\, 46220\, Spain
CATEGORIES:Comarques Túria–Xúquer
ATTACH;FMTTYPE=image/jpeg:https://familiespelvalencia.org/wp-content/uploads/2026/03/la-gossa-25.jpg
GEO:39.3670681;-0.4611044
X-APPLE-STRUCTURED-LOCATION;VALUE=URI;X-ADDRESS=Centre multiactivitats de Picassent Carrer Clara Campoamor s/n Picassent València 46220 Spain;X-APPLE-RADIUS=500;X-TITLE=Carrer Clara Campoamor s/n:geo:-0.4611044,39.3670681
END:VEVENT
BEGIN:VEVENT
DTSTART;TZID=Europe/Paris:20260426T090000
DTEND;TZID=Europe/Paris:20260426T170000
DTSTAMP:20260424T042224
CREATED:20260217T210158Z
LAST-MODIFIED:20260217T210158Z
UID:10000974-1777194000-1777222800@familiespelvalencia.org
SUMMARY:Trobades 2026 – L’Horta Nord – Infantil i Primària
DESCRIPTION:La 39a edició de les Trobades d’Escola valenciana de l’Horta Nord se celebrarà el 26 d’abril a Massalfassar\, una localitat que fins ara no havia acollit mai aquesta festa educativa i reivindicativa. Amb la seua incorporació\, el municipi s’uneix a una celebració comarcal que any rere any connecta escoles\, alumnat\, famílies\, mestres i entitats compromeses amb la llengua i l’educació en valencià. \nVideo: Trobada Massalfassar 2026 (Coordinadora pel valencia Horta Nord)
URL:https://familiespelvalencia.org/activitat/trobades-2026-lhorta-nord-infantil-i-primaria/
LOCATION:C.E.I.P. SANT LLORENÇ MÀRTIR\, Carrer progrés\, 27\, Massalfassar\, L'Horta\, 46560
CATEGORIES:Comarques Túria–Xúquer
ATTACH;FMTTYPE=image/jpeg:https://familiespelvalencia.org/wp-content/uploads/2026/02/Trobades-2026.jpg
GEO:39.5597886;-0.3264791
X-APPLE-STRUCTURED-LOCATION;VALUE=URI;X-ADDRESS=C.E.I.P. SANT LLORENÇ MÀRTIR Carrer progrés 27 Massalfassar L'Horta 46560;X-APPLE-RADIUS=500;X-TITLE=Carrer progrés\, 27:geo:-0.3264791,39.5597886
END:VEVENT
BEGIN:VEVENT
DTSTART;TZID=Europe/Paris:20260426T120000
DTEND;TZID=Europe/Paris:20260426T130000
DTSTAMP:20260424T042224
CREATED:20260407T134115Z
LAST-MODIFIED:20260407T135111Z
UID:10001205-1777204800-1777208400@familiespelvalencia.org
SUMMARY:Teatre. On estan els monstres?
DESCRIPTION:Abans\, a Maria li feia por la foscor… i els trons i la profe de mates… fins i tot els monstres! Un dia\, va conèixer el món de les espantacriatures i se’n va fer amiga. Maria s’ha d’endinsar en el món de la por\, la tristesa i la ràbia per vèncer la bruixa dolenta i trobar els monstres perduts. El Butoni\, la Bubota i el Banyeta necessiten la vostra ajuda! Disparatario cia. us convida a gaudir d’un viatge ple d’aventures i màgia\, amb la participació del públic. Contacontes\, màgia\, titelles i animació. \nDurada 50 minuts \nMés informació i venda d’entrades: Casa de la Cultura de Museros \nAvanç en vídeo: On estan els monstres? 
URL:https://familiespelvalencia.org/activitat/7914/
LOCATION:Casa de la Cultura de Museros\, Avinguda País Valencià\, 17\, Museros\, 46136
CATEGORIES:Comarques Túria–Xúquer
ATTACH;FMTTYPE=image/jpeg:https://familiespelvalencia.org/wp-content/uploads/2026/04/On-estan-els-monstres.jpg
GEO:39.5631141;-0.3430851
X-APPLE-STRUCTURED-LOCATION;VALUE=URI;X-ADDRESS=Casa de la Cultura de Museros Avinguda País Valencià 17 Museros 46136;X-APPLE-RADIUS=500;X-TITLE=Avinguda País Valencià\, 17:geo:-0.3430851,39.5631141
END:VEVENT
END:VCALENDAR