BEGIN:VCALENDAR
VERSION:2.0
PRODID:-//FAMÍLIES PEL VALENCIÀ - ECPv6.15.20//NONSGML v1.0//EN
CALSCALE:GREGORIAN
METHOD:PUBLISH
X-WR-CALNAME:FAMÍLIES PEL VALENCIÀ
X-ORIGINAL-URL:https://familiespelvalencia.org
X-WR-CALDESC:Esdeveniments per FAMÍLIES PEL VALENCIÀ
REFRESH-INTERVAL;VALUE=DURATION:PT1H
X-Robots-Tag:noindex
X-PUBLISHED-TTL:PT1H
BEGIN:VTIMEZONE
TZID:Europe/Paris
BEGIN:DAYLIGHT
TZOFFSETFROM:+0100
TZOFFSETTO:+0200
TZNAME:CEST
DTSTART:20250330T010000
END:DAYLIGHT
BEGIN:STANDARD
TZOFFSETFROM:+0200
TZOFFSETTO:+0100
TZNAME:CET
DTSTART:20251026T010000
END:STANDARD
BEGIN:DAYLIGHT
TZOFFSETFROM:+0100
TZOFFSETTO:+0200
TZNAME:CEST
DTSTART:20260329T010000
END:DAYLIGHT
BEGIN:STANDARD
TZOFFSETFROM:+0200
TZOFFSETTO:+0100
TZNAME:CET
DTSTART:20261025T010000
END:STANDARD
BEGIN:DAYLIGHT
TZOFFSETFROM:+0100
TZOFFSETTO:+0200
TZNAME:CEST
DTSTART:20270328T010000
END:DAYLIGHT
BEGIN:STANDARD
TZOFFSETFROM:+0200
TZOFFSETTO:+0100
TZNAME:CET
DTSTART:20271031T010000
END:STANDARD
END:VTIMEZONE
BEGIN:VEVENT
DTSTART;TZID=Europe/Paris:20260410T190000
DTEND;TZID=Europe/Paris:20260410T200000
DTSTAMP:20260424T040002
CREATED:20260402T112412Z
LAST-MODIFIED:20260402T112911Z
UID:10001181-1775847600-1775851200@familiespelvalencia.org
SUMMARY:Teatre. Fabulant
DESCRIPTION:Cia. JM Gestión Cultural \nJoan i Greta\, dos germans de tretze i huit anys respectivament\, queden tancats en un teatre durant una visita guiada. De sobte\, es troben amb Jacobo i Guillem\, altres dos germans que també estan perduts. Molt prompte descobriran que les dues parelles de germans comparteixen el mateix espai i els mateixos problemes\, però provenen d’èpoques molt separades: més de dos segles de diferència! A partir d’eixe moment\, entendran que la millor manera de solucionar els problemes en comú és unir forces i utilitzar la imaginació com la millor de les eines. Potser no siga massa tard per adonar-se que\, malgrat les diferències\, els uneixen moltes coses. Un espectacle musical divertit\, sorprenent i que emocionarà menuts i grans! \nLa vida és com un conte. No permetes que ningú l’escriga per tu. \nDurada 60 min // Pensada per a públic infantil a partir de 4 anys \nVenda d’entrades online: Web municipal i APP. | Venda presencial d’entrades: Departament de Cultura (Plaça Major\, 11 pta. 2) en horari de 10.00 a 13.30 hores\, i en la finestreta del teatre des d’una hora abans de la funció.
URL:https://familiespelvalencia.org/activitat/teatre-fabulant-4/
LOCATION:Teatre de la Llar de les Persones Majors.- Llíria\, C/ Sant Francesc\, 38\, Llíria\, Camp de Túria\, 46160
CATEGORIES:Comarques Túria–Xúquer
ATTACH;FMTTYPE=image/jpeg:https://familiespelvalencia.org/wp-content/uploads/2026/04/fabulant-Lliria.jpg
GEO:39.6282981;-0.5992892
X-APPLE-STRUCTURED-LOCATION;VALUE=URI;X-ADDRESS=Teatre de la Llar de les Persones Majors.- Llíria C/ Sant Francesc 38 Llíria Camp de Túria 46160;X-APPLE-RADIUS=500;X-TITLE=C/ Sant Francesc\, 38:geo:-0.5992892,39.6282981
END:VEVENT
BEGIN:VEVENT
DTSTART;TZID=Europe/Paris:20260411T180000
DTEND;TZID=Europe/Paris:20260411T213000
DTSTAMP:20260424T040002
CREATED:20260401T084534Z
LAST-MODIFIED:20260401T113959Z
UID:10001178-1775930400-1775943000@familiespelvalencia.org
SUMMARY:Concert. Bèrnia + La Trocamba Matanusca
DESCRIPTION:Una vetlada plena d’energia amb dos grups que fan vibrar la nostra música amb personalitat i força. Talent de casa\, bon ambient i directes que no et pots perdre. Vine\, canta i balla la nostra  música! \nEl concert de Bèrnia i La Trocamba Matanusca s’inscriu dins de la programació del XXVII Aplec de la Federació Valenciana de Dolçainers i Tabaleters\, una cita de referència per a la música d’arrel i els sons populars del país. \nMés informació i programa d’activitats: Federació Valenciana de Tabal i Dolçaina
URL:https://familiespelvalencia.org/activitat/concert-bernia-la-trocamba-matanusca/
LOCATION:Llíria.- Plaça Partidors\, Plaça Partidors\, Llíria\, Camp de Túria\, 46160
CATEGORIES:Comarques Túria–Xúquer
ATTACH;FMTTYPE=image/jpeg:https://familiespelvalencia.org/wp-content/uploads/2026/04/Aplec-Lliria.jpg
GEO:39.6266645;-0.595716
X-APPLE-STRUCTURED-LOCATION;VALUE=URI;X-ADDRESS=Llíria.- Plaça Partidors Plaça Partidors Llíria Camp de Túria 46160;X-APPLE-RADIUS=500;X-TITLE=Plaça Partidors:geo:-0.595716,39.6266645
END:VEVENT
BEGIN:VEVENT
DTSTART;TZID=Europe/Paris:20260411T190000
DTEND;TZID=Europe/Paris:20260411T201000
DTSTAMP:20260424T040002
CREATED:20260402T113608Z
LAST-MODIFIED:20260402T113608Z
UID:10001182-1775934000-1775938200@familiespelvalencia.org
SUMMARY:Teatre. Garfio i el llegat de Peter Pan. El musical
DESCRIPTION:Garfio i el llegat de Peter Pan és un musical familiar en valencià de JM Gestió Teatral que revisita el món de Peter Pan des d’una nova aventura. Amb la desaparició de Peter Pan\, el capità Garfio intenta apoderar-se del País de Mai Més\, i dos joves protagonistes hauran d’enfrontar-s’hi per defensar la fantasia i la llibertat. L’espectacle combina música\, humor i acció\, amb una posada en escena dinàmica i un missatge clar a favor del coratge\, l’amistat i la imaginació. Una proposta ideal per a gaudir del teatre en família i apropar la cultura escènica en valencià al públic més menut. \nDurada: 70 minuts \nMés informació i venda d’entrades: Ajuntament de Benetússer
URL:https://familiespelvalencia.org/activitat/teatre-garfio-i-el-llegat-de-peter-pan-el-musical-3/
LOCATION:Centre Cultural Benetússer El Molí\, Carrer del Molí\, 30\, Benetússer\, L'Horta\, 46910
CATEGORIES:Comarques Túria–Xúquer
ATTACH;FMTTYPE=image/jpeg:https://familiespelvalencia.org/wp-content/uploads/2026/02/garfio-i-el-llegat-de-peter-pan.jpg
GEO:39.4231285;-0.4026624
X-APPLE-STRUCTURED-LOCATION;VALUE=URI;X-ADDRESS=Centre Cultural Benetússer El Molí Carrer del Molí 30 Benetússer L'Horta 46910;X-APPLE-RADIUS=500;X-TITLE=Carrer del Molí\, 30:geo:-0.4026624,39.4231285
END:VEVENT
BEGIN:VEVENT
DTSTART;TZID=Europe/Paris:20260411T230000
DTEND;TZID=Europe/Paris:20260411T235900
DTSTAMP:20260424T040002
CREATED:20260410T145140Z
LAST-MODIFIED:20260410T145727Z
UID:10001212-1775948400-1775951940@familiespelvalencia.org
SUMMARY:Cullera Marítim Festival
DESCRIPTION:Cullera Marítim Festival arriba el divendres 11 d’abril de 2026 amb una jornada de música en directe a tocar de la mar. Un festival pensat per a gaudir amb amigues i amics\, descobrir propostes potents del panorama musical actual i celebrar la primavera amb bon ambient\, ritmes enèrgics i ganes de festa. Música\, costa i juventut es donen cita a Cullera en una experiència que va més enllà dels concerts. \nPúblic jove i públic en general.
URL:https://familiespelvalencia.org/activitat/cullera-maritim-festival/
LOCATION:Cullera.- Pàrquing de la Rada\, Carrer de la Rada\, 5\, Cullera\, Ribera Baixa\, 46400
CATEGORIES:Comarques Túria–Xúquer
ATTACH;FMTTYPE=image/jpeg:https://familiespelvalencia.org/wp-content/uploads/2026/04/Cullera-Maritim.jpg
GEO:39.1436474;-0.2713944
X-APPLE-STRUCTURED-LOCATION;VALUE=URI;X-ADDRESS=Cullera.- Pàrquing de la Rada Carrer de la Rada 5 Cullera Ribera Baixa 46400;X-APPLE-RADIUS=500;X-TITLE=Carrer de la Rada\, 5:geo:-0.2713944,39.1436474
END:VEVENT
BEGIN:VEVENT
DTSTART;TZID=Europe/Paris:20260412T120000
DTEND;TZID=Europe/Paris:20260412T140000
DTSTAMP:20260424T040002
CREATED:20260305T204548Z
LAST-MODIFIED:20260305T204553Z
UID:10001026-1775995200-1776002400@familiespelvalencia.org
SUMMARY:Concert. Trobadorets
DESCRIPTION:El cicle “Como ir al parque” torna amb una proposta perfecta per a gaudir en família: Trobadorets\, un dels grups de referència de la música infantil i familiar en valencià. Amb més de quinze anys de trajectòria\, els seus concerts són dinàmics\, participatius i plens d’energia\, pensats perquè menuts i grans canten\, ballen i xalen des del primer minut. Una actuació ideal per acomiadar les vacances escolars amb rialles\, música i valors positius\, en un entorn proper i acollidor com La Casa de la Mar d’Alboraia. \nMés informació ivenda d’entrades: Casa de la Mar
URL:https://familiespelvalencia.org/activitat/concert-trobadorets-13/
LOCATION:Casa de la Mar.- Alboraia\, Avinguda Novel·lista Vicente Blasco Ibáñez\, 8\, Alboraia\, L'Horta\, 46120
CATEGORIES:Comarques Túria–Xúquer
ATTACH;FMTTYPE=image/jpeg:https://familiespelvalencia.org/wp-content/uploads/2026/03/Casa-del-mar.-Trobadorets.jpg
GEO:39.4989552;-0.3510141
X-APPLE-STRUCTURED-LOCATION;VALUE=URI;X-ADDRESS=Casa de la Mar.- Alboraia Avinguda Novel·lista Vicente Blasco Ibáñez 8 Alboraia L'Horta 46120;X-APPLE-RADIUS=500;X-TITLE=Avinguda Novel·lista Vicente Blasco Ibáñez\, 8:geo:-0.3510141,39.4989552
END:VEVENT
END:VCALENDAR