BEGIN:VCALENDAR
VERSION:2.0
PRODID:-//FAMÍLIES PEL VALENCIÀ - ECPv6.15.20//NONSGML v1.0//EN
CALSCALE:GREGORIAN
METHOD:PUBLISH
X-ORIGINAL-URL:https://familiespelvalencia.org
X-WR-CALDESC:Esdeveniments per FAMÍLIES PEL VALENCIÀ
REFRESH-INTERVAL;VALUE=DURATION:PT1H
X-Robots-Tag:noindex
X-PUBLISHED-TTL:PT1H
BEGIN:VTIMEZONE
TZID:Europe/Paris
BEGIN:DAYLIGHT
TZOFFSETFROM:+0100
TZOFFSETTO:+0200
TZNAME:CEST
DTSTART:20250330T010000
END:DAYLIGHT
BEGIN:STANDARD
TZOFFSETFROM:+0200
TZOFFSETTO:+0100
TZNAME:CET
DTSTART:20251026T010000
END:STANDARD
BEGIN:DAYLIGHT
TZOFFSETFROM:+0100
TZOFFSETTO:+0200
TZNAME:CEST
DTSTART:20260329T010000
END:DAYLIGHT
BEGIN:STANDARD
TZOFFSETFROM:+0200
TZOFFSETTO:+0100
TZNAME:CET
DTSTART:20261025T010000
END:STANDARD
BEGIN:DAYLIGHT
TZOFFSETFROM:+0100
TZOFFSETTO:+0200
TZNAME:CEST
DTSTART:20270328T010000
END:DAYLIGHT
BEGIN:STANDARD
TZOFFSETFROM:+0200
TZOFFSETTO:+0100
TZNAME:CET
DTSTART:20271031T010000
END:STANDARD
END:VTIMEZONE
BEGIN:VEVENT
DTSTART;TZID=Europe/Paris:20260324T173000
DTEND;TZID=Europe/Paris:20260324T183000
DTSTAMP:20260424T044602
CREATED:20260324T134856Z
LAST-MODIFIED:20260324T134856Z
UID:10001106-1774373400-1774377000@familiespelvalencia.org
SUMMARY:Taller. Plantes i bestioles de la serra Calderona
DESCRIPTION:Taller de poesia amb Rosa Sandiego. \nPlantes i bestioles de la Serra Calderona és un poemari infantil\, creat amb una gran estima i simpatia per la fauna i flora que habiten la nostra Serra. Són plantes i animals que ens podem trobar passejant qualsevol matí solejat de primavera (tot i que hi ha bestioles molt tímides que potser no es deixen veure). En els seus versos et trobaràs en acció ofegabous\, abelles\, caragols\, xoriguers i molts més! Gaudiràs de la bellesa del margalló\, la carrasca\, l’espígol\, el romaní\, i altres plantes tan necessàries per a la nostra Natura.
URL:https://familiespelvalencia.org/activitat/taller-plantes-i-bestioles-de-la-serra-calderona/
LOCATION:Biblioteca Pública Municipal “Carmen Alborch Bataller”\, C/ Major\, 35\, Montcada\, L'Horta\, 46113
CATEGORIES:Comarques Túria–Xúquer
ATTACH;FMTTYPE=image/jpeg:https://familiespelvalencia.org/wp-content/uploads/2026/03/Plantes-i-best.jpg
GEO:39.5437557;-0.3930703
X-APPLE-STRUCTURED-LOCATION;VALUE=URI;X-ADDRESS=Biblioteca Pública Municipal “Carmen Alborch Bataller” C/ Major 35 Montcada L'Horta 46113;X-APPLE-RADIUS=500;X-TITLE=C/ Major\, 35:geo:-0.3930703,39.5437557
END:VEVENT
BEGIN:VEVENT
DTSTART;TZID=Europe/Paris:20260326T183000
DTEND;TZID=Europe/Paris:20260326T213000
DTSTAMP:20260424T044602
CREATED:20260323T221737Z
LAST-MODIFIED:20260323T221737Z
UID:10001105-1774549800-1774560600@familiespelvalencia.org
SUMMARY:Concert. Auxili + Cor Alborxí
DESCRIPTION:Concert solidari al Gran Teatre d’Alzira a benefici de la Fundació Novaterra\, amb la participació del grup Auxili i el Cor Alborxí\, format per l’alumnat del CEIP Alborxí. La cita unirà música\, educació i compromís social en un mateix escenari. El concert és el resultat d’un projecte educatiu compartit que fomenta valors com la solidaritat\, la inclusió i la responsabilitat social des de la infància. Els donatius recaptats es destinaran als programes d’inserció sociolaboral de la Fundació Novaterra. Una proposta cultural i solidària\, ideal per a gaudir en família
URL:https://familiespelvalencia.org/activitat/concert-auxili-cor-alborxi/
LOCATION:Gran Teatre d’Alzira\, Plaça Alborxí\, s/n\, Alzira\, Ribera Alta\, 46600
CATEGORIES:Comarques Túria–Xúquer
ATTACH;FMTTYPE=image/jpeg:https://familiespelvalencia.org/wp-content/uploads/2026/03/Auxili-i-Cor-Alborxi.jpg
GEO:39.148872;-0.4390385
X-APPLE-STRUCTURED-LOCATION;VALUE=URI;X-ADDRESS=Gran Teatre d’Alzira Plaça Alborxí s/n Alzira Ribera Alta 46600;X-APPLE-RADIUS=500;X-TITLE=Plaça Alborxí\, s/n:geo:-0.4390385,39.148872
END:VEVENT
BEGIN:VEVENT
DTSTART;TZID=Europe/Paris:20260327T180000
DTEND;TZID=Europe/Paris:20260327T190000
DTSTAMP:20260424T044602
CREATED:20260217T203919Z
LAST-MODIFIED:20260217T203919Z
UID:10000973-1774634400-1774638000@familiespelvalencia.org
SUMMARY:Contacontes. Veus
DESCRIPTION:A càrrec de Rosana Mira (dia mundial del Teatre) \nSinopsi: Veus? és un conte que pretén visibilitzar a les dones artistes\, així com que tinguen veu. \nEdat del públic assistent: 1 a 4 anys \nImportant. Aforament màxim: 30 xiquets/es + 1 pare/mare per xiquet. Les inscripcions seran bé telefònicament al 962012981 o presencialment al mostrador de la biblioteca fins a completar aforament. \nNOTA: LES INCRIPCIONS COMENÇARAN EL DILLUNS 23 DE MARÇ A LES 09:00 HORES \nLloc: sala II de la Casa de la Cultura
URL:https://familiespelvalencia.org/activitat/contacontes-veus/
LOCATION:Casa de la Cultura d’Alzira\, C/ Escoles Pies\, 4\, Alzira\, Ribera Alta\, 46600
CATEGORIES:Comarques Túria–Xúquer
ATTACH;FMTTYPE=image/jpeg:https://familiespelvalencia.org/wp-content/uploads/2026/02/Veus.jpeg
GEO:39.1506367;-0.4359526
X-APPLE-STRUCTURED-LOCATION;VALUE=URI;X-ADDRESS=Casa de la Cultura d’Alzira C/ Escoles Pies 4 Alzira Ribera Alta 46600;X-APPLE-RADIUS=500;X-TITLE=C/ Escoles Pies\, 4:geo:-0.4359526,39.1506367
END:VEVENT
BEGIN:VEVENT
DTSTART;TZID=Europe/Paris:20260328T100000
DTEND;TZID=Europe/Paris:20260328T140000
DTSTAMP:20260424T044602
CREATED:20260325T214717Z
LAST-MODIFIED:20260325T214717Z
UID:10001118-1774692000-1774706400@familiespelvalencia.org
SUMMARY:Lloquetes Festival
DESCRIPTION:Un any més\, el festival albalatenc dedicat a la infància i la família t’espera per a gaudir de bons moments. Viu l’oci infantil i juvenil a Albalat!
URL:https://familiespelvalencia.org/activitat/lloquetes-festival/
LOCATION:Albalat de la Ribera.- Plaça de la Cort\, Plaça de la Cort\, Albalat de la Ribera\, Ribera Baixa\, 46687
CATEGORIES:Comarques Túria–Xúquer
ATTACH;FMTTYPE=image/jpeg:https://familiespelvalencia.org/wp-content/uploads/2026/03/Lloquetes.jpg
GEO:39.200973;-0.3866459
X-APPLE-STRUCTURED-LOCATION;VALUE=URI;X-ADDRESS=Albalat de la Ribera.- Plaça de la Cort Plaça de la Cort Albalat de la Ribera Ribera Baixa 46687;X-APPLE-RADIUS=500;X-TITLE=Plaça de la Cort:geo:-0.3866459,39.200973
END:VEVENT
BEGIN:VEVENT
DTSTART;TZID=Europe/Paris:20260329T120000
DTEND;TZID=Europe/Paris:20260329T133000
DTSTAMP:20260424T044602
CREATED:20260323T213757Z
LAST-MODIFIED:20260323T213757Z
UID:10001100-1774785600-1774791000@familiespelvalencia.org
SUMMARY:Concert Dani Miquel a Alboraia
DESCRIPTION:Dani Miquel en La Casa de la Mar: música per a cantar\, riure i ballar 🎶✨ \nSi hi ha algú capaç de fer que tota la plaça cante a una sola veu\, és ell: Dani Miquel\, el cantacançons que transforma cada concert en una festa familiar amb molt de cor. Cançons d’ara\, d’abans i de sempre\, però amb aquell toc seu que et fa riure mentre et parla de valors\, d’amor\, de respecte i de llengua. 💚 \nNo importa si tens 5 o 55 anys: ací es ve a jugar\, a cantar\, a ballar i a sentir-te part d’una cosa bonica.Hi ha cants populars\, melodies pròpies i moltíssima energia. I sí\, eixiràs amb una tornada enganxada al cap. I amb ganes de tornar-hi. \n🔥 I a partir de les 14:00 h… festa també per al paladar!El mestre paeller Luis “El Rico”\, directament des de l’Albufera Valenciana\, t’invita a gaudir d’un autèntic showcooking de paelles: foc\, aroma i tradició en directe mentre l’arròs es va fent al punt perfecte. Una experiència tan valenciana com deliciosa. 😍 \n💥 Cultura viva en valencià.🎉 Un pla perfecte per a vindre amb la família\, amb amics o amb ganes de tornar a ser xiquet.🎟️ L’alegria… ja està assegurada. \n⚠️ MENORS DE 1 ANY NO PAGUEN ENTRADA
URL:https://familiespelvalencia.org/activitat/concert-dani-miquel-a-alboraia/
LOCATION:Casa de la Mar.- Alboraia\, Avinguda Novel·lista Vicente Blasco Ibáñez\, 8\, Alboraia\, L'Horta\, 46120
CATEGORIES:Comarques Túria–Xúquer
ATTACH;FMTTYPE=image/jpeg:https://familiespelvalencia.org/wp-content/uploads/2026/03/dani-miquel.jpg
GEO:39.4989552;-0.3510141
X-APPLE-STRUCTURED-LOCATION;VALUE=URI;X-ADDRESS=Casa de la Mar.- Alboraia Avinguda Novel·lista Vicente Blasco Ibáñez 8 Alboraia L'Horta 46120;X-APPLE-RADIUS=500;X-TITLE=Avinguda Novel·lista Vicente Blasco Ibáñez\, 8:geo:-0.3510141,39.4989552
END:VEVENT
BEGIN:VEVENT
DTSTART;TZID=Europe/Paris:20260329T170000
DTEND;TZID=Europe/Paris:20260329T180000
DTSTAMP:20260424T044602
CREATED:20260322T144411Z
LAST-MODIFIED:20260322T144411Z
UID:10001092-1774803600-1774807200@familiespelvalencia.org
SUMMARY:Teatre. Garfio i el llegat de Peter Pan. El musical
DESCRIPTION:Garfio i el llegat de Peter Pan és un musical familiar en valencià de JM Gestió Teatral que revisita el món de Peter Pan des d’una nova aventura. Amb la desaparició de Peter Pan\, el capità Garfio intenta apoderar-se del País de Mai Més\, i dos joves protagonistes hauran d’enfrontar-s’hi per defensar la fantasia i la llibertat. L’espectacle combina música\, humor i acció\, amb una posada en escena dinàmica i un missatge clar a favor del coratge\, l’amistat i la imaginació. Una proposta ideal per a gaudir del teatre en família i apropar la cultura escènica en valencià al públic més menut. \n  \n  \nMés informació i venda d’entrades: Ajuntament de Picassent
URL:https://familiespelvalencia.org/activitat/teatre-garfio-i-el-llegat-de-peter-pan-el-musical-2/
LOCATION:Casa de la Cultura de Picassent\, C/ Jaume I\, 15\, Picassent\, L'Horta\, 46220
CATEGORIES:Comarques Túria–Xúquer
ATTACH;FMTTYPE=image/jpeg:https://familiespelvalencia.org/wp-content/uploads/2026/02/garfio-i-el-llegat-de-peter-pan.jpg
GEO:39.3634683;-0.4620802
X-APPLE-STRUCTURED-LOCATION;VALUE=URI;X-ADDRESS=Casa de la Cultura de Picassent C/ Jaume I 15 Picassent L'Horta 46220;X-APPLE-RADIUS=500;X-TITLE=C/ Jaume I\, 15:geo:-0.4620802,39.3634683
END:VEVENT
BEGIN:VEVENT
DTSTART;TZID=Europe/Paris:20260329T180000
DTEND;TZID=Europe/Paris:20260329T190000
DTSTAMP:20260424T044602
CREATED:20251217T144614Z
LAST-MODIFIED:20251217T144638Z
UID:10000641-1774807200-1774810800@familiespelvalencia.org
SUMMARY:SÓ de XAMPATITO PATO. Clow i teatre gestual.
DESCRIPTION:Un personatge obsessiu\, quadriculat i meticulós. Un ésser únic en la seua espècie\, envoltat d’un sense fi de caixes que escapen al seu control\, i amb les quals juga per a donar forma al seu món. Del caos sorgix un univers delirant on inventa el riure\, creant una bogeria còmica i transformant-se en un nou ésser amb una nova figura. \nTeatre infantil i familiar. Sense text.
URL:https://familiespelvalencia.org/activitat/so-de-xampatito-pato-clow-i-teatre-gestual/
LOCATION:Teatre Agrícola\, C. Cervantes\, 3\,\, Alboraia\, L'Horta\, 46120
CATEGORIES:Comarques Túria–Xúquer
ATTACH;FMTTYPE=image/jpeg:https://familiespelvalencia.org/wp-content/uploads/2025/12/Xampatito_Pato.jpg
GEO:39.4998136;-0.3491286
X-APPLE-STRUCTURED-LOCATION;VALUE=URI;X-ADDRESS=Teatre Agrícola C. Cervantes 3 Alboraia L'Horta 46120;X-APPLE-RADIUS=500;X-TITLE=C. Cervantes\, 3\,:geo:-0.3491286,39.4998136
END:VEVENT
END:VCALENDAR