BEGIN:VCALENDAR
VERSION:2.0
PRODID:-//FAMÍLIES PEL VALENCIÀ - ECPv6.15.20//NONSGML v1.0//EN
CALSCALE:GREGORIAN
METHOD:PUBLISH
X-WR-CALNAME:FAMÍLIES PEL VALENCIÀ
X-ORIGINAL-URL:https://familiespelvalencia.org
X-WR-CALDESC:Esdeveniments per FAMÍLIES PEL VALENCIÀ
REFRESH-INTERVAL;VALUE=DURATION:PT1H
X-Robots-Tag:noindex
X-PUBLISHED-TTL:PT1H
BEGIN:VTIMEZONE
TZID:Europe/Paris
BEGIN:DAYLIGHT
TZOFFSETFROM:+0100
TZOFFSETTO:+0200
TZNAME:CEST
DTSTART:20250330T010000
END:DAYLIGHT
BEGIN:STANDARD
TZOFFSETFROM:+0200
TZOFFSETTO:+0100
TZNAME:CET
DTSTART:20251026T010000
END:STANDARD
BEGIN:DAYLIGHT
TZOFFSETFROM:+0100
TZOFFSETTO:+0200
TZNAME:CEST
DTSTART:20260329T010000
END:DAYLIGHT
BEGIN:STANDARD
TZOFFSETFROM:+0200
TZOFFSETTO:+0100
TZNAME:CET
DTSTART:20261025T010000
END:STANDARD
BEGIN:DAYLIGHT
TZOFFSETFROM:+0100
TZOFFSETTO:+0200
TZNAME:CEST
DTSTART:20270328T010000
END:DAYLIGHT
BEGIN:STANDARD
TZOFFSETFROM:+0200
TZOFFSETTO:+0100
TZNAME:CET
DTSTART:20271031T010000
END:STANDARD
END:VTIMEZONE
BEGIN:VEVENT
DTSTART;TZID=Europe/Paris:20260203T173000
DTEND;TZID=Europe/Paris:20260203T183000
DTSTAMP:20260424T050524
CREATED:20260202T141056Z
LAST-MODIFIED:20260202T141056Z
UID:10000833-1770139800-1770143400@familiespelvalencia.org
SUMMARY:PIP\, PIO\, QUIN LÍO!
DESCRIPTION:Un contacontes musical ple d’emocions\, música i humor que farà volar la imaginació dels més menuts!
URL:https://familiespelvalencia.org/activitat/pip-pio-quin-lio/
LOCATION:Biblioteca Municipal de Paiporta\, Plaça Església Sant Jordi\, 10\, Paiporta\, L'Horta\, 46200
CATEGORIES:Comarques Túria–Xúquer
ATTACH;FMTTYPE=image/jpeg:https://familiespelvalencia.org/wp-content/uploads/2026/02/WhatsApp-Image-2026-02-02-at-15.07.06.jpeg
GEO:39.429326;-0.4190253
X-APPLE-STRUCTURED-LOCATION;VALUE=URI;X-ADDRESS=Biblioteca Municipal de Paiporta Plaça Església Sant Jordi 10 Paiporta L'Horta 46200;X-APPLE-RADIUS=500;X-TITLE=Plaça Església Sant Jordi\, 10:geo:-0.4190253,39.429326
END:VEVENT
BEGIN:VEVENT
DTSTART;TZID=Europe/Paris:20260205T183000
DTEND;TZID=Europe/Paris:20260205T200000
DTSTAMP:20260424T050524
CREATED:20260119T110244Z
LAST-MODIFIED:20260119T110308Z
UID:10000748-1770316200-1770321600@familiespelvalencia.org
SUMMARY:Concert Wilfrid Energia Humana
DESCRIPTION:Wilfrid Energia Humana cantautor amb una vessant pedagògica presenta el seu segon disc Evolució amb un format llibre disc de l’editorial @rebeledicions a Algemesí i a L’Alcúdia. Wilfrid estarà al mes de febrer a les llibreries per oferir  xicotets concerts participatius\, energètics i plens de bon rotllo. No t’ho pots perdre. Wilfrid aquest 2025 ha sigut nominat a millor disc familiar als premis Ovidi\, apostant per bones cançons que aporten valors positius i bones accions. Wilfrid Energia Humana\, cantautor amb una clara vessant pedagògica\, presenta el seu segon disc\, Evolució\, en format llibre-disc\, publicat per l’editorial @rebeledicions\, a Algemesí i a l’Alcúdia.
URL:https://familiespelvalencia.org/activitat/concert-wilfrid-energia-humana/
LOCATION:Llibreria Samaruc\, Carrer de Sant Josep de Calassanç\, 11\, Algemesí\, Ribera Baixa\, 46680
CATEGORIES:Comarques Túria–Xúquer
ATTACH;FMTTYPE=image/jpeg:https://familiespelvalencia.org/wp-content/uploads/2026/01/promo-llibreries-2026-1.jpg
GEO:39.1894542;-0.4385287
X-APPLE-STRUCTURED-LOCATION;VALUE=URI;X-ADDRESS=Llibreria Samaruc Carrer de Sant Josep de Calassanç 11 Algemesí Ribera Baixa 46680;X-APPLE-RADIUS=500;X-TITLE=Carrer de Sant Josep de Calassanç\, 11:geo:-0.4385287,39.1894542
END:VEVENT
BEGIN:VEVENT
DTSTART;TZID=Europe/Paris:20260206T180000
DTEND;TZID=Europe/Paris:20260206T190000
DTSTAMP:20260424T050524
CREATED:20260202T113055Z
LAST-MODIFIED:20260202T113858Z
UID:10000829-1770400800-1770404400@familiespelvalencia.org
SUMMARY:Contacontes. Mami\, on estàs?
DESCRIPTION:“Mami\, on estàs?” és un contacontes tendre i ple d’aventures que acompanya Coli\, un xiquet perdut a la selva\, en un viatge emocionant per retrobar la seua mare amb l’ajuda d’Eronia Cleodora\, una papallona que\, malgrat confondre’s de mare\, el guia per un món ple d’animals de la sabana africana. Amb cançons\, colors i marionetes\, l’espectacle convida els més menuts a descobrir la biodiversitat i la importància de l’amistat i la calma davant les pors. // Activitat recomanada des de 8 mesos a 5 anys.
URL:https://familiespelvalencia.org/activitat/6689/
LOCATION:Biblioteca Cronista Chabret.- Sagunt\, Plaça Cronista Chabret\, 20\, Sagunt\, Camp de Morvedre\, 46500
CATEGORIES:Comarques Túria–Xúquer
ATTACH;FMTTYPE=image/jpeg:https://familiespelvalencia.org/wp-content/uploads/2026/02/Mami-on-estas.jpeg
GEO:39.6805786;-0.278955
X-APPLE-STRUCTURED-LOCATION;VALUE=URI;X-ADDRESS=Biblioteca Cronista Chabret.- Sagunt Plaça Cronista Chabret 20 Sagunt Camp de Morvedre 46500;X-APPLE-RADIUS=500;X-TITLE=Plaça Cronista Chabret\, 20:geo:-0.278955,39.6805786
END:VEVENT
BEGIN:VEVENT
DTSTART;TZID=Europe/Paris:20260207T103000
DTEND;TZID=Europe/Paris:20260207T140000
DTSTAMP:20260424T050524
CREATED:20260116T103230Z
LAST-MODIFIED:20260116T111432Z
UID:10000733-1770460200-1770472800@familiespelvalencia.org
SUMMARY:Catarroja Batega.- Lluïsa Penella / La Maria / Primavera Valenciana
DESCRIPTION:Amb l’objectiu de donar suport al sector musical de la zona afectada per la DANA i d’oferir al veïnat cultura en espai públic\, el Festival Catarroja Batega tornarà a omplir la Plaça del Mercat de talent local en tres matinals festives els dies 10 i 24 de gener i 7 de febrer\, totes a les 10.30 h. La cita del 7 de febrer serà especialment destacada\, amb les actuacions de Lluïsa Penella\, La Maria i Primavera Valenciana\, una proposta vibrant que combina arrel valenciana i música en directe.
URL:https://familiespelvalencia.org/activitat/catarroja-batega-lluisa-penella-la-maria-primavera-valenciana/
LOCATION:Catarroja.- Plaça del Mercat\, Plaça del Mercat\, Catarroja\, L'Horta\, 46470
CATEGORIES:Comarques Túria–Xúquer
ATTACH;FMTTYPE=image/jpeg:https://familiespelvalencia.org/wp-content/uploads/2026/01/batega_bis.jpeg
GEO:39.4027241;-0.4007907
X-APPLE-STRUCTURED-LOCATION;VALUE=URI;X-ADDRESS=Catarroja.- Plaça del Mercat Plaça del Mercat Catarroja L'Horta 46470;X-APPLE-RADIUS=500;X-TITLE=Plaça del Mercat:geo:-0.4007907,39.4027241
END:VEVENT
BEGIN:VEVENT
DTSTART;TZID=Europe/Paris:20260207T180000
DTEND;TZID=Europe/Paris:20260207T193000
DTSTAMP:20260424T050524
CREATED:20260206T082600Z
LAST-MODIFIED:20260206T082617Z
UID:10000915-1770487200-1770492600@familiespelvalencia.org
SUMMARY:Concert. Dani Miquel
DESCRIPTION:L’actuació de Dani Miquel dins la IX Festa de la Carxofa d’Alaquàs\, que enguany porta com a lema “El poble que renaix\, la festa que floreix”\, promet ser un dels moments més especials del cap de setmana. L’artista\, reconegut per la seua música festiva i carregada de tradició\, contribuirà a omplir la Plaça de la Constitució d’ambient familiar i alegria. L’actuació s’emmarca dins d’un programa que combina gastronomia\, cultura i música en directe\, amb propostes que busquen dinamitzar i unir els pobles de l’Horta Sud. \n 
URL:https://familiespelvalencia.org/activitat/concert-dani-miquel-20/
LOCATION:Alaquàs.- Plaça de la Constitució\, Plaça de la Constitució\, Alaquàs\, L'Horta\, 46970
CATEGORIES:Comarques Túria–Xúquer
ATTACH;FMTTYPE=image/png:https://familiespelvalencia.org/wp-content/uploads/2026/02/Dani-Miquel-Alaquas.png
GEO:39.4518434;-0.4714694
X-APPLE-STRUCTURED-LOCATION;VALUE=URI;X-ADDRESS=Alaquàs.- Plaça de la Constitució Plaça de la Constitució Alaquàs L'Horta 46970;X-APPLE-RADIUS=500;X-TITLE=Plaça de la Constitució:geo:-0.4714694,39.4518434
END:VEVENT
END:VCALENDAR