BEGIN:VCALENDAR
VERSION:2.0
PRODID:-//FAMÍLIES PEL VALENCIÀ - ECPv6.15.20//NONSGML v1.0//EN
CALSCALE:GREGORIAN
METHOD:PUBLISH
X-ORIGINAL-URL:https://familiespelvalencia.org
X-WR-CALDESC:Esdeveniments per FAMÍLIES PEL VALENCIÀ
REFRESH-INTERVAL;VALUE=DURATION:PT1H
X-Robots-Tag:noindex
X-PUBLISHED-TTL:PT1H
BEGIN:VTIMEZONE
TZID:Europe/Paris
BEGIN:DAYLIGHT
TZOFFSETFROM:+0100
TZOFFSETTO:+0200
TZNAME:CEST
DTSTART:20250330T010000
END:DAYLIGHT
BEGIN:STANDARD
TZOFFSETFROM:+0200
TZOFFSETTO:+0100
TZNAME:CET
DTSTART:20251026T010000
END:STANDARD
BEGIN:DAYLIGHT
TZOFFSETFROM:+0100
TZOFFSETTO:+0200
TZNAME:CEST
DTSTART:20260329T010000
END:DAYLIGHT
BEGIN:STANDARD
TZOFFSETFROM:+0200
TZOFFSETTO:+0100
TZNAME:CET
DTSTART:20261025T010000
END:STANDARD
BEGIN:DAYLIGHT
TZOFFSETFROM:+0100
TZOFFSETTO:+0200
TZNAME:CEST
DTSTART:20270328T010000
END:DAYLIGHT
BEGIN:STANDARD
TZOFFSETFROM:+0200
TZOFFSETTO:+0100
TZNAME:CET
DTSTART:20271031T010000
END:STANDARD
END:VTIMEZONE
BEGIN:VEVENT
DTSTART;TZID=Europe/Paris:20260123T173000
DTEND;TZID=Europe/Paris:20260123T183000
DTSTAMP:20260424T050950
CREATED:20260121T163621Z
LAST-MODIFIED:20260121T164107Z
UID:10000755-1769189400-1769193000@familiespelvalencia.org
SUMMARY:Festa Gianni Rodari. Taller de promoció lectora infantil.
DESCRIPTION:Estos tallers es fan una vegada al mes com a monogràfics per la professional\, Marta Pellicer. \nEste mes està dedicat al gran autor de literatura infantil… Gianni Rodari\, autor de diversos contes i del aclamat Gramàtica de la Fantasia. \nPer a xiquetes i xiquets des de 6 a 12 anys.\nInscripció prèvia fins completar aforament.
URL:https://familiespelvalencia.org/activitat/festa-gianni-rodari-taller-de-promocio-lectora-infantil/
LOCATION:Biblioteca de l’Eliana.\, Av. del General. Pastor\, 34\, l'Eliana\, Camp de Túria\, 46183
CATEGORIES:Comarques Túria–Xúquer
ATTACH;FMTTYPE=image/jpeg:https://familiespelvalencia.org/wp-content/uploads/2026/01/Taller-Giani-rodari-gener-marta-pellicer-Cuadrat.jpg
ORGANIZER;CN="Biblioteca de l'Eliana":MAILTO:prestecsbiblioteca@leliana.es
GEO:39.5630449;-0.5332822
X-APPLE-STRUCTURED-LOCATION;VALUE=URI;X-ADDRESS=Biblioteca de l’Eliana. Av. del General. Pastor 34 l'Eliana Camp de Túria 46183;X-APPLE-RADIUS=500;X-TITLE=Av. del General. Pastor\, 34:geo:-0.5332822,39.5630449
END:VEVENT
BEGIN:VEVENT
DTSTART;TZID=Europe/Paris:20260125T180000
DTEND;TZID=Europe/Paris:20260125T193000
DTSTAMP:20260424T050950
CREATED:20260113T112714Z
LAST-MODIFIED:20260113T112953Z
UID:10000711-1769364000-1769369400@familiespelvalencia.org
SUMMARY:Teatre. El tresor d’Aimonoce Ralucric
DESCRIPTION:La Doctora Flores s’endinsa en un racó tan misteriós com fascinant de l’Amazònia per a resoldre el secret que la seua iaia no va aconseguir desxifrar: el tresor d’Aimonoce Ralucric. Acompanyada per animals entranyables i personatges plens d’humor\, descobrirà que el vertader tresor no són els objectes\, sinó la generositat i la cura del planeta.\nEntre cançons\, jocs i moments divertits\, Tramant Teatre transforma aquesta aventura en una autèntica festa d’ecologia\, valors i participació familiar. Un muntatge vibrant que convida xiquetes i xiquets a entendre la importància de l’economia circular i del respecte a la natura. Una cita imprescindible per a gaudir en família d’una vesprada de teatre ple d’imaginació i consciència ambiental. \nVenda d’entrades en plataforma:  Notikumi
URL:https://familiespelvalencia.org/activitat/teatre-el-tresor-daimonoce-ralucric/
LOCATION:Centre Municipal Bernat i Baldoví\, Carrer de Sant Josep 32\, Sueca\, Ribera Baixa\, 46410
CATEGORIES:Comarques Túria–Xúquer
ATTACH;FMTTYPE=image/jpeg:https://familiespelvalencia.org/wp-content/uploads/2026/01/el-tresor-daimonoce-ralucric-de-tramant-teatre.jpg
GEO:39.2008517;-0.3137117
X-APPLE-STRUCTURED-LOCATION;VALUE=URI;X-ADDRESS=Centre Municipal Bernat i Baldoví Carrer de Sant Josep 32 Sueca Ribera Baixa 46410;X-APPLE-RADIUS=500;X-TITLE=Carrer de Sant Josep 32:geo:-0.3137117,39.2008517
END:VEVENT
END:VCALENDAR