BEGIN:VCALENDAR
VERSION:2.0
PRODID:-//FAMÍLIES PEL VALENCIÀ - ECPv6.15.20//NONSGML v1.0//EN
CALSCALE:GREGORIAN
METHOD:PUBLISH
X-WR-CALNAME:FAMÍLIES PEL VALENCIÀ
X-ORIGINAL-URL:https://familiespelvalencia.org
X-WR-CALDESC:Esdeveniments per FAMÍLIES PEL VALENCIÀ
REFRESH-INTERVAL;VALUE=DURATION:PT1H
X-Robots-Tag:noindex
X-PUBLISHED-TTL:PT1H
BEGIN:VTIMEZONE
TZID:Europe/Paris
BEGIN:DAYLIGHT
TZOFFSETFROM:+0100
TZOFFSETTO:+0200
TZNAME:CEST
DTSTART:20240331T010000
END:DAYLIGHT
BEGIN:STANDARD
TZOFFSETFROM:+0200
TZOFFSETTO:+0100
TZNAME:CET
DTSTART:20241027T010000
END:STANDARD
BEGIN:DAYLIGHT
TZOFFSETFROM:+0100
TZOFFSETTO:+0200
TZNAME:CEST
DTSTART:20250330T010000
END:DAYLIGHT
BEGIN:STANDARD
TZOFFSETFROM:+0200
TZOFFSETTO:+0100
TZNAME:CET
DTSTART:20251026T010000
END:STANDARD
BEGIN:DAYLIGHT
TZOFFSETFROM:+0100
TZOFFSETTO:+0200
TZNAME:CEST
DTSTART:20260329T010000
END:DAYLIGHT
BEGIN:STANDARD
TZOFFSETFROM:+0200
TZOFFSETTO:+0100
TZNAME:CET
DTSTART:20261025T010000
END:STANDARD
BEGIN:DAYLIGHT
TZOFFSETFROM:+0100
TZOFFSETTO:+0200
TZNAME:CEST
DTSTART:20270328T010000
END:DAYLIGHT
BEGIN:STANDARD
TZOFFSETFROM:+0200
TZOFFSETTO:+0100
TZNAME:CET
DTSTART:20271031T010000
END:STANDARD
END:VTIMEZONE
BEGIN:VEVENT
DTSTART;TZID=Europe/Paris:20251229T113000
DTEND;TZID=Europe/Paris:20251229T123000
DTSTAMP:20260424T050522
CREATED:20251223T111706Z
LAST-MODIFIED:20251223T111706Z
UID:10000675-1767007800-1767011400@familiespelvalencia.org
SUMMARY:Contacontes. Xip\, xap\, conte contat.
DESCRIPTION:A càrrec de Joanvi Cubedo (Tio Vicent: actor/narrador) \nEl Tio Vicent\, artista veterà en l’escena de la narració oral valenciana\, ens convida a un viatge vibrant de paraules i emocions. A través de contes plens d’aventures\, ritmes i sorpresa\, xiquets i xiquetes es submergeixen en històries teixides amb màgia i proximitat\, fent que cada “xip\, xap” desperte la imaginació i el somriure \n 
URL:https://familiespelvalencia.org/activitat/contacontes-xip-xap-conte-contat-3/
LOCATION:Biblioteca Municipal de Paiporta\, Plaça Església Sant Jordi\, 10\, Paiporta\, L'Horta\, 46200
CATEGORIES:Comarques Túria–Xúquer
ATTACH;FMTTYPE=image/jpeg:https://familiespelvalencia.org/wp-content/uploads/2025/12/JOANVI.jpg
GEO:39.429326;-0.4190253
X-APPLE-STRUCTURED-LOCATION;VALUE=URI;X-ADDRESS=Biblioteca Municipal de Paiporta Plaça Església Sant Jordi 10 Paiporta L'Horta 46200;X-APPLE-RADIUS=500;X-TITLE=Plaça Església Sant Jordi\, 10:geo:-0.4190253,39.429326
END:VEVENT
BEGIN:VEVENT
DTSTART;TZID=Europe/Paris:20251229T123000
DTEND;TZID=Europe/Paris:20251229T133000
DTSTAMP:20260424T050522
CREATED:20251217T130438Z
LAST-MODIFIED:20251217T130438Z
UID:10000637-1767011400-1767015000@familiespelvalencia.org
SUMMARY:Contacontes: El conte de Nadal de Charles Dickens (Tio Vicent)
DESCRIPTION:Aquest Nadal\, la Biblioteca Municipal de Paiporta s’ompli de màgia amb el contacontes Joanvi Cubedo\, conegut com El Tio Vicent. En aquesta ocasió ens delectarà amb la seua versió del clàssic de Charles Dickens\, reinterpretada amb el seu estil proper i ple de gràcia. Una narració que transmet emoció\, valors i esperit nadalenc\, pensada per a totes les edats. El Tio Vicent aconsegueix convertir una història universal en un relat íntim\, amb humor\, tendresa i la força de la tradició oral en valencià. No deixes escapar aquesta cita que uneix literatura\, cultura i la calidesa del Nadal. T’esperem a la biblioteca per compartir contes\, somriures i bons desitjos! \nPúblic familiar. \nMés informacuó: Ajuntament de Paiporta \n 
URL:https://familiespelvalencia.org/activitat/contacontes-el-conte-de-nadal-de-charles-dickens-tio-vicent-2/
LOCATION:Biblioteca Municipal de Paiporta\, Plaça Església Sant Jordi\, 10\, Paiporta\, L'Horta\, 46200
CATEGORIES:Comarques Túria–Xúquer
ATTACH;FMTTYPE=image/jpeg:https://familiespelvalencia.org/wp-content/uploads/2025/11/El-tio-Vicent-Charles-Dickens.jpg
GEO:39.429326;-0.4190253
X-APPLE-STRUCTURED-LOCATION;VALUE=URI;X-ADDRESS=Biblioteca Municipal de Paiporta Plaça Església Sant Jordi 10 Paiporta L'Horta 46200;X-APPLE-RADIUS=500;X-TITLE=Plaça Església Sant Jordi\, 10:geo:-0.4190253,39.429326
END:VEVENT
BEGIN:VEVENT
DTSTART;TZID=Europe/Paris:20251229T180000
DTEND;TZID=Europe/Paris:20251229T190000
DTSTAMP:20260424T050522
CREATED:20251209T133532Z
LAST-MODIFIED:20251209T133532Z
UID:10000575-1767031200-1767034800@familiespelvalencia.org
SUMMARY:Teatre. Tonet. Històries i Nadales a la llar
DESCRIPTION:Cia. Floc Teatre \nAquesta és la història de Tonet\, un pastoret valencià i les seues amigues les ovelles. Descobrirem un món de fantasia on el valor de l’amistat\, l’igualtat i la solidaritat comporten bones recompenses. Una història interpretada per titelles\, que mescla les nadales de tota la vida amb les d’ara i la dels nostres avant-passats. \nTeatre infantil // Durada: 60 min \nMés informació: Ajuntament de Sagunt
URL:https://familiespelvalencia.org/activitat/teatre-tonet-histories-i-nadales-a-la-llar/
LOCATION:Centre Cultural Mario Monreal.- Sagunt\, C/ Roma\, 9\, Sagunt\, Camp de Morvedre\, 46500
CATEGORIES:Comarques Túria–Xúquer
ATTACH;FMTTYPE=image/jpeg:https://familiespelvalencia.org/wp-content/uploads/2025/12/tonet-sagunt.jpg
GEO:39.6821516;-0.2821445
X-APPLE-STRUCTURED-LOCATION;VALUE=URI;X-ADDRESS=Centre Cultural Mario Monreal.- Sagunt C/ Roma 9 Sagunt Camp de Morvedre 46500;X-APPLE-RADIUS=500;X-TITLE=C/ Roma\, 9:geo:-0.2821445,39.6821516
END:VEVENT
BEGIN:VEVENT
DTSTART;TZID=Europe/Paris:20251230T180000
DTEND;TZID=Europe/Paris:20251230T190000
DTSTAMP:20260424T050522
CREATED:20251209T134658Z
LAST-MODIFIED:20251209T134658Z
UID:10000576-1767117600-1767121200@familiespelvalencia.org
SUMMARY:Titelles. Babau
DESCRIPTION:Cia. Periferia Teatro \nAl Pol Sud\, un dels llocs de la terra on fa més fred \, viu la família Pingüí. La mare Pingüí\, al matí cuida de la casa i a la tarda pesca. El pare Pingüí\, al matí pesca i a la tarda cuida de la casa. I el xicotet Babau fa el que més li agrada\, menja i juga tot el dia. Però alguna cosa està canviant\, el Babau està a punt de viure una sorprenent aventura: avui els seus pares li han dit que aviat tindrà un germanet! A través de les divertides peripècies d’un petit pingüí\, es tracten en clau d’humor situacions quotidianes de la vida entre pares i fills. Amb Babau abordem el tema de la difícil situació a la qual s’enfronta un xiquet quan ha de compartir l’afecte i l’atenció dels seus pares amb un nou membre en la família. El nostre “príncep destronat“ haurà de superar aquesta prova adonant-se que ha guanyat un amic per a tota la vida. \nPúblic familiar a partir de 3 anys //  Durada: 60 min \nMés informació: Ajuntament de Sagunt \nTràiler Babau
URL:https://familiespelvalencia.org/activitat/titelles-babau/
LOCATION:Casa Municipal de Cultura.- Sagunt\, C/Progrés 9 (Port de Sagunt)\, Sagunt\, Camp de Morvedre\, 46520
CATEGORIES:Comarques Túria–Xúquer
ATTACH;FMTTYPE=image/png:https://familiespelvalencia.org/wp-content/uploads/2025/12/Babau.png
GEO:39.6585247;-0.2194284
X-APPLE-STRUCTURED-LOCATION;VALUE=URI;X-ADDRESS=Casa Municipal de Cultura.- Sagunt C/Progrés 9 (Port de Sagunt) Sagunt Camp de Morvedre 46520;X-APPLE-RADIUS=500;X-TITLE=C/Progrés 9 (Port de Sagunt):geo:-0.2194284,39.6585247
END:VEVENT
BEGIN:VEVENT
DTSTART;TZID=Europe/Paris:20251230T180000
DTEND;TZID=Europe/Paris:20251230T190000
DTSTAMP:20260424T050522
CREATED:20251216T213906Z
LAST-MODIFIED:20251216T213906Z
UID:10000628-1767117600-1767121200@familiespelvalencia.org
SUMMARY:Teatre infantil i familiar: Atrapats al 2025
DESCRIPTION:Molts menuts i menudes esperen impacients l’arribada de les campanades. Pilot\, Argantol i Lucer són els Trufians\, els éssers encarregats de baixar una vegada a l’any des de la muntanya per donar pas al nou any. \nPerò sembla que algú ha amagat la campana perquè no vol passar d’any… i si no s’afanyen a trobar-la\, quedarem atrapats en 2025 per sempre. Ens ajudes a buscar-la? \n 
URL:https://familiespelvalencia.org/activitat/teatre-infantil-i-familiar-atrapats-al-2025-2/
LOCATION:Teatre Agrícola\, C. Cervantes\, 3\,\, Alboraia\, L'Horta\, 46120
CATEGORIES:Comarques Túria–Xúquer
ATTACH;FMTTYPE=image/jpeg:https://familiespelvalencia.org/wp-content/uploads/2025/12/2025-12-30-teatre-infantil-atrapats-al-2025-de-contrahecho-produccions.jpg
GEO:39.4998136;-0.3491286
X-APPLE-STRUCTURED-LOCATION;VALUE=URI;X-ADDRESS=Teatre Agrícola C. Cervantes 3 Alboraia L'Horta 46120;X-APPLE-RADIUS=500;X-TITLE=C. Cervantes\, 3\,:geo:-0.3491286,39.4998136
END:VEVENT
BEGIN:VEVENT
DTSTART;TZID=Europe/Paris:20260102T180000
DTEND;TZID=Europe/Paris:20260102T193000
DTSTAMP:20260424T050522
CREATED:20260102T081354Z
LAST-MODIFIED:20260102T081354Z
UID:10000694-1767376800-1767382200@familiespelvalencia.org
SUMMARY:Canta Canalla
DESCRIPTION:Acosta’t a la Plaça de la Constitució d’Alboraia i viu amb Canta Canalla un concert vital\, participatiu i carregat de diversió. \nDos xiquets i dues xiquetes que sumen més de 150 anys d’història musical— et farà riure\, cantar i ballar amb una proposta senzilla i genuïna: guitarra\, baix\, bateria\, flauta\, veus\, quatre acords\, algun sol i una màquina de fer bombolles per afegir un toc de màgia al moment.  Els més menuts —i no tan menuts!— podran unir-se a la festa\, copsant l’alegria de la música en directe i deixant-se endur per la màgia de compartir ritme en família. Un pla perfecte per a començar l’any amb alegria\, bon rotlo i molts somriures. \nMés informació: Ajuntament d’Alboraia \nCanta Canalla Spotify
URL:https://familiespelvalencia.org/activitat/canta-canalla/
LOCATION:Alboraia.- Plaça Constitució\, Plaça Constitució\, Alboraia\, L'Horta\, 46120
CATEGORIES:Comarques Túria–Xúquer
ATTACH;FMTTYPE=image/png:https://familiespelvalencia.org/wp-content/uploads/2026/01/canta-canalla.png
GEO:39.500092;-0.3505671
X-APPLE-STRUCTURED-LOCATION;VALUE=URI;X-ADDRESS=Alboraia.- Plaça Constitució Plaça Constitució Alboraia L'Horta 46120;X-APPLE-RADIUS=500;X-TITLE=Plaça Constitució:geo:-0.3505671,39.500092
END:VEVENT
BEGIN:VEVENT
DTSTART;TZID=Europe/Paris:20260103T174500
DTEND;TZID=Europe/Paris:20260103T184500
DTSTAMP:20260424T050522
CREATED:20251222T081747Z
LAST-MODIFIED:20251222T081747Z
UID:10000665-1767462300-1767465900@familiespelvalencia.org
SUMMARY:Contacontes. Matilda
DESCRIPTION:Matilda és una xiqueta sorprenentment intel·ligent i curiosa\, que malgrat la indiferència dels seus pares troba refugi en els llibres i la literatura. La seua vida canvia quan comença l’escola i descobrix que no sols és més llesta que els seus companys\, sinó que a més posseïx increïbles habilitats telequinétiques. Sota la cura d’una bondadosa senyoreta\, Matilda s’enfronta a la malvada directora\, una dona cruel que turmenta als estudiants. Usant el seu enginy i els seus poders\, Matilda traçarà un pla per a posar fi a la tirania de la senyoreta Tronchatoro i alliberar la seua benvolguda mestra. Al final\, la xicoteta heroïna aconseguix el que més anhela: una llar amorosa on pot continuar desenrotllant la seua brillant ment.
URL:https://familiespelvalencia.org/activitat/contacontes-matilda/
LOCATION:Paterna\, Plaça del poble
CATEGORIES:Comarques Túria–Xúquer
ATTACH;FMTTYPE=image/png:https://familiespelvalencia.org/wp-content/uploads/2025/12/matilda.png
GEO:42.5067895;1.5223013
X-APPLE-STRUCTURED-LOCATION;VALUE=URI;X-ADDRESS=Paterna Plaça del poble;X-APPLE-RADIUS=500;X-TITLE=Plaça del poble:geo:1.5223013,42.5067895
END:VEVENT
END:VCALENDAR