BEGIN:VCALENDAR
VERSION:2.0
PRODID:-//FAMÍLIES PEL VALENCIÀ - ECPv6.15.20//NONSGML v1.0//EN
CALSCALE:GREGORIAN
METHOD:PUBLISH
X-WR-CALNAME:FAMÍLIES PEL VALENCIÀ
X-ORIGINAL-URL:https://familiespelvalencia.org
X-WR-CALDESC:Esdeveniments per FAMÍLIES PEL VALENCIÀ
REFRESH-INTERVAL;VALUE=DURATION:PT1H
X-Robots-Tag:noindex
X-PUBLISHED-TTL:PT1H
BEGIN:VTIMEZONE
TZID:Europe/Paris
BEGIN:DAYLIGHT
TZOFFSETFROM:+0100
TZOFFSETTO:+0200
TZNAME:CEST
DTSTART:20240331T010000
END:DAYLIGHT
BEGIN:STANDARD
TZOFFSETFROM:+0200
TZOFFSETTO:+0100
TZNAME:CET
DTSTART:20241027T010000
END:STANDARD
BEGIN:DAYLIGHT
TZOFFSETFROM:+0100
TZOFFSETTO:+0200
TZNAME:CEST
DTSTART:20250330T010000
END:DAYLIGHT
BEGIN:STANDARD
TZOFFSETFROM:+0200
TZOFFSETTO:+0100
TZNAME:CET
DTSTART:20251026T010000
END:STANDARD
BEGIN:DAYLIGHT
TZOFFSETFROM:+0100
TZOFFSETTO:+0200
TZNAME:CEST
DTSTART:20260329T010000
END:DAYLIGHT
BEGIN:STANDARD
TZOFFSETFROM:+0200
TZOFFSETTO:+0100
TZNAME:CET
DTSTART:20261025T010000
END:STANDARD
END:VTIMEZONE
BEGIN:VEVENT
DTSTART;TZID=Europe/Paris:20251223T173000
DTEND;TZID=Europe/Paris:20251223T183000
DTSTAMP:20260424T050930
CREATED:20251218T163251Z
LAST-MODIFIED:20251218T163612Z
UID:10000645-1766511000-1766514600@familiespelvalencia.org
SUMMARY:Contes per a una nit de Nadal
DESCRIPTION:La Biblioteca Municipal es transforma en un espai màgic ple de contes i emocions amb l’espectacle familiar “Contes per a una nit de Nadal”. Una proposta per a totes les edats que convida a compartir històries\, valors i moments especials al voltant de la tradició nadalenca. Una manera divertida i entranyable de donar la benvinguda al Nadal fomentant el gust per la lectura. \nMés informació: Ajuntament de Montserrat
URL:https://familiespelvalencia.org/activitat/contes-per-a-una-nit-de-nadal/
LOCATION:Biblioteca Municipal.- Montserrat\, Carrer Dos de Maig\, 6\, Montserrat\, Ribera Alta\, 46192
CATEGORIES:Comarques Túria–Xúquer
ATTACH;FMTTYPE=image/jpeg:https://familiespelvalencia.org/wp-content/uploads/2025/12/contes-per-a-una-nit-nadal.jpg
GEO:39.3565119;-0.6034051
X-APPLE-STRUCTURED-LOCATION;VALUE=URI;X-ADDRESS=Biblioteca Municipal.- Montserrat Carrer Dos de Maig 6 Montserrat Ribera Alta 46192;X-APPLE-RADIUS=500;X-TITLE=Carrer Dos de Maig\, 6:geo:-0.6034051,39.3565119
END:VEVENT
BEGIN:VEVENT
DTSTART;TZID=Europe/Paris:20251223T180000
DTEND;TZID=Europe/Paris:20251223T190000
DTSTAMP:20260424T050930
CREATED:20251223T110836Z
LAST-MODIFIED:20251223T111436Z
UID:10000673-1766512800-1766516400@familiespelvalencia.org
SUMMARY:Contacontes. Xip\, xap\, conte contat.
DESCRIPTION:A càrrec de Joanvi Cubedo (Tio Vicent: actor/narrador) \nEl Tio Vicent\, artista veterà en l’escena de la narració oral valenciana\, ens convida a un viatge vibrant de paraules i emocions. A través de contes plens d’aventures\, ritmes i sorpresa\, xiquets i xiquetes es submergeixen en històries teixides amb màgia i proximitat\, fent que cada “xip\, xap” desperte la imaginació i el somriure \n 
URL:https://familiespelvalencia.org/activitat/contacontes-xip-xap-conte-contat/
LOCATION:Biblioteca Municipal de Sueca\, Plaça Molins de la Vila\, 9\, Sueca\, Ribera Baixa\, 46410
CATEGORIES:Comarques Túria–Xúquer
ATTACH;FMTTYPE=image/jpeg:https://familiespelvalencia.org/wp-content/uploads/2025/12/JOANVI.jpg
GEO:39.2031523;-0.315036
X-APPLE-STRUCTURED-LOCATION;VALUE=URI;X-ADDRESS=Biblioteca Municipal de Sueca Plaça Molins de la Vila 9 Sueca Ribera Baixa 46410;X-APPLE-RADIUS=500;X-TITLE=Plaça Molins de la Vila\, 9:geo:-0.315036,39.2031523
END:VEVENT
BEGIN:VEVENT
DTSTART;TZID=Europe/Paris:20251223T183000
DTEND;TZID=Europe/Paris:20251223T193000
DTSTAMP:20260424T050930
CREATED:20251214T214405Z
LAST-MODIFIED:20251214T214603Z
UID:10000616-1766514600-1766518200@familiespelvalencia.org
SUMMARY:Concert. Nadales laiques (18.30h i 20h)
DESCRIPTION:L’Ateneu de Manises ens convida a gaudir d’una vesprada especial amb cançons d’hivern en valencià. Un concert pensat per a totes les edats\, amb melodies tradicionals i contemporànies que celebren la cultura i la convivència en aquestes dates. \nEntrada gratuïta\, cal extraure invitació prèvia a l’Ateneu de Manises.
URL:https://familiespelvalencia.org/activitat/concert-nadales-laiques/
LOCATION:Ateneu Manises\, Fray Salvador Mollar Ventura\, 7\, Manises\, L'Horta\, 46940
CATEGORIES:Comarques Túria–Xúquer
ATTACH;FMTTYPE=image/png:https://familiespelvalencia.org/wp-content/uploads/2025/12/nadales-laiques-en-valencia.png
GEO:39.5000213;-0.477747
X-APPLE-STRUCTURED-LOCATION;VALUE=URI;X-ADDRESS=Ateneu Manises Fray Salvador Mollar Ventura 7 Manises L'Horta 46940;X-APPLE-RADIUS=500;X-TITLE=Fray Salvador Mollar Ventura\, 7:geo:-0.477747,39.5000213
END:VEVENT
BEGIN:VEVENT
DTSTART;TZID=Europe/Paris:20251224T121500
DTEND;TZID=Europe/Paris:20251224T133000
DTSTAMP:20260424T050930
CREATED:20251203T120301Z
LAST-MODIFIED:20251203T120301Z
UID:10000539-1766578500-1766583000@familiespelvalencia.org
SUMMARY:Concert Dani Miquel
DESCRIPTION:Concert Dani Miquel a Paiporta
URL:https://familiespelvalencia.org/activitat/concert-dani-miquel-13/
LOCATION:Església Sant Jordi\, Paiporta\, Plaça l'església\, Paiporta\, Horta Sud
CATEGORIES:Comarques Túria–Xúquer
ATTACH;FMTTYPE=image/jpeg:https://familiespelvalencia.org/wp-content/uploads/2025/12/dani-miquel-desembre-1.jpg
GEO:39.4287524;-0.4186571
X-APPLE-STRUCTURED-LOCATION;VALUE=URI;X-ADDRESS=Església Sant Jordi Paiporta Plaça l'església Paiporta Horta Sud;X-APPLE-RADIUS=500;X-TITLE=Plaça l'església:geo:-0.4186571,39.4287524
END:VEVENT
BEGIN:VEVENT
DTSTART;TZID=Europe/Paris:20251226T170000
DTEND;TZID=Europe/Paris:20251226T180500
DTSTAMP:20260424T050930
CREATED:20251224T172907Z
LAST-MODIFIED:20251224T173211Z
UID:10000681-1766768400-1766772300@familiespelvalencia.org
SUMMARY:Teatre: Alícia al vaixell de les meravelles\, el musical
DESCRIPTION:De Trencadís Produccions \nIntèrprets: María Bruñó\, Andreu Beltrán i Héctor González Martí. Direcció: Jose Tomàs Chàfer. Text i lletres: Josep Mollà. Música original: Paco Iváñez. Coreografia: Pachi G. Fenollar. \nGènere: Teatre musical\nPúblic: Familiar\nDurada: 65 min. \nSinopsi \nAlícia al Vaixell de les Meravelles és unespectacle musical que explora el temauniversal del viatge i l’adaptació a través dedues històries entrellaçades. Per una banda\, elviatge real que recorda el iaio Cristóbal\, qui alsanys 60 va partir des de Cuba cap a Europacercant la llibertat\, i per altra banda\, el viatgeimaginari que fa la seua neta\, Alícia\, a travésde la lectura d’Alícia al País de les Meravelles. \nAquesta proposta vol mostrar com\, tant el iaioCristóbal com Alícia\, s’enfronten a monsdesconeguts\, on han de trobar la manerad’adaptar-se a nous entorns culturals\,lingüístics i socials\, sense oblidar les arrels i laidentitat. A través de la paraula\, la música i ladansa\, l’espectacle busca connectar amb elpúblic més jove\, fent-los reflexionar sobre lesdificultats i les oportunitats que suposen elscanvis en les nostres vides. \nMés informació: Teatre l’Agrícola
URL:https://familiespelvalencia.org/activitat/teatre-alicia-al-vaixell-de-les-meravelles-el-musical-5/
LOCATION:Teatre Agrícola\, C. Cervantes\, 3\,\, Alboraia\, L'Horta\, 46120
CATEGORIES:Comarques Túria–Xúquer
ATTACH;FMTTYPE=image/jpeg:https://familiespelvalencia.org/wp-content/uploads/2025/10/alicia.jpg
GEO:39.4998136;-0.3491286
X-APPLE-STRUCTURED-LOCATION;VALUE=URI;X-ADDRESS=Teatre Agrícola C. Cervantes 3 Alboraia L'Horta 46120;X-APPLE-RADIUS=500;X-TITLE=C. Cervantes\, 3\,:geo:-0.3491286,39.4998136
END:VEVENT
BEGIN:VEVENT
DTSTART;TZID=Europe/Paris:20251226T180000
DTEND;TZID=Europe/Paris:20251226T190000
DTSTAMP:20260424T050930
CREATED:20251211T142553Z
LAST-MODIFIED:20251211T142553Z
UID:10000601-1766772000-1766775600@familiespelvalencia.org
SUMMARY:Espectacle Circ. Llar
DESCRIPTION:La companyia Federico Menini representa l’espectacle de circ Llar el divendres 26 de desembre a les 18 hores en el Centre Cultural Mario Monreal. Esta actuació de 60 minuts és dirigida a tots els públics. \nMés informació: Ajuntament de Sagunt
URL:https://familiespelvalencia.org/activitat/espectacle-circ-llar/
LOCATION:Centre Cultural Mario Monreal.- Sagunt\, C/ Roma\, 9\, Sagunt\, Camp de Morvedre\, 46500
CATEGORIES:Comarques Túria–Xúquer
ATTACH;FMTTYPE=image/jpeg:https://familiespelvalencia.org/wp-content/uploads/2025/12/Llar-1.jpg
GEO:39.6821516;-0.2821445
X-APPLE-STRUCTURED-LOCATION;VALUE=URI;X-ADDRESS=Centre Cultural Mario Monreal.- Sagunt C/ Roma 9 Sagunt Camp de Morvedre 46500;X-APPLE-RADIUS=500;X-TITLE=C/ Roma\, 9:geo:-0.2821445,39.6821516
END:VEVENT
BEGIN:VEVENT
DTSTART;TZID=Europe/Paris:20251227T120000
DTEND;TZID=Europe/Paris:20251227T130000
DTSTAMP:20260424T050930
CREATED:20251223T111428Z
LAST-MODIFIED:20251223T111428Z
UID:10000674-1766836800-1766840400@familiespelvalencia.org
SUMMARY:Contacontes. Xip\, xap\, conte contat.
DESCRIPTION:A càrrec de Joanvi Cubedo (Tio Vicent: actor/narrador) \nEl Tio Vicent\, artista veterà en l’escena de la narració oral valenciana\, ens convida a un viatge vibrant de paraules i emocions. A través de contes plens d’aventures\, ritmes i sorpresa\, xiquets i xiquetes es submergeixen en històries teixides amb màgia i proximitat\, fent que cada “xip\, xap” desperte la imaginació i el somriure \n 
URL:https://familiespelvalencia.org/activitat/contacontes-xip-xap-conte-contat-2/
LOCATION:Centre Comercial MN4.- Librolandia\, C/ Alcalde José Puertes (a la planta baixa del centre comercial)\, Alfafar\, L'Horta\, 46910
CATEGORIES:Comarques Túria–Xúquer
ATTACH;FMTTYPE=image/jpeg:https://familiespelvalencia.org/wp-content/uploads/2025/12/JOANVI.jpg
GEO:39.4161865;-0.3810842
X-APPLE-STRUCTURED-LOCATION;VALUE=URI;X-ADDRESS=Centre Comercial MN4.- Librolandia C/ Alcalde José Puertes (a la planta baixa del centre comercial) Alfafar L'Horta 46910;X-APPLE-RADIUS=500;X-TITLE=C/ Alcalde José Puertes (a la planta baixa del centre comercial):geo:-0.3810842,39.4161865
END:VEVENT
BEGIN:VEVENT
DTSTART;TZID=Europe/Paris:20251227T120000
DTEND;TZID=Europe/Paris:20251227T133000
DTSTAMP:20260424T050930
CREATED:20251203T120705Z
LAST-MODIFIED:20251203T120705Z
UID:10000540-1766836800-1766842200@familiespelvalencia.org
SUMMARY:Concert Dani Miquel
DESCRIPTION:Concert Dani Miquel a l’Ateneu de Bétera
URL:https://familiespelvalencia.org/activitat/concert-dani-miquel-14/
LOCATION:Ateneu de Bétera\, Plaça del Mercat\, 5\, Bétera\, Camp de Túria
CATEGORIES:Comarques Túria–Xúquer
ATTACH;FMTTYPE=image/jpeg:https://familiespelvalencia.org/wp-content/uploads/2025/12/dani-miquel-desembre-1.jpg
GEO:39.5929822;-0.4624276
X-APPLE-STRUCTURED-LOCATION;VALUE=URI;X-ADDRESS=Ateneu de Bétera Plaça del Mercat 5 Bétera Camp de Túria;X-APPLE-RADIUS=500;X-TITLE=Plaça del Mercat\, 5:geo:-0.4624276,39.5929822
END:VEVENT
BEGIN:VEVENT
DTSTART;TZID=Europe/Paris:20251228T110000
DTEND;TZID=Europe/Paris:20251228T140000
DTSTAMP:20260424T050930
CREATED:20251205T065253Z
LAST-MODIFIED:20251205T065253Z
UID:10000572-1766919600-1766930400@familiespelvalencia.org
SUMMARY:Concert. Ramonets (Cap d'any infantil)
DESCRIPTION:Festa de Cap d’Any per als més menuts a Alaquàs.\nDona la benvinguda al 2026 amb una jornada pensada per a gaudir en família! L’Ajuntament d’Alaquàs organitza una festa integradora i plena de cultura en valencià\, amb activitats per a xiquets\, xiquetes i majors. El grup valencià que fa vibrar els més menuts amb el seu rock adaptat serà el protagonista del matí\, junt amb el festival Feretes i Cançonetes. A més del concert\, hi haurà tallers creatius\, espais de joc i una \nMés informació: Ajuntament d’Alaquàs
URL:https://familiespelvalencia.org/activitat/concert-ramonets-cap-dany-infantil/
LOCATION:Parc de la Sequieta.- Alaquàs\, Parc de la Sequieta\, Alaquàs\, L'Horta\, 46970
CATEGORIES:Comarques Túria–Xúquer
ATTACH;FMTTYPE=image/jpeg:https://familiespelvalencia.org/wp-content/uploads/2025/12/cap-dany-alaquas.jpg
GEO:39.4534808;-0.4608202
X-APPLE-STRUCTURED-LOCATION;VALUE=URI;X-ADDRESS=Parc de la Sequieta.- Alaquàs Parc de la Sequieta Alaquàs L'Horta 46970;X-APPLE-RADIUS=500;X-TITLE=Parc de la Sequieta:geo:-0.4608202,39.4534808
END:VEVENT
BEGIN:VEVENT
DTSTART;TZID=Europe/Paris:20251228T120000
DTEND;TZID=Europe/Paris:20251228T140000
DTSTAMP:20260424T050930
CREATED:20251225T211158Z
LAST-MODIFIED:20251225T211340Z
UID:10000682-1766923200-1766930400@familiespelvalencia.org
SUMMARY:Concert. Del Rotllo (Falsos i Absurds + Reina Mora + Primavera Valenciana)
DESCRIPTION:Un diumenge únic per viure la música en directe amb tota la seua força!\nLa Casa de la Mar acull una gran festa dins del Patacona Fest\, amb tres propostes que faran vibrar públic de totes les edats: \n\nFalsos i Absurds: el duet acústic que transforma versions en valencià i castellà en un viatge íntim i emotiu. Al repertori\, noms com Manel\, Figa Flawas\, Obrint Pas\, Lluís Llach\, Al Tall\, La Raíz o Oques Grasses.\nReina Mora: la Electro Brass Band valenciana que barreja la potència bandística amb l’electrònica més salvatge (Techno\, Hardtek\, Drum&Bass\, Trance). El seu “Electro Cañí” convertirà La Casa de la Mar en una autèntica rave!\nPrimavera Valenciana: tribut que reviu la força d’Obrint Pas i La Gossa Sorda amb un espectacle ple d’emoció\, memòria i essència del rock valencià\n\n🔥 I a partir de les 14:00 h… festa també per al paladar!\nEl mestre paeller Luis “El Rico”\, directament des de l’Albufera\, oferirà un showcooking de paelles en directe: foc\, aroma i tradició mentre l’arròs es fa al punt perfecte. Una experiència tan valenciana com deliciosa. \n📌 Un pla ideal per a famílies que estimen la música\, l’ambient festiu i la bona gastronomia! \nMés informació i venda d’entrades: Casa de la Mar \nMenors de 12 anys entrada lliure.
URL:https://familiespelvalencia.org/activitat/concert-del-rotllo-falsos-i-absurds-reina-mora-primavera-valenciana/
LOCATION:Casa de la Mar.- Alboraia\, Avinguda Novel·lista Vicente Blasco Ibáñez\, 8\, Alboraia\, L'Horta\, 46120
CATEGORIES:Comarques Túria–Xúquer
ATTACH;FMTTYPE=image/jpeg:https://familiespelvalencia.org/wp-content/uploads/2025/12/Del-Rotllo.jpg
GEO:39.4989552;-0.3510141
X-APPLE-STRUCTURED-LOCATION;VALUE=URI;X-ADDRESS=Casa de la Mar.- Alboraia Avinguda Novel·lista Vicente Blasco Ibáñez 8 Alboraia L'Horta 46120;X-APPLE-RADIUS=500;X-TITLE=Avinguda Novel·lista Vicente Blasco Ibáñez\, 8:geo:-0.3510141,39.4989552
END:VEVENT
BEGIN:VEVENT
DTSTART;TZID=Europe/Paris:20251228T180000
DTEND;TZID=Europe/Paris:20251228T193000
DTSTAMP:20260424T050930
CREATED:20251129T212104Z
LAST-MODIFIED:20251129T212111Z
UID:10000508-1766944800-1766950200@familiespelvalencia.org
SUMMARY:Hola\, Frida
DESCRIPTION:Aquesta és la història d’una nena diferent. El seu món és Coyoacan a Mèxic. Brillant\, vibrant\, tot l’interessa. I quan sorgeixen entrebancs\, els afronta amb una imaginació desbordant. Aquesta nena es diu Frida Kahlo! \n\n\n\n\n\n\n\n\n\n\n\n\n\n\n\n Estats Units. 2024. Infantil\, animació. Direcció: Karine Vézina\, André Kadi.  Intèrprets: Olivia Ruiz\, Emma Rodríguez\, Rebeca González.\n Públic: Per a majors de 5 anys.\n Idioma: valencià.\n Duració: 82′.\n Preu: 3 €.\n Comprar entrades: Casa de la Cultura “José Peris Aragó”.\n\nTelèfons: 961862048 / 963171700.\nUna hora abans de la representació al TEATRE L’AGRÍCOLA.\nA causa de problemes tècnics no es podran adquirir les entrades de manera telemàtica.
URL:https://familiespelvalencia.org/activitat/hola-frida/
LOCATION:Teatre Agrícola\, C. Cervantes\, 3\,\, Alboraia\, L'Horta\, 46120
CATEGORIES:Comarques Túria–Xúquer
ATTACH;FMTTYPE=image/png:https://familiespelvalencia.org/wp-content/uploads/2025/11/hola_frida.png
GEO:39.4998136;-0.3491286
X-APPLE-STRUCTURED-LOCATION;VALUE=URI;X-ADDRESS=Teatre Agrícola C. Cervantes 3 Alboraia L'Horta 46120;X-APPLE-RADIUS=500;X-TITLE=C. Cervantes\, 3\,:geo:-0.3491286,39.4998136
END:VEVENT
BEGIN:VEVENT
DTSTART;TZID=Europe/Paris:20251228T180000
DTEND;TZID=Europe/Paris:20251228T193000
DTSTAMP:20260424T050930
CREATED:20251217T111344Z
LAST-MODIFIED:20251217T111344Z
UID:10000634-1766944800-1766950200@familiespelvalencia.org
SUMMARY:Teatre. Monstrelandia
DESCRIPTION:Cia. Tramant Teatre \nEl pirata Mala Pata arriba a Monstrelandia perquè vol trobar els tresors del gran Xixuxumayo. Però es troba a Maria\, que li contrarà les històries de Franki\, el xiquet vert que era diferent dels altres\, o de Draqui\, que va fer una festa d’aniversari i no va anar ningú. Entre contes i cançons el pirata trobarà grans tresors i també l’amistat de Maria. \nPúblic familiar. \nMés informació i compra d’entrades: Agenda Cullera
URL:https://familiespelvalencia.org/activitat/teatre-monstrelandia/
LOCATION:Casa de la Cultura de Cullera\, C/ La Bega\, 14\, Cullera\, Ribera Baixa\, 46400
CATEGORIES:Comarques Túria–Xúquer
ATTACH;FMTTYPE=image/png:https://familiespelvalencia.org/wp-content/uploads/2025/12/monstrelandia.png
GEO:39.1436474;-0.2713944
X-APPLE-STRUCTURED-LOCATION;VALUE=URI;X-ADDRESS=Casa de la Cultura de Cullera C/ La Bega 14 Cullera Ribera Baixa 46400;X-APPLE-RADIUS=500;X-TITLE=C/ La Bega\, 14:geo:-0.2713944,39.1436474
END:VEVENT
END:VCALENDAR