BEGIN:VCALENDAR
VERSION:2.0
PRODID:-//FAMÍLIES PEL VALENCIÀ - ECPv6.15.20//NONSGML v1.0//EN
CALSCALE:GREGORIAN
METHOD:PUBLISH
X-ORIGINAL-URL:https://familiespelvalencia.org
X-WR-CALDESC:Esdeveniments per FAMÍLIES PEL VALENCIÀ
REFRESH-INTERVAL;VALUE=DURATION:PT1H
X-Robots-Tag:noindex
X-PUBLISHED-TTL:PT1H
BEGIN:VTIMEZONE
TZID:Europe/Paris
BEGIN:DAYLIGHT
TZOFFSETFROM:+0100
TZOFFSETTO:+0200
TZNAME:CEST
DTSTART:20240331T010000
END:DAYLIGHT
BEGIN:STANDARD
TZOFFSETFROM:+0200
TZOFFSETTO:+0100
TZNAME:CET
DTSTART:20241027T010000
END:STANDARD
BEGIN:DAYLIGHT
TZOFFSETFROM:+0100
TZOFFSETTO:+0200
TZNAME:CEST
DTSTART:20250330T010000
END:DAYLIGHT
BEGIN:STANDARD
TZOFFSETFROM:+0200
TZOFFSETTO:+0100
TZNAME:CET
DTSTART:20251026T010000
END:STANDARD
BEGIN:DAYLIGHT
TZOFFSETFROM:+0100
TZOFFSETTO:+0200
TZNAME:CEST
DTSTART:20260329T010000
END:DAYLIGHT
BEGIN:STANDARD
TZOFFSETFROM:+0200
TZOFFSETTO:+0100
TZNAME:CET
DTSTART:20261025T010000
END:STANDARD
END:VTIMEZONE
BEGIN:VEVENT
DTSTART;TZID=Europe/Paris:20251209T173000
DTEND;TZID=Europe/Paris:20251209T183000
DTSTAMP:20260424T052235
CREATED:20251203T091521Z
LAST-MODIFIED:20251203T101115Z
UID:10000536-1765301400-1765305000@familiespelvalencia.org
SUMMARY:Bebeteca. La Bebeteca musical de Pepot
DESCRIPTION:Una activitat pensada per als més menuts! La Bebeteca musical de Pepot és una experiència sensorial i musical adreçada a bebés i xiquets de 1 a 36 mesos\, on la música es converteix en un joc compartit amb les famílies. Sons\, ritmes i cançons per despertar la curiositat i gaudir junts d’un moment especial. \n👉 Places limitades.\n✅ Cal inscripció prèvia en l’Agència de Lectura de Museros. \nMés informació: Ajuntament de Museros
URL:https://familiespelvalencia.org/activitat/bebeteca-la-bebeteca-musical-de-pepot/
LOCATION:Agència de Lectura Municipal Museros\, Carrer de les Escoles Velles\, 1\, Museros\, L'Horta\, 46136\, Spain
CATEGORIES:Comarques Túria–Xúquer
ATTACH;FMTTYPE=image/jpeg:https://familiespelvalencia.org/wp-content/uploads/2025/12/bebeteca-Museros.jpg
GEO:39.5639725;-0.3407994
X-APPLE-STRUCTURED-LOCATION;VALUE=URI;X-ADDRESS=Agència de Lectura Municipal Museros Carrer de les Escoles Velles 1 Museros L'Horta 46136 Spain;X-APPLE-RADIUS=500;X-TITLE=Carrer de les Escoles Velles\, 1:geo:-0.3407994,39.5639725
END:VEVENT
BEGIN:VEVENT
DTSTART;TZID=Europe/Paris:20251211T173000
DTEND;TZID=Europe/Paris:20251211T183000
DTSTAMP:20260424T052235
CREATED:20251204T152834Z
LAST-MODIFIED:20251204T152851Z
UID:10000564-1765474200-1765477800@familiespelvalencia.org
SUMMARY:Contacontes. La maleta viatgera a càrrec del Gran Jordiet
DESCRIPTION:L’Agència de Lectura de Museros obrirà les seues portes a la imaginació amb una sessió molt especial: “La Maleta Viatgera”\, de la mà del Gran Jordiet. Un contacontes que ens farà viatjar per històries plenes de màgia\, humor i tendresa\, pensades per a xiquets i xiquetes\, però també per a totes aquelles persones que encara conserven l’esperit curiós. Amb la seua maleta carregada de contes\, Jordiet ens convida a descobrir mons fantàstics\, personatges sorprenents i aventures que desperten somriures. Una experiència per compartir en família i gaudir del plaer de la lectura i la narració oral. \nPlaces limitades. Cal apuntar-se a l’Agència de Lectura de Museros \nMés informació: Ajuntament de Museros
URL:https://familiespelvalencia.org/activitat/contacontes-la-maleta-viatgera-a-carrec-del-gran-jordiet-3/
LOCATION:Agència de Lectura Municipal Museros\, Carrer de les Escoles Velles\, 1\, Museros\, L'Horta\, 46136\, Spain
CATEGORIES:Comarques Túria–Xúquer
ATTACH;FMTTYPE=image/jpeg:https://familiespelvalencia.org/wp-content/uploads/2025/12/EL-GRAN-JORDIET-MUSEROS.jpeg
GEO:39.5639725;-0.3407994
X-APPLE-STRUCTURED-LOCATION;VALUE=URI;X-ADDRESS=Agència de Lectura Municipal Museros Carrer de les Escoles Velles 1 Museros L'Horta 46136 Spain;X-APPLE-RADIUS=500;X-TITLE=Carrer de les Escoles Velles\, 1:geo:-0.3407994,39.5639725
END:VEVENT
BEGIN:VEVENT
DTSTART;TZID=Europe/Paris:20251212T180000
DTEND;TZID=Europe/Paris:20251212T190000
DTSTAMP:20260424T052235
CREATED:20251126T124617Z
LAST-MODIFIED:20251126T173103Z
UID:10000476-1765562400-1765566000@familiespelvalencia.org
SUMMARY:Contacontes: El conte de Nadal de Charles Dickens versió de Joanvi Cubedo (Tio Vicent)
DESCRIPTION:Aquest Nadal\, gaudeix d’una experiència única amb el nostre estimat contacontes Joanvi Cubedo\, conegut com El tio Vicent. En aquesta ocasió ens porta la seua versió especial del clàssic de Charles Dickens\, adaptada amb la seua inconfusible gràcia i proximitat. Una narració plena d’emoció\, valors i esperit nadalenc\, pensada per a tota la família. El Tio Vicent aconsegueix transformar una història universal en un relat proper\, amb humor\, tendresa i la màgia de la tradició oral en valencià. \nNo deixes passar aquesta cita que combina literatura\, cultura i la calidesa del Nadal. T’esperem per compartir contes\, somriures i bons desitjos!
URL:https://familiespelvalencia.org/activitat/contacontes-el-conte-de-nadal-de-charles-dickens-versio-de-joanvi-cubedo-tio-vicent/
LOCATION:Casa de la Cultura d’Alboraia.- Josep Peris Aragó\, Carrer Camí de la Mar\, 1\, Alboraia\, 46120
CATEGORIES:Comarques Túria–Xúquer
ATTACH;FMTTYPE=image/jpeg:https://familiespelvalencia.org/wp-content/uploads/2025/11/El-tio-Vicent-Charles-Dickens.jpg
GEO:39.5015479;-0.3463627
X-APPLE-STRUCTURED-LOCATION;VALUE=URI;X-ADDRESS=Casa de la Cultura d’Alboraia.- Josep Peris Aragó Carrer Camí de la Mar 1 Alboraia 46120;X-APPLE-RADIUS=500;X-TITLE=Carrer Camí de la Mar\, 1:geo:-0.3463627,39.5015479
END:VEVENT
BEGIN:VEVENT
DTSTART;TZID=Europe/Paris:20251212T180000
DTEND;TZID=Europe/Paris:20251212T190000
DTSTAMP:20260424T052235
CREATED:20251205T064123Z
LAST-MODIFIED:20251205T064123Z
UID:10000571-1765562400-1765566000@familiespelvalencia.org
SUMMARY:Contacontes. El Monstre Petorro
DESCRIPTION:Un espectacle familiar ple de contes\, música\, rialles\, màgia i valors per a grans i menuts! Presentem el llibre editat per Bromera Algar Animallibres i il·lustrat per Carles Arbat. \nMés informació: Ajuntament Albalat de la Ribera
URL:https://familiespelvalencia.org/activitat/contacontes-el-monstre-petorro/
LOCATION:Albalat de la Ribera\, Plaça de la Cort\, Albalat de la Ribera\, Ribera Baixa\, 46687
CATEGORIES:Comarques Túria–Xúquer
ATTACH;FMTTYPE=image/jpeg:https://familiespelvalencia.org/wp-content/uploads/2025/12/el-monstre-petorro.jpg
GEO:39.200973;-0.3866459
X-APPLE-STRUCTURED-LOCATION;VALUE=URI;X-ADDRESS=Albalat de la Ribera Plaça de la Cort Albalat de la Ribera Ribera Baixa 46687;X-APPLE-RADIUS=500;X-TITLE=Plaça de la Cort:geo:-0.3866459,39.200973
END:VEVENT
BEGIN:VEVENT
DTSTART;TZID=Europe/Paris:20251212T180000
DTEND;TZID=Europe/Paris:20251212T190000
DTSTAMP:20260424T052235
CREATED:20251211T140530Z
LAST-MODIFIED:20251211T140544Z
UID:10000599-1765562400-1765566000@familiespelvalencia.org
SUMMARY:Contacontes: Les tres reines magues
DESCRIPTION:Contacontes a càrrec de Maria Grau\nLes Tres Reines Magues estan de camí a Betlem! Un viatge ple d’aventures\, anècdotes divertides entre camelles i remendadores… arribaran a la destinació? Una història màgica per a xiquets i xiquetes que combina la fantasia amb el teatre d’ombres i les titelles\, inspirada en el conte de Gloria Fuertes. \nCal inscripció prèvia \nMés informació: Ajuntament de Sagunt
URL:https://familiespelvalencia.org/activitat/contacontes-les-tres-reines-magues/
LOCATION:Centre Cívic.- Port de Sagunt\, Carrer Doctor Fleming 2\, Sagunt\, Camp de Morvedre\, 46520
CATEGORIES:Comarques Túria–Xúquer
ATTACH;FMTTYPE=image/jpeg:https://familiespelvalencia.org/wp-content/uploads/2025/12/18-cc-les-tres-reines-magues-12122025.jpg
GEO:39.6642526;-0.2286797
X-APPLE-STRUCTURED-LOCATION;VALUE=URI;X-ADDRESS=Centre Cívic.- Port de Sagunt Carrer Doctor Fleming 2 Sagunt Camp de Morvedre 46520;X-APPLE-RADIUS=500;X-TITLE=Carrer Doctor Fleming 2:geo:-0.2286797,39.6642526
END:VEVENT
BEGIN:VEVENT
DTSTART;TZID=Europe/Paris:20251213T123000
DTEND;TZID=Europe/Paris:20251213T133000
DTSTAMP:20260424T052235
CREATED:20251212T211906Z
LAST-MODIFIED:20251212T211906Z
UID:10000608-1765629000-1765632600@familiespelvalencia.org
SUMMARY:Concert. Trobadorets
DESCRIPTION:Trobadorets ens conviden a participar d’una festa musical plena d’energia i diversió\, pensada tant per als més menuts com per als adults. Amb més de quinze anys de trajectòria en la música infantil valenciana\, aquest grup destaca per crear espectacles on no és possible quedar-se quiet: canta\, balla\, riu i xala!
URL:https://familiespelvalencia.org/activitat/concert-trobadorets-4/
LOCATION:L’Eliana\, Plaça del País Valencià\, L'Eliana\, Camp de Túria\, 46183
CATEGORIES:Comarques Túria–Xúquer
ATTACH;FMTTYPE=image/jpeg:https://familiespelvalencia.org/wp-content/uploads/2025/12/trobadorets.jpg
GEO:39.5666571;-0.5296458
X-APPLE-STRUCTURED-LOCATION;VALUE=URI;X-ADDRESS=L’Eliana Plaça del País Valencià L'Eliana Camp de Túria 46183;X-APPLE-RADIUS=500;X-TITLE=Plaça del País Valencià:geo:-0.5296458,39.5666571
END:VEVENT
BEGIN:VEVENT
DTSTART;TZID=Europe/Paris:20251213T190000
DTEND;TZID=Europe/Paris:20251213T203000
DTSTAMP:20260424T052235
CREATED:20251020T152600Z
LAST-MODIFIED:20251126T173307Z
UID:10000152-1765652400-1765657800@familiespelvalencia.org
SUMMARY:Teatre: Pinotxo\, un musical d'aventures
DESCRIPTION:La última producció de Trencadis Produccions. \nDurada: 80 min. \nSinopsi \nAmb text i lletres de Josep Mollà\, el teatre dins del teatre és la clau per poder explicar les aventures de Pinotxo en aquesta nova proposta de Trencadís. Qui no ha jugat mai a ser actor o actriu? A través de les il·lusions de Laura\, una nena apassionada pel món del teatre\, farem un viatge a través de les aventures més conegudes de l’estimadíssim titella\, amb una partitura fantàstica\, veus en rigorós directe i grans coreografies. \nVídeo romocional: Pinotxo\, un musical d’aventures\nEntrades: Enllaç plataforma compra\nMés informació: Ajuntament Alcàsser \nDirecció: JosepTomàs Chàfer / text i lletres: Josep Mollà / Música original: Francis J. / Creacióde cors i assistència vocal: Mary Porcar / Veus en off:  Adrián Romero / Coreografia: Pachi G. Fenollar/ Disseny d’il·luminació: Ximo Rojo i Mari Benavent / Perruqueria icaracterització: Inma Fuentes / Adaptació de vestuari: Reme Bufante / Escenografia:Doménec Mezquita / Material gràfic: Mónica Zamora
URL:https://familiespelvalencia.org/activitat/teatre-pinotxo-un-musical-daventures-2/
LOCATION:Centre Cultural Cristóbal Soler\, Carrer Dionís Chanza 14\, Alcàsser\, 46290
CATEGORIES:Comarques Túria–Xúquer
ATTACH;FMTTYPE=image/jpeg:https://familiespelvalencia.org/wp-content/uploads/2025/10/CARTELL-PINOTXO-val-A3.jpg
GEO:39.3705913;-0.4457169
X-APPLE-STRUCTURED-LOCATION;VALUE=URI;X-ADDRESS=Centre Cultural Cristóbal Soler Carrer Dionís Chanza 14 Alcàsser 46290;X-APPLE-RADIUS=500;X-TITLE=Carrer Dionís Chanza 14:geo:-0.4457169,39.3705913
END:VEVENT
BEGIN:VEVENT
DTSTART;TZID=Europe/Paris:20251213T200000
DTEND;TZID=Europe/Paris:20251213T200000
DTSTAMP:20260424T052235
CREATED:20251126T211254Z
LAST-MODIFIED:20251126T211338Z
UID:10000482-1765656000-1765656000@familiespelvalencia.org
SUMMARY:Concert. Bèrnia
DESCRIPTION:BÈRNIA: música per ballar i viure\nBÈRNIA és molt més que un grup: és la força creativa de huit dones que han deixat empremta en la indústria musical amb els seus projectes individuals. El que va començar com una experiència pedagògica inspirada en el poema Els amants de Vicent Andrés Estellés\, es va convertir en cançó i\, finalment\, en el primer single d’una banda que hui presenta el seu primer disc: Amb el cor plenet.\nAmb una combinació d’instruments tradicionals (guitarra\, baix\, vents\, percussions) i sons moderns (sintetitzadors\, electrònica)\, BÈRNIA crea un estil propi que convida a ballar i a gaudir de l’ací i ara. El grup\, format majoritàriament per dones de l’Horta Sud\, ha sabut transformar les adversitats en música\, com demostra la cançó Quan el cel es tanca\, dedicada a la DANA que va colpejar València el 29 d’octubre.\nConcert per a tots els públics\, però destinat especialment a joves que busquen una proposta vibrant\, autèntica i plena de vida que no et pots perdre. \nMés informació i venda d’entrades: Auditori de Torrent
URL:https://familiespelvalencia.org/activitat/concert-bernia/
LOCATION:Auditori de Torrent\, Carrer Vicent Pallardó 25\, Torrent\, L'Horta\, 46900
CATEGORIES:Comarques Túria–Xúquer
ATTACH;FMTTYPE=image/jpeg:https://familiespelvalencia.org/wp-content/uploads/2025/11/bernia.jpg
GEO:39.4236338;-0.4800882
X-APPLE-STRUCTURED-LOCATION;VALUE=URI;X-ADDRESS=Auditori de Torrent Carrer Vicent Pallardó 25 Torrent L'Horta 46900;X-APPLE-RADIUS=500;X-TITLE=Carrer Vicent Pallardó 25:geo:-0.4800882,39.4236338
END:VEVENT
BEGIN:VEVENT
DTSTART;TZID=Europe/Paris:20251214T120000
DTEND;TZID=Europe/Paris:20251214T133000
DTSTAMP:20260424T052235
CREATED:20251129T215401Z
LAST-MODIFIED:20251212T115031Z
UID:10000512-1765713600-1765719000@familiespelvalencia.org
SUMMARY:Concert de Ramonets
DESCRIPTION:Concert de Ramonets
URL:https://familiespelvalencia.org/activitat/concert-de-ramonets-2/
LOCATION:Plaça del País Valencià\, l’Eliana\, Plaça del País Valencià\, L'Eliana\, Camp de Túria
CATEGORIES:Comarques Túria–Xúquer
GEO:39.5666571;-0.5296458
X-APPLE-STRUCTURED-LOCATION;VALUE=URI;X-ADDRESS=Plaça del País Valencià l’Eliana Plaça del País Valencià L'Eliana Camp de Túria;X-APPLE-RADIUS=500;X-TITLE=Plaça del País Valencià:geo:-0.5296458,39.5666571
END:VEVENT
BEGIN:VEVENT
DTSTART;TZID=Europe/Paris:20251214T180000
DTEND;TZID=Europe/Paris:20251214T193000
DTSTAMP:20260424T052235
CREATED:20251203T120015Z
LAST-MODIFIED:20251203T120015Z
UID:10000538-1765735200-1765740600@familiespelvalencia.org
SUMMARY:Concert de Dani Miquel
DESCRIPTION:Concert de Dani Miquel a Albalat dels Sorells.
URL:https://familiespelvalencia.org/activitat/concert-de-dani-miquel-2/
LOCATION:Castell Albalat dels Sorells\, Plaça Castell\, Albalat dels Sorells\, Horta Nord
CATEGORIES:Comarques Túria–Xúquer
ATTACH;FMTTYPE=image/jpeg:https://familiespelvalencia.org/wp-content/uploads/2025/12/dani-miquel-desembre-1.jpg
GEO:39.5442166;-0.3469266
X-APPLE-STRUCTURED-LOCATION;VALUE=URI;X-ADDRESS=Castell Albalat dels Sorells Plaça Castell Albalat dels Sorells Horta Nord;X-APPLE-RADIUS=500;X-TITLE=Plaça Castell:geo:-0.3469266,39.5442166
END:VEVENT
END:VCALENDAR