BEGIN:VCALENDAR
VERSION:2.0
PRODID:-//FAMÍLIES PEL VALENCIÀ - ECPv6.15.20//NONSGML v1.0//EN
CALSCALE:GREGORIAN
METHOD:PUBLISH
X-WR-CALNAME:FAMÍLIES PEL VALENCIÀ
X-ORIGINAL-URL:https://familiespelvalencia.org
X-WR-CALDESC:Esdeveniments per FAMÍLIES PEL VALENCIÀ
REFRESH-INTERVAL;VALUE=DURATION:PT1H
X-Robots-Tag:noindex
X-PUBLISHED-TTL:PT1H
BEGIN:VTIMEZONE
TZID:Europe/Paris
BEGIN:DAYLIGHT
TZOFFSETFROM:+0100
TZOFFSETTO:+0200
TZNAME:CEST
DTSTART:20240331T010000
END:DAYLIGHT
BEGIN:STANDARD
TZOFFSETFROM:+0200
TZOFFSETTO:+0100
TZNAME:CET
DTSTART:20241027T010000
END:STANDARD
BEGIN:DAYLIGHT
TZOFFSETFROM:+0100
TZOFFSETTO:+0200
TZNAME:CEST
DTSTART:20250330T010000
END:DAYLIGHT
BEGIN:STANDARD
TZOFFSETFROM:+0200
TZOFFSETTO:+0100
TZNAME:CET
DTSTART:20251026T010000
END:STANDARD
BEGIN:DAYLIGHT
TZOFFSETFROM:+0100
TZOFFSETTO:+0200
TZNAME:CEST
DTSTART:20260329T010000
END:DAYLIGHT
BEGIN:STANDARD
TZOFFSETFROM:+0200
TZOFFSETTO:+0100
TZNAME:CET
DTSTART:20261025T010000
END:STANDARD
END:VTIMEZONE
BEGIN:VEVENT
DTSTART;TZID=Europe/Paris:20251220T190000
DTEND;TZID=Europe/Paris:20251220T200000
DTSTAMP:20260424T050544
CREATED:20251203T154701Z
LAST-MODIFIED:20251203T154701Z
UID:10000544-1766257200-1766260800@familiespelvalencia.org
SUMMARY:Teatre. Princeses\, cavallers i dracs
DESCRIPTION:PRINCESES\, CAVALLERS I DRACS\, el dia que deixarem de ser xiquets. (CIA. Bramant Teatre) \nUs hem dit que sou febles\, insegurs\, apàtics. Us hem dit que no us importa res i que sou fràgils\, que les generacions anteriors som millors. Molt millors. Una visita extraescolar a un museu acaba amb el llançament d’una beguda a un quadre. Alguns adolescents hi estan implicats. Potser va ser un accident. Potser no. El quadre és el de Sant Jordi matant el drac. També apareix una princesa\, però no és tan important. Després de llançar la beguda sembla que el drac sagna. Us hem dit que sou inestables\, peresosos\, egoistes\, cruels\, que no accepteu un no per resposta. Us hem dit que sou una generació de vidre. De veritat ho heu fet? De veritat sou tan febles? \nEdat: De 14 a 17 anys // Durada: 55 min \nDirecció: Jerónimo Cornelles // Autoria: Jerónimo Cornelles i Guadalupe Sáez \nEnllaç: Teaser ‘Princeses\, cavallers i dracs’ – Escalante i Bramant Teatre
URL:https://familiespelvalencia.org/activitat/teatre-princeses-cavallers-i-dracs-2/
LOCATION:Centro Cultural Carmen Valero\, Carrer de Pere el Gran\, Silla\, L'Horta\, 46460
CATEGORIES:Comarques Túria–Xúquer
ATTACH;FMTTYPE=image/jpeg:https://familiespelvalencia.org/wp-content/uploads/2025/12/pinceses-silla.jpg
GEO:39.3694559;-0.4103851
X-APPLE-STRUCTURED-LOCATION;VALUE=URI;X-ADDRESS=Centro Cultural Carmen Valero Carrer de Pere el Gran Silla L'Horta 46460;X-APPLE-RADIUS=500;X-TITLE=Carrer de Pere el Gran:geo:-0.4103851,39.3694559
END:VEVENT
BEGIN:VEVENT
DTSTART;TZID=Europe/Paris:20251220T193000
DTEND;TZID=Europe/Paris:20251220T210000
DTSTAMP:20260424T050544
CREATED:20251216T164735Z
LAST-MODIFIED:20251216T164735Z
UID:10000625-1766259000-1766264400@familiespelvalencia.org
SUMMARY:Concert. Urbàlia Rurana
DESCRIPTION:Pastorets i pastoretes. Cançons valencianes de Nadal \nLa banda valenciana de folk Urbàlia Rurana ens convida a gaudir d’un concert especial dedicat a les nadales tradicionals de les nostres comarques. Una selecció de melodies que formen part del llibre-CD “Pastorets i pastoretes. Cançons valencianes de Nadal” editat per Bromera. L’espectacle comptarà amb la projecció d’imatges de l’artista Joan Alfred Mengual i la col·laboració especial de Meritxell Lausuch\, que aportarà el seu talent amb la dolçaina i el clarinet. \n🎫 Entrada lliure fins a completar l’aforament. // Una proposta musical per a viure el Nadal en valencià\, amb la calidesa i la força de les nostres arrels.
URL:https://familiespelvalencia.org/activitat/concert-urbalia-rurana/
LOCATION:Casa de la Cultura.- Albalat de la Ribera\, Carrer del Delme\, 27\, Albalat de la Ribera\, Ribera Baixa\, 46687
CATEGORIES:Comarques Túria–Xúquer
ATTACH;FMTTYPE=image/jpeg:https://familiespelvalencia.org/wp-content/uploads/2025/12/ruralia-albalat-de-la-ribera.jpg
GEO:39.2027189;-0.3867375
X-APPLE-STRUCTURED-LOCATION;VALUE=URI;X-ADDRESS=Casa de la Cultura.- Albalat de la Ribera Carrer del Delme 27 Albalat de la Ribera Ribera Baixa 46687;X-APPLE-RADIUS=500;X-TITLE=Carrer del Delme\, 27:geo:-0.3867375,39.2027189
END:VEVENT
END:VCALENDAR