BEGIN:VCALENDAR
VERSION:2.0
PRODID:-//FAMÍLIES PEL VALENCIÀ - ECPv6.15.20//NONSGML v1.0//EN
CALSCALE:GREGORIAN
METHOD:PUBLISH
X-WR-CALNAME:FAMÍLIES PEL VALENCIÀ
X-ORIGINAL-URL:https://familiespelvalencia.org
X-WR-CALDESC:Esdeveniments per FAMÍLIES PEL VALENCIÀ
REFRESH-INTERVAL;VALUE=DURATION:PT1H
X-Robots-Tag:noindex
X-PUBLISHED-TTL:PT1H
BEGIN:VTIMEZONE
TZID:Europe/Paris
BEGIN:DAYLIGHT
TZOFFSETFROM:+0100
TZOFFSETTO:+0200
TZNAME:CEST
DTSTART:20250330T010000
END:DAYLIGHT
BEGIN:STANDARD
TZOFFSETFROM:+0200
TZOFFSETTO:+0100
TZNAME:CET
DTSTART:20251026T010000
END:STANDARD
BEGIN:DAYLIGHT
TZOFFSETFROM:+0100
TZOFFSETTO:+0200
TZNAME:CEST
DTSTART:20260329T010000
END:DAYLIGHT
BEGIN:STANDARD
TZOFFSETFROM:+0200
TZOFFSETTO:+0100
TZNAME:CET
DTSTART:20261025T010000
END:STANDARD
BEGIN:DAYLIGHT
TZOFFSETFROM:+0100
TZOFFSETTO:+0200
TZNAME:CEST
DTSTART:20270328T010000
END:DAYLIGHT
BEGIN:STANDARD
TZOFFSETFROM:+0200
TZOFFSETTO:+0100
TZNAME:CET
DTSTART:20271031T010000
END:STANDARD
END:VTIMEZONE
BEGIN:VEVENT
DTSTART;TZID=Europe/Paris:20260419T090000
DTEND;TZID=Europe/Paris:20260419T140000
DTSTAMP:20260424T041945
CREATED:20260417T204459Z
LAST-MODIFIED:20260417T204459Z
UID:10001232-1776589200-1776607200@familiespelvalencia.org
SUMMARY:Trobada d'Escoles en Valencià. La Romana-Les Valls del Vinalopó
DESCRIPTION:9:00h Concentració i esmorzar popular a la Plaça Gómez Navarro \n10:00h Cercavila des de l’Ajuntament de la Romana fins al parc Dr.Pérez López \n10:30h Benvinguda\, parlaments i cançó de la Trobada a l’esplanada del Parc Doctor Pérez López \n11:00-13:00h Tallers\, jocs tradicionals valencians\, animació\, contacontes… \n13:00 Actuació Dani Miquel i els MaMeMiMoMúsics \n13:45h Lliurament de detalls i records commemoratius
URL:https://familiespelvalencia.org/activitat/trobada-descoles-en-valencia-la-romana-les-valls-del-vinalopo/
CATEGORIES:Comarques del sud
ATTACH;FMTTYPE=image/jpeg:https://familiespelvalencia.org/wp-content/uploads/2026/04/LA_ROMANA_Trobades2026-scaled-1.jpg
END:VEVENT
END:VCALENDAR