BEGIN:VCALENDAR
VERSION:2.0
PRODID:-//FAMÍLIES PEL VALENCIÀ - ECPv6.15.20//NONSGML v1.0//EN
CALSCALE:GREGORIAN
METHOD:PUBLISH
X-WR-CALNAME:FAMÍLIES PEL VALENCIÀ
X-ORIGINAL-URL:https://familiespelvalencia.org
X-WR-CALDESC:Esdeveniments per FAMÍLIES PEL VALENCIÀ
REFRESH-INTERVAL;VALUE=DURATION:PT1H
X-Robots-Tag:noindex
X-PUBLISHED-TTL:PT1H
BEGIN:VTIMEZONE
TZID:Europe/Paris
BEGIN:DAYLIGHT
TZOFFSETFROM:+0100
TZOFFSETTO:+0200
TZNAME:CEST
DTSTART:20250330T010000
END:DAYLIGHT
BEGIN:STANDARD
TZOFFSETFROM:+0200
TZOFFSETTO:+0100
TZNAME:CET
DTSTART:20251026T010000
END:STANDARD
BEGIN:DAYLIGHT
TZOFFSETFROM:+0100
TZOFFSETTO:+0200
TZNAME:CEST
DTSTART:20260329T010000
END:DAYLIGHT
BEGIN:STANDARD
TZOFFSETFROM:+0200
TZOFFSETTO:+0100
TZNAME:CET
DTSTART:20261025T010000
END:STANDARD
BEGIN:DAYLIGHT
TZOFFSETFROM:+0100
TZOFFSETTO:+0200
TZNAME:CEST
DTSTART:20270328T010000
END:DAYLIGHT
BEGIN:STANDARD
TZOFFSETFROM:+0200
TZOFFSETTO:+0100
TZNAME:CET
DTSTART:20271031T010000
END:STANDARD
END:VTIMEZONE
BEGIN:VEVENT
DTSTART;TZID=Europe/Paris:20260214T120000
DTEND;TZID=Europe/Paris:20260302T130000
DTSTAMP:20260424T035633
CREATED:20260126T214644Z
LAST-MODIFIED:20260303T122630Z
UID:10000767-1771070400-1772456400@familiespelvalencia.org
SUMMARY:El rei Mides i la metamorfosi
DESCRIPTION:En un abocador ple d’escombraries dos amics entren en el territori dels mites clàssics i les transformacions. \n\n\nObjectes inútils cobren una vida inesperada per a contar-nos històries de Déus\, reis\, nimfes i herois. Un relat sorprenent i divertit en el qual el públic admirarà les metamorfosis del Rei Mides\, Faetó\, Eco o Narcís. \nUn espectacle de titelles que introduïx als xicotets espectadors en el gran llibre de la mitologia clàssica Les metamorfosis\, del poeta Publio Ovidio Nasón. \nAdaptació didàctica i lúdica que parla de la transformació com a motor de l’univers\, comparant l’explicació mitològica del món amb la científica. Perquè res comença ni acaba\, tot es transforma.
URL:https://familiespelvalencia.org/activitat/el-rei-mides-i-la-metamorfosi/2026-02-14/3/
LOCATION:Sala La Carreta\, Carrer Pedro Moreno Sastre\, 112\, Elx\, Baix Vinalopó\, 03205
CATEGORIES:Comarques del sud
ATTACH;FMTTYPE=image/jpeg:https://familiespelvalencia.org/wp-content/uploads/2026/01/baixa.jpg
GEO:38.2753621;-0.7160597
X-APPLE-STRUCTURED-LOCATION;VALUE=URI;X-ADDRESS=Sala La Carreta Carrer Pedro Moreno Sastre 112 Elx Baix Vinalopó 03205;X-APPLE-RADIUS=500;X-TITLE=Carrer Pedro Moreno Sastre\, 112:geo:-0.7160597,38.2753621
END:VEVENT
BEGIN:VEVENT
DTSTART;TZID=Europe/Paris:20260305T170000
DTEND;TZID=Europe/Paris:20260305T193000
DTSTAMP:20260424T035633
CREATED:20260302T141829Z
LAST-MODIFIED:20260302T141917Z
UID:10001015-1772730000-1772739000@familiespelvalencia.org
SUMMARY:Taller-Concert. Anna Valor Blanquer i Faixa
DESCRIPTION:El Servei de Llengües de la Universitat d’Alacant celebra una nova edició de les jornades #PrimaveraMusical\, un cicle que durant els mesos de febrer i març situa la música en valencià al centre de la vida cultural i educativa del campus de Sant Vicent del Raspeig\, amb xarrades\, presentacions\, experiències docents i concerts.\nLes jornades es tancaran el proper dijous 5 de març al Museu de la Universitat d’Alacant amb un taller de balls electrònics coordinat per Anna Valor Blanquer i el grup Faixa\, una proposta que combina música\, cos i tradició contemporània\, i que inclourà també la presentació del material didàctic Espardenyes i a volar. \n17.00 h | Presentación: Espardenyes i a volar amb Susana Díaz Tejedor \n18.00 h | Taller-concert de balls electrònics amb Anna Valor y Faixa \nMés informació: Primavera Musical
URL:https://familiespelvalencia.org/activitat/taller-concert-anna-valor-blanquer-i-faixa/
LOCATION:Àgora-Amfiteatre MUA (Centre d’Estudis Mario Benedetti)\, C/ de San Vicente del Raspeig\, s/n\,\, Sant Vicent del Raspeig\, L'Alacantí\, 03690
CATEGORIES:Comarques del sud
ATTACH;FMTTYPE=image/png:https://familiespelvalencia.org/wp-content/uploads/2026/03/Primavera-musical.png
GEO:38.3984125;-0.5233421
X-APPLE-STRUCTURED-LOCATION;VALUE=URI;X-ADDRESS=Àgora-Amfiteatre MUA (Centre d’Estudis Mario Benedetti) C/ de San Vicente del Raspeig s/n Sant Vicent del Raspeig L'Alacantí 03690;X-APPLE-RADIUS=500;X-TITLE=C/ de San Vicente del Raspeig\, s/n\,:geo:-0.5233421,38.3984125
END:VEVENT
BEGIN:VEVENT
DTSTART;TZID=Europe/Paris:20260307T110000
DTEND;TZID=Europe/Paris:20260307T140000
DTSTAMP:20260424T035633
CREATED:20260301T143100Z
LAST-MODIFIED:20260301T143100Z
UID:10001013-1772881200-1772892000@familiespelvalencia.org
SUMMARY:Primavera per la Llengua
DESCRIPTION:🌸📚 Seguim amb la primavera per la llengua a Alacant! \nEste dissabte 7 de març ens veiem al CEIP Joaquim Sorolla per a celebrar que estimem la nostra llengua! 💛\n🕚 11:00h – Teatre: Les lletres que estimen el valencià\n🕛 12:00h – Concert de Dani Miquel 🎶 \nUn matí ple de música\, teatre i emocions per a gaudir en família i fer créixer la nostra llengua 🌱✨ \nT’ho pedràs?
URL:https://familiespelvalencia.org/activitat/primavera-per-la-llengua/
LOCATION:CEIP Joaquin Sorolla\, Alacant\, C. Padre Recaredo de Los Rios\, 9\, Alacant\, Alacantí\, 03005
CATEGORIES:Comarques del sud
ATTACH;FMTTYPE=image/jpeg:https://familiespelvalencia.org/wp-content/uploads/2026/03/5845914634546778034.jpg
GEO:38.3508155;-0.4982743
X-APPLE-STRUCTURED-LOCATION;VALUE=URI;X-ADDRESS=CEIP Joaquin Sorolla Alacant C. Padre Recaredo de Los Rios 9 Alacant Alacantí 03005;X-APPLE-RADIUS=500;X-TITLE=C. Padre Recaredo de Los Rios\, 9:geo:-0.4982743,38.3508155
END:VEVENT
BEGIN:VEVENT
DTSTART;TZID=Europe/Paris:20260307T183000
DTEND;TZID=Europe/Paris:20260307T200000
DTSTAMP:20260424T035633
CREATED:20260217T102256Z
LAST-MODIFIED:20260313T094407Z
UID:10000968-1772908200-1772913600@familiespelvalencia.org
SUMMARY:Cicle de Cinema Infantil en Valencià
DESCRIPTION:El Vicerectorat de Cultura\, Igualtat i Diversitat acull cada any el Cicle de Cinema Infantil en Valencià dels Xiquets d’Elx i l’Associació Cívica per la Llengua El Tempir d’Elx\, a l’Aula Magna de l’edifici Altabix del Campus d’Elx de la UMH. \nCom cada any\, el Vicerectorat de Cultura de la UHM ofereix una proposta d’esplai amena i divertida per als més menuts de casa a l’hivern. A través d’una cuidada selecció de pel·lícules infantils\, la xicalla podrà gaudir d’històries divertides\, educatives i plenes de valors\, tot en la nostra llengua. Una oportunitat perfecta per compartir temps en família\, fomentar l’ús del valencià i despertar l’amor pel cinema des de ben menuts. \nEnguany arriba el 14é Cicle de cinema infantil en valencià amb dues sessions dedicades al fenomen Disney de Frozen\, amb històries que són part del cinema per a xiquets. \nLa primera projecció és Elemental\, que es podrà veure el 21 de febrer. El cicle és organitzat per El Tempir\, amb el suport de la Universitat Miguel Hernández (UMH) i de l’Aula de cine i audiovisual de la Universitat d’Alacant\, durant el final del mes de febrer i bona part del mes de març. \nLes sessions començaran a les 18.30 h a l’Aula Magna de l’edifici Altabix de la UMH. L’assistència a les projeccions és debades\, però limitada a la capacitat de la sala. \nCalendari de sessions \n21 de febrer     Elemental\n28 de febrer     Canta 2\n07 de març       Frozen. El regne de gel\n14 de març.      Frozen II
URL:https://familiespelvalencia.org/activitat/cicle-de-cinema-infantil-en-valencia/2026-03-07/
LOCATION:Universitat Miguel Hernández d’Elx\, edifici Altabix\, Aula Magna\, Avinguda de la Universitat d'Elx\, s/n\, Elx\, Baix Vinalopó\, 03202
CATEGORIES:Comarques del sud
ATTACH;FMTTYPE=image/jpeg:https://familiespelvalencia.org/wp-content/uploads/2026/02/Cicle-de-cinema-infantil-en-valencia-1.jpeg
GEO:38.2744134;-0.6805256
X-APPLE-STRUCTURED-LOCATION;VALUE=URI;X-ADDRESS=Universitat Miguel Hernández d’Elx edifici Altabix Aula Magna Avinguda de la Universitat d'Elx s/n Elx Baix Vinalopó 03202;X-APPLE-RADIUS=500;X-TITLE=Avinguda de la Universitat d'Elx\, s/n:geo:-0.6805256,38.2744134
END:VEVENT
BEGIN:VEVENT
DTSTART;TZID=Europe/Paris:20260311T190000
DTEND;TZID=Europe/Paris:20260311T203000
DTSTAMP:20260424T035633
CREATED:20260311T112357Z
LAST-MODIFIED:20260311T114104Z
UID:10001048-1773255600-1773261000@familiespelvalencia.org
SUMMARY:Concert. La Maria
DESCRIPTION:Després de trepitjar més d’una setantena d’escenaris d’arreu del territori amb el seu primer disc\, L’Assumpció\, i del seu meteòric pas pel programa “La Revuelta” de TVE\, la cantant d’Oliva presenta un nou treball\, Robina. \nPublic jove i públic en general \nMés informació i venda d’entrades: Universitat d’Alacant
URL:https://familiespelvalencia.org/activitat/concert-la-maria/
LOCATION:Universitat d’Alacant\, Sant Vicent del Raspeig\, L'Alacantí\, 03690
CATEGORIES:Comarques del sud
ATTACH;FMTTYPE=image/jpeg:https://familiespelvalencia.org/wp-content/uploads/2026/03/La-Maria.jpg
GEO:38.384815309918;-0.51396387555388
END:VEVENT
BEGIN:VEVENT
DTSTART;TZID=Europe/Paris:20260312T213000
DTEND;TZID=Europe/Paris:20260312T223000
DTSTAMP:20260424T035633
CREATED:20260117T080002Z
LAST-MODIFIED:20260117T080002Z
UID:10000739-1773351000-1773354600@familiespelvalencia.org
SUMMARY:Monòleg. Margaret Teacher a càrrec de Cabra Fotuda
DESCRIPTION:La Lina Morgan valenciana. Fran Tudela va nàixer a la Vila Joiosa a 1996\, i és més conegut amb el pseudònim de Cabrafotuda (per la dita popular «De la Vila i plores\, cabra fotuda»). Ell ha demostrat que fer contingut en valencià per a les xarxes socials no sols és possible\, sinó necessari. El 2024 va ser nominat al premi AMIC-Tresdeu al millor creador/a de l’any i al creador/a de contingut d’humor. Ara es llança a l’aventura en solitari\, de la mà del segell Riures en valencià\, amb la seua xarrada-espectacle Margaret Teacher. \nPúblic jove i públic en general. \nMés informació i venda d’entrades: Ajuntament Petrer
URL:https://familiespelvalencia.org/activitat/monoleg-margaret-teacher-a-carrec-de-cabra-fotuda/
LOCATION:Teatre Cervantes\, C/ Gabriel Payà\, 18\, Petrer\, Vinalopó Mitjà\, 03610
CATEGORIES:Comarques del sud
ATTACH;FMTTYPE=application/pdf:https://familiespelvalencia.org/wp-content/uploads/2026/01/Cabra-Fotuda.pdf
GEO:38.4843077;-0.772117
X-APPLE-STRUCTURED-LOCATION;VALUE=URI;X-ADDRESS=Teatre Cervantes C/ Gabriel Payà 18 Petrer Vinalopó Mitjà 03610;X-APPLE-RADIUS=500;X-TITLE=C/ Gabriel Payà\, 18:geo:-0.772117,38.4843077
END:VEVENT
BEGIN:VEVENT
DTSTART;TZID=Europe/Paris:20260314T123000
DTEND;TZID=Europe/Paris:20260314T203000
DTSTAMP:20260424T035633
CREATED:20260313T123710Z
LAST-MODIFIED:20260313T123710Z
UID:10001052-1773491400-1773520200@familiespelvalencia.org
SUMMARY:Celebració de Sant Josep a El Campello
DESCRIPTION:La Plaça de l’Església s’omplirà un any més de música\, tradició i sabor. Una cita per a viure-la en família gaudint de les tradicions campelleres. Vos esperem! \nPROGRAMACIÓ: \n• 12:30 h – Espectacle infantil: Dani Miquel i els Ma-Me-Mi-Mo-Músics. Diversió assegurada per als més menuts! 🎤👨‍👩‍👧‍👦• 16:45 h – Cercavila a càrrec de l’Associació de Festes de Sant Josep (Colla Larraix El Campello). 🎺🥁• 17:00 h – Gran actuació de la banda “La Nova”. Societat Musical NOVA del Campello 🎼• 18:00 h – Tallers i cucanyes amb el Musical Disney. Màgia i jocs a la plaça! ✨🏰• 19:30 h – Correfoc infantil. Pura adrenalina i tradició de la mà dels més joves. 🔥🎇• En finalitzar… deliciosa xocolatada i bunyols per a tots! ☕🍩
URL:https://familiespelvalencia.org/activitat/celebracio-de-sant-josep-a-el-campello/
LOCATION:Plaça de l’església\, El Campello\, El Campello\, Alacantí
CATEGORIES:Comarques del sud
ATTACH;FMTTYPE=image/jpeg:https://familiespelvalencia.org/wp-content/uploads/2026/03/WhatsApp-Image-2026-03-13-at-13.32.58.jpeg
END:VEVENT
BEGIN:VEVENT
DTSTART;TZID=Europe/Paris:20260314T183000
DTEND;TZID=Europe/Paris:20260314T200000
DTSTAMP:20260424T035633
CREATED:20260217T102256Z
LAST-MODIFIED:20260313T094407Z
UID:10000970-1773513000-1773518400@familiespelvalencia.org
SUMMARY:Cicle de Cinema Infantil en Valencià
DESCRIPTION:El Vicerectorat de Cultura\, Igualtat i Diversitat acull cada any el Cicle de Cinema Infantil en Valencià dels Xiquets d’Elx i l’Associació Cívica per la Llengua El Tempir d’Elx\, a l’Aula Magna de l’edifici Altabix del Campus d’Elx de la UMH. \nCom cada any\, el Vicerectorat de Cultura de la UHM ofereix una proposta d’esplai amena i divertida per als més menuts de casa a l’hivern. A través d’una cuidada selecció de pel·lícules infantils\, la xicalla podrà gaudir d’històries divertides\, educatives i plenes de valors\, tot en la nostra llengua. Una oportunitat perfecta per compartir temps en família\, fomentar l’ús del valencià i despertar l’amor pel cinema des de ben menuts. \nEnguany arriba el 14é Cicle de cinema infantil en valencià amb dues sessions dedicades al fenomen Disney de Frozen\, amb històries que són part del cinema per a xiquets. \nLa primera projecció és Elemental\, que es podrà veure el 21 de febrer. El cicle és organitzat per El Tempir\, amb el suport de la Universitat Miguel Hernández (UMH) i de l’Aula de cine i audiovisual de la Universitat d’Alacant\, durant el final del mes de febrer i bona part del mes de març. \nLes sessions començaran a les 18.30 h a l’Aula Magna de l’edifici Altabix de la UMH. L’assistència a les projeccions és debades\, però limitada a la capacitat de la sala. \nCalendari de sessions \n21 de febrer     Elemental\n28 de febrer     Canta 2\n07 de març       Frozen. El regne de gel\n14 de març.      Frozen II
URL:https://familiespelvalencia.org/activitat/cicle-de-cinema-infantil-en-valencia/2026-03-14/
LOCATION:Universitat Miguel Hernández d’Elx\, edifici Altabix\, Aula Magna\, Avinguda de la Universitat d'Elx\, s/n\, Elx\, Baix Vinalopó\, 03202
CATEGORIES:Comarques del sud
ATTACH;FMTTYPE=image/jpeg:https://familiespelvalencia.org/wp-content/uploads/2026/02/Cicle-de-cinema-infantil-en-valencia-1.jpeg
GEO:38.2744134;-0.6805256
X-APPLE-STRUCTURED-LOCATION;VALUE=URI;X-ADDRESS=Universitat Miguel Hernández d’Elx edifici Altabix Aula Magna Avinguda de la Universitat d'Elx s/n Elx Baix Vinalopó 03202;X-APPLE-RADIUS=500;X-TITLE=Avinguda de la Universitat d'Elx\, s/n:geo:-0.6805256,38.2744134
END:VEVENT
BEGIN:VEVENT
DTSTART;TZID=Europe/Paris:20260315T090000
DTEND;TZID=Europe/Paris:20260315T170000
DTSTAMP:20260424T035633
CREATED:20260310T205413Z
LAST-MODIFIED:20260310T221953Z
UID:10001044-1773565200-1773594000@familiespelvalencia.org
SUMMARY:Trobades 2026. L'Alacantí (Infantil i Primària)
DESCRIPTION:Arriba una nova edició de les Trobades a la comarca! \nLes Trobades 2026 són la gran festa educativa i cultural que\, any rere any\, recorre diferents comarques del país per celebrar l’escola en valencià i  la llengua al carrer. Cada trobada esdevé un punt de trobada per a famílies\, centres educatius\, alumnat i entitats\, amb una jornada plena d’activitats pensades per compartir\, aprendre i gaudir col·lectivament.\nAl llarg del dia\, les Trobades ofereixen tallers\, actuacions\, jocs\, cercaviles i propostes culturals adreçades a xiquets\, xiquetes i públic familiar\, sempre amb el valencià com a eix vertebrador. Més enllà del caràcter festiu\, aquestes trobades són també un espai de reivindicació i de convivència\, on es posa en valor el paper de l’escola\, la cultura i la llengua com a eines de cohesió social i de futur compartit. Una cita imprescindible per viure el valencià amb normalitat\, alegria i compromís\, adaptada a cada comarca però amb un esperit comú que uneix tot el territori. \nMés informació: Escola valenciana \nCançó Trobades 2026
URL:https://familiespelvalencia.org/activitat/trobades-2026-lalacanti-infantil-i-primaria/
LOCATION:CEIP BENAULA\, Carrer Dr. Just\, 70\, Alacant\, L'Alacantí\, 03008
CATEGORIES:Comarques del sud
ATTACH;FMTTYPE=image/jpeg:https://familiespelvalencia.org/wp-content/uploads/2026/03/Trobades-alacanti.jpg
GEO:38.3384836;-0.4974185
X-APPLE-STRUCTURED-LOCATION;VALUE=URI;X-ADDRESS=CEIP BENAULA Carrer Dr. Just 70 Alacant L'Alacantí 03008;X-APPLE-RADIUS=500;X-TITLE=Carrer Dr. Just\, 70:geo:-0.4974185,38.3384836
END:VEVENT
BEGIN:VEVENT
DTSTART;TZID=Europe/Paris:20260322T183000
DTEND;TZID=Europe/Paris:20260322T195000
DTSTAMP:20260424T035633
CREATED:20260117T075451Z
LAST-MODIFIED:20260117T075451Z
UID:10000738-1774204200-1774209000@familiespelvalencia.org
SUMMARY:Teatre. Viatge OZ el Musical
DESCRIPTION:Amb Viatge a Oz\, el musical\, Trencadís aposta per una divertida versió actualitzada\, en clau de teatre musical\, del clàssic de Frank Baum. La fantasia\, el color i la imaginació del títol original seran el punt de partida d’aquest viatge fascinant\, que utilitzarà les inseguretats d’una xiqueta per acostar-la al somni que sempre ha desitjat.\nUna proposta que combina el valor del viatge cap al coneixement personal amb els simpàtics personatges de sempre i els grans números musicals propis del gènere. \nSinopsi: Dora fa uns dibuixos meravellosos. A més dels vistosos camps d’amapoles\, li agrada pintar divertits espantapàjaros\, originals castells de llaunes de conserva i graciosos peluixos de lleó. Els companys de classe sempre s’impressionen amb els seus dibuixos\, però el dia que va arribar Celia\, la professora nova\, va descobrir que aquelles làmines semblaven tretes d’un llibre molt especial. Aquell dia\, just quan estaven a punt de sortir de classe\, va arribar un tornado inesperat que els va fer atrinxerar-se a l’aula. Només seria una hora. Dues\, com a màxim… Fins que passés el perill per tornar a casa. I\, què podien fer per entretenir-se? Llegir la història dels dibuixos de Dora? La força del tornado ens transportarà a un món imaginari\, amb paisatges meravellosos i personatges fantàstics que encarnaran les inseguretats de Dora per demostrar-li que\, si ho desitja de debò\, res pot impedir-li aconseguir el seu somni. \nDirecció: Jose Tomàs Chàfer // Text i lletres: Josep Mollà // Coreografia: Pachi G. Fenollar \nDurada: 80 min \nMés informació i venda d’entrades: Ajuntament Petrer \nViatge a Oz Teaser
URL:https://familiespelvalencia.org/activitat/teatre-viatge-oz-el-musical/
LOCATION:Teatre Cervantes\, C/ Gabriel Payà\, 18\, Petrer\, Vinalopó Mitjà\, 03610
CATEGORIES:Comarques del sud
ATTACH;FMTTYPE=application/pdf:https://familiespelvalencia.org/wp-content/uploads/2026/01/Viatge-Oz-Petrer.pdf
GEO:38.4843077;-0.772117
X-APPLE-STRUCTURED-LOCATION;VALUE=URI;X-ADDRESS=Teatre Cervantes C/ Gabriel Payà 18 Petrer Vinalopó Mitjà 03610;X-APPLE-RADIUS=500;X-TITLE=C/ Gabriel Payà\, 18:geo:-0.772117,38.4843077
END:VEVENT
BEGIN:VEVENT
DTSTART;TZID=Europe/Paris:20260327T090000
DTEND;TZID=Europe/Paris:20260327T170000
DTSTAMP:20260424T035633
CREATED:20260310T210158Z
LAST-MODIFIED:20260310T210158Z
UID:10001045-1774602000-1774630800@familiespelvalencia.org
SUMMARY:Trobades 2026. L'Alacantí (Secundària i Batxillerat)
DESCRIPTION:Arriba una nova edició de les Trobades a la comarca! \nLes Trobades 2026 són la gran festa educativa i cultural que\, any rere any\, recorre diferents comarques del país per celebrar l’escola en valencià i  la llengua al carrer. Cada trobada esdevé un punt de trobada per a famílies\, centres educatius\, alumnat i entitats\, amb una jornada plena d’activitats pensades per compartir\, aprendre i gaudir col·lectivament.\nAl llarg del dia\, les Trobades ofereixen tallers\, actuacions\, jocs\, cercaviles i propostes culturals adreçades a xiquets\, xiquetes i públic familiar\, sempre amb el valencià com a eix vertebrador. Més enllà del caràcter festiu\, aquestes trobades són també un espai de reivindicació i de convivència\, on es posa en valor el paper de l’escola\, la cultura i la llengua com a eines de cohesió social i de futur compartit. Una cita imprescindible per viure el valencià amb normalitat\, alegria i compromís\, adaptada a cada comarca però amb un esperit comú que uneix tot el territori. \nMés informació: Escola valenciana \nCançó Trobades 2026
URL:https://familiespelvalencia.org/activitat/trobades-2026-lalacanti-secundaria-i-batxillerat/
LOCATION:IES L’Arc\, Avgda. d'Elda\, Agost\, L'Alacantí\, 03698
CATEGORIES:Comarques del sud
ATTACH;FMTTYPE=image/jpeg:https://familiespelvalencia.org/wp-content/uploads/2026/03/Trobades-alacanti.jpg
GEO:38.4372517;-0.6381854
X-APPLE-STRUCTURED-LOCATION;VALUE=URI;X-ADDRESS=IES L’Arc Avgda. d'Elda Agost L'Alacantí 03698;X-APPLE-RADIUS=500;X-TITLE=Avgda. d'Elda:geo:-0.6381854,38.4372517
END:VEVENT
BEGIN:VEVENT
DTSTART;TZID=Europe/Paris:20260327T190000
DTEND;TZID=Europe/Paris:20260327T233000
DTSTAMP:20260424T035633
CREATED:20251127T134304Z
LAST-MODIFIED:20260310T213835Z
UID:10000490-1774638000-1774654200@familiespelvalencia.org
SUMMARY:Concert. La Fúmiga + Sandra Montfort + Quinto
DESCRIPTION:ALACANT DIU SÍ AL VALENCIÀ \nEl pròxim 27 de març de 2026 a Alacant s’inicia “L’últim abraç”\, la gran gira de comiat de La Fúmiga\, una dècada de música i germanor d’un dels fenòmens musicals valencians més importants de la nostra història recent. També amb Sandra Montfort i Quinto.
URL:https://familiespelvalencia.org/activitat/concert-la-fumiga/
LOCATION:Port d’Alacant\, Moll 12 de Llevant\, Alacant\, 03001
CATEGORIES:Comarques del sud
ATTACH;FMTTYPE=image/png:https://familiespelvalencia.org/wp-content/uploads/2025/11/Alacant-diu-si-al-valencia.png
GEO:38.33938;-0.4786895
X-APPLE-STRUCTURED-LOCATION;VALUE=URI;X-ADDRESS=Port d’Alacant Moll 12 de Llevant Alacant 03001;X-APPLE-RADIUS=500;X-TITLE=Moll 12 de Llevant:geo:-0.4786895,38.33938
END:VEVENT
BEGIN:VEVENT
DTSTART;TZID=Europe/Paris:20260328T120000
DTEND;TZID=Europe/Paris:20260328T130000
DTSTAMP:20260424T035633
CREATED:20260117T083645Z
LAST-MODIFIED:20260117T083645Z
UID:10000741-1774699200-1774702800@familiespelvalencia.org
SUMMARY:Teatre. Voilà
DESCRIPTION:“Voilà” és una proposta de teatre familiar de JM Gestió Teatral que aborda\, amb sensibilitat i humor\, la relació entre un pare i el mestre del seu fill de huit anys. A través d’una conversa plena d’emoció\, descobrim les pors d’un pare marcat per una experiència del passat i la mirada optimista d’un docent que confia en les potencialitats de cada xiquet. L’obra\, recomanada per a públic a partir de 5 anys\, combina teatre d’objectes i interpretació per oferir una història propera\, emotiva i plena d’esperança. Una peça curta i intensa que recorda que\, davant de qualsevol dificultat\, sempre hi ha una solució\, i que l’acompanyament emocional pot transformar la manera com les famílies i l’escola entenen la diferència. Perfecta per a gaudir en família i per a treballar valors com la confiança\, la comunicació i l’empatia. \nMés informació i venda d’entrades: La Carreta Teatre
URL:https://familiespelvalencia.org/activitat/teatre-voila/2026-03-28/1/
LOCATION:Sala La Carreta\, Carrer Pedro Moreno Sastre\, 112\, Elx\, Baix Vinalopó\, 03205
CATEGORIES:Comarques del sud
ATTACH;FMTTYPE=image/jpeg:https://familiespelvalencia.org/wp-content/uploads/2026/01/Voila.jpg
GEO:38.2753621;-0.7160597
X-APPLE-STRUCTURED-LOCATION;VALUE=URI;X-ADDRESS=Sala La Carreta Carrer Pedro Moreno Sastre 112 Elx Baix Vinalopó 03205;X-APPLE-RADIUS=500;X-TITLE=Carrer Pedro Moreno Sastre\, 112:geo:-0.7160597,38.2753621
END:VEVENT
BEGIN:VEVENT
DTSTART;TZID=Europe/Paris:20260328T180000
DTEND;TZID=Europe/Paris:20260328T190000
DTSTAMP:20260424T035633
CREATED:20260117T083645Z
LAST-MODIFIED:20260117T083645Z
UID:10000742-1774720800-1774724400@familiespelvalencia.org
SUMMARY:Teatre. Voilà
DESCRIPTION:“Voilà” és una proposta de teatre familiar de JM Gestió Teatral que aborda\, amb sensibilitat i humor\, la relació entre un pare i el mestre del seu fill de huit anys. A través d’una conversa plena d’emoció\, descobrim les pors d’un pare marcat per una experiència del passat i la mirada optimista d’un docent que confia en les potencialitats de cada xiquet. L’obra\, recomanada per a públic a partir de 5 anys\, combina teatre d’objectes i interpretació per oferir una història propera\, emotiva i plena d’esperança. Una peça curta i intensa que recorda que\, davant de qualsevol dificultat\, sempre hi ha una solució\, i que l’acompanyament emocional pot transformar la manera com les famílies i l’escola entenen la diferència. Perfecta per a gaudir en família i per a treballar valors com la confiança\, la comunicació i l’empatia. \nMés informació i venda d’entrades: La Carreta Teatre
URL:https://familiespelvalencia.org/activitat/teatre-voila/2026-03-28/2/
LOCATION:Sala La Carreta\, Carrer Pedro Moreno Sastre\, 112\, Elx\, Baix Vinalopó\, 03205
CATEGORIES:Comarques del sud
ATTACH;FMTTYPE=image/jpeg:https://familiespelvalencia.org/wp-content/uploads/2026/01/Voila.jpg
GEO:38.2753621;-0.7160597
X-APPLE-STRUCTURED-LOCATION;VALUE=URI;X-ADDRESS=Sala La Carreta Carrer Pedro Moreno Sastre 112 Elx Baix Vinalopó 03205;X-APPLE-RADIUS=500;X-TITLE=Carrer Pedro Moreno Sastre\, 112:geo:-0.7160597,38.2753621
END:VEVENT
BEGIN:VEVENT
DTSTART;TZID=Europe/Paris:20260329T110000
DTEND;TZID=Europe/Paris:20260329T123000
DTSTAMP:20260424T035633
CREATED:20260329T051241Z
LAST-MODIFIED:20260329T052444Z
UID:10001124-1774782000-1774787400@familiespelvalencia.org
SUMMARY:Passeig de Rondalles
DESCRIPTION:Petrer acull la 5a Festa de Rondalles\, una ruta literària pel barri antic per redescobrir les rondalles d’Enric Valor. De la mà dels contacontes Anna Alba i Jordi Raül Verdú\, les famílies i el públic en general podran gaudir d’un passeig ple d’històries pels carrers més emblemàtics del poble. Una proposta ideal per a gaudir de la llengua i la cultura en família. \nDurada aproximada: 1\,5h
URL:https://familiespelvalencia.org/activitat/passeig-de-rondalles/
LOCATION:Petrer.- Plaça de dalt\, Plaça de dalt\, Petrer\, Vinalopó Mitjà\, 03610
CATEGORIES:Comarques del sud
ATTACH;FMTTYPE=image/jpeg:https://familiespelvalencia.org/wp-content/uploads/2026/03/Rondalles.jpeg
GEO:38.4840296;-0.7701479
X-APPLE-STRUCTURED-LOCATION;VALUE=URI;X-ADDRESS=Petrer.- Plaça de dalt Plaça de dalt Petrer Vinalopó Mitjà 03610;X-APPLE-RADIUS=500;X-TITLE=Plaça de dalt:geo:-0.7701479,38.4840296
END:VEVENT
END:VCALENDAR