BEGIN:VCALENDAR
VERSION:2.0
PRODID:-//FAMÍLIES PEL VALENCIÀ - ECPv6.15.20//NONSGML v1.0//EN
CALSCALE:GREGORIAN
METHOD:PUBLISH
X-ORIGINAL-URL:https://familiespelvalencia.org
X-WR-CALDESC:Esdeveniments per FAMÍLIES PEL VALENCIÀ
REFRESH-INTERVAL;VALUE=DURATION:PT1H
X-Robots-Tag:noindex
X-PUBLISHED-TTL:PT1H
BEGIN:VTIMEZONE
TZID:Europe/Paris
BEGIN:DAYLIGHT
TZOFFSETFROM:+0100
TZOFFSETTO:+0200
TZNAME:CEST
DTSTART:20240331T010000
END:DAYLIGHT
BEGIN:STANDARD
TZOFFSETFROM:+0200
TZOFFSETTO:+0100
TZNAME:CET
DTSTART:20241027T010000
END:STANDARD
BEGIN:DAYLIGHT
TZOFFSETFROM:+0100
TZOFFSETTO:+0200
TZNAME:CEST
DTSTART:20250330T010000
END:DAYLIGHT
BEGIN:STANDARD
TZOFFSETFROM:+0200
TZOFFSETTO:+0100
TZNAME:CET
DTSTART:20251026T010000
END:STANDARD
BEGIN:DAYLIGHT
TZOFFSETFROM:+0100
TZOFFSETTO:+0200
TZNAME:CEST
DTSTART:20260329T010000
END:DAYLIGHT
BEGIN:STANDARD
TZOFFSETFROM:+0200
TZOFFSETTO:+0100
TZNAME:CET
DTSTART:20261025T010000
END:STANDARD
END:VTIMEZONE
BEGIN:VEVENT
DTSTART;TZID=Europe/Paris:20251203T180000
DTEND;TZID=Europe/Paris:20251203T190000
DTSTAMP:20260424T050246
CREATED:20251130T202818Z
LAST-MODIFIED:20251130T202841Z
UID:10000518-1764784800-1764788400@familiespelvalencia.org
SUMMARY:Contacontes. El conte del calcetí i les rates
DESCRIPTION:Torna l’Hora del Conte a la Sala Infantil de la Biblioteca Pública de Monòver amb una proposta molt especial per a Nadal: El conte del calcetí i les rates\, a càrrec de DEBATABAT. Un espectacle que combina contacontes\, titelles i música en directe\, pensat per a fer volar la imaginació dels més menuts i omplir la biblioteca de màgia i rialles. Una manera perfecta de gaudir de la lectura i la creativitat en família. \nMés informació: Ajuntament de Monòver \nVídeo: El conte del calcetí i les rates
URL:https://familiespelvalencia.org/activitat/contacontes-el-conte-del-calceti-i-les-rates-debatabat/
LOCATION:Biblioteca Pública.-Monòver\, Carrer Maestro Don Joaquín\, 8\, Monòver\, Vinalopó Mitjà\, 03640
CATEGORIES:Comarques del sud
ATTACH;FMTTYPE=image/jpeg:https://familiespelvalencia.org/wp-content/uploads/2025/11/el-calceti-monover.jpg
GEO:38.4407238;-0.8408788
X-APPLE-STRUCTURED-LOCATION;VALUE=URI;X-ADDRESS=Biblioteca Pública.-Monòver Carrer Maestro Don Joaquín 8 Monòver Vinalopó Mitjà 03640;X-APPLE-RADIUS=500;X-TITLE=Carrer Maestro Don Joaquín\, 8:geo:-0.8408788,38.4407238
END:VEVENT
BEGIN:VEVENT
DTSTART;TZID=Europe/Paris:20251206T180000
DTEND;TZID=Europe/Paris:20251206T190000
DTSTAMP:20260424T050246
CREATED:20251126T221818Z
LAST-MODIFIED:20251126T222221Z
UID:10000486-1765044000-1765047600@familiespelvalencia.org
SUMMARY:Teatre. Martina i el bosc de paper
DESCRIPTION:Cía. L´Horta teatre \nSinopsi: Martina és una xiqueta de paper que viu en una casa de cartó. Un dia troba una papallona preciosa i\, molt contenta\, la caça i la guarda en una gàbia. Buscant-ne més s’endinsa en el bosc\, on es trobarà amb uns companys molt especials: un elefant poregós\, una girafa presumida i molts més amics\, que l’ajudaran a tornar a casa. Pel camí passen fred i calor\, neva\, plou i el sol calfa la terra; naixen plantes\, flors i volen els pardals i les papallones… Un viatge per la natura i una manera lúdica i pedagògica d’acostar-se a les estacions de l’any.\nXxxt! Tot això a través de la mirada innocent i encuriosida d’una xiqueta que aprén a estimar la natura com un amic més. \nDurada: 55 minuts // Públic: A partir de 3 anys \nCreació i direcció: Sergio Martínez i Pau Pons // Intèrprets: Pau Blanco i Laura Valero // Disseny i realització escenografía: Empaperart // Vestuari: Joan Miquel Reig // Banda Sonora: Panchi Vivó // Disseny de llums: Marc Gonzalo// Producció: L’Horta Teatre \nMés informació i compra d’entrades: Teatre Arniches
URL:https://familiespelvalencia.org/activitat/teatre-martina-i-el-bosc-de-paper-2/
LOCATION:Teatre Arniches\, Avinguda d'Aguilera\, 1 (Barri Benalua)\, Alacant\, L'Alacantí\, 03007
CATEGORIES:Comarques del sud
ATTACH;FMTTYPE=image/jpeg:https://familiespelvalencia.org/wp-content/uploads/2025/11/martina-i-el-bosc-de-paper.jpg
GEO:38.3430338;-0.4953916
X-APPLE-STRUCTURED-LOCATION;VALUE=URI;X-ADDRESS=Teatre Arniches Avinguda d'Aguilera 1 (Barri Benalua) Alacant L'Alacantí 03007;X-APPLE-RADIUS=500;X-TITLE=Avinguda d'Aguilera\, 1 (Barri Benalua):geo:-0.4953916,38.3430338
END:VEVENT
BEGIN:VEVENT
DTSTART;TZID=Europe/Paris:20251220T200000
DTEND;TZID=Europe/Paris:20251220T210000
DTSTAMP:20260424T050246
CREATED:20251220T074942Z
LAST-MODIFIED:20251220T075023Z
UID:10000661-1766260800-1766264400@familiespelvalencia.org
SUMMARY:Concert. GEM
DESCRIPTION:El 23 de novembre de 1983\, les Corts Valencianes van promulgar la Llei d’Ús i Ensenyament del Valencià (LUEV)\, l’única que les Corts han aprovat fora de la seu de València i\, precisament\, a la ciutat d’Alacant. Per això\, la plataforma Alacant pel valencià celebra aquesta setmana el 37é Aniversari de la seua aprovació amb dos actes: \n\nEl divendres 20 a les 20.00 hores\, en el Teatre Arniches d’Alacant\, concert de GEM. Organitzat per la plataforma Alacant pel Valencià i la Universitat d’Alacant.\nEl dissabte 21 a les 11.30 hores\, en el Palau de la Diputació Provincial d’Alacant tindrà lloc la lectura del manifest del 37é aniversari de l’aprovació de la LUGEM en concert\n\nImportant: Per a assistir als actes cal sol·licitar reserva en l’adreça de correu lacivica.cat@gmail.com o el telèfon 607 930 565. \nGem en concert \nGEM és el nom artístic de Gema Vañó Guarner\, cantautora valenciana nascuda a Benigànim\, amb un estil que viatja entre l’indie pop i el rock. Ha publicat ja tres treballs: Seré del viento (2016) autoeditat\, Dents de lleó (2017) que va ser el fruit d’una campanya de micromecenatge en la plataforma Verkami i l’any passat va publicar Satèl·lits . Satèl·lits\, que podeu conèixer ja en les diverses plataformes digitals\, ha estat editat per Primavera d’Hivern\, produït i gravat per Tono Hurtado en Malamute Estudio (València). \n“Satèl·lits és una mirada crítica i alhora positiva d’una societat que orbita al voltant de la tecnologia en un temps on tot és passatger. Deu cançons que plantegen una crítica social de vegades dura\, altra positiva i irònica\, sense deixar de costat la igualtat i la lluita per la diversitat.” \nGem – Juntes (Videoclip)
URL:https://familiespelvalencia.org/activitat/concert-gem/
LOCATION:Teatre Arniches\, Avinguda d'Aguilera\, 1 (Barri Benalua)\, Alacant\, L'Alacantí\, 03007
CATEGORIES:Comarques del sud
ATTACH;FMTTYPE=image/jpeg:https://familiespelvalencia.org/wp-content/uploads/2025/12/concert-GEMV-cartel-unic.jpg
GEO:38.3430338;-0.4953916
X-APPLE-STRUCTURED-LOCATION;VALUE=URI;X-ADDRESS=Teatre Arniches Avinguda d'Aguilera 1 (Barri Benalua) Alacant L'Alacantí 03007;X-APPLE-RADIUS=500;X-TITLE=Avinguda d'Aguilera\, 1 (Barri Benalua):geo:-0.4953916,38.3430338
END:VEVENT
BEGIN:VEVENT
DTSTART;TZID=Europe/Paris:20251226T183000
DTEND;TZID=Europe/Paris:20251226T202000
DTSTAMP:20260424T050246
CREATED:20251130T200547Z
LAST-MODIFIED:20251130T200547Z
UID:10000515-1766773800-1766780400@familiespelvalencia.org
SUMMARY:Cinema. Canta 2
DESCRIPTION:Monòver acull una sessió molt especial de cinema en valencià amb la pel·lícula Canta 2\, la seqüela del gran èxit d’animació que va conquistar famílies arreu del món.\nEn aquesta nova aventura\, els personatges s’embarquen en un repte musical ple de ritme\, humor i emoció\, amb cançons que faran vibrar grans i menuts. Una història sobre somnis\, amistat i superació que no deixa indiferent. \nDurada: 110 min \nMés informació: Ajuntament de Monòver
URL:https://familiespelvalencia.org/activitat/cinema-canta-2/
LOCATION:Casa de la Cultura.- Monòver\, Carrer Maestro Don Joaquín\, 8\, Monòver\, Vinalopó Mitjà\, 03640
CATEGORIES:Comarques del sud
ATTACH;FMTTYPE=image/png:https://familiespelvalencia.org/wp-content/uploads/2025/11/2025_12_26-Cinema-en-valencia_1.png
GEO:38.4407238;-0.8408788
X-APPLE-STRUCTURED-LOCATION;VALUE=URI;X-ADDRESS=Casa de la Cultura.- Monòver Carrer Maestro Don Joaquín 8 Monòver Vinalopó Mitjà 03640;X-APPLE-RADIUS=500;X-TITLE=Carrer Maestro Don Joaquín\, 8:geo:-0.8408788,38.4407238
END:VEVENT
BEGIN:VEVENT
DTSTART;TZID=Europe/Paris:20251227T193000
DTEND;TZID=Europe/Paris:20251227T203000
DTSTAMP:20260424T050246
CREATED:20251209T082302Z
LAST-MODIFIED:20251209T082454Z
UID:10000573-1766863800-1766867400@familiespelvalencia.org
SUMMARY:Teatre. Doplhin i la mar de plàstic
DESCRIPTION:Cia. La Carrerta Teatre \nEl Teatre Cervantes de Petrer tanca l’any amb una proposta entranyable i carregada de missatges essencials: una aventura submarina que ens convida a reflexionar sobre l’amistat\, el respecte i la cura del medi ambient. En aquest espectacle familiar descobrirem un mar cobert de plàstic\, on els protagonistes hauran d’aprendre a col·laborar per protegir el seu món. Una història divertida\, emotiva i plena de valors que farà gaudir tant a menuts com a grans. \nEdat recomanada: A partir de 3 anys. // Durada: 40 min \nTeaser: Doplhin i la mar de plàstic \nAutor/a: Paco Pérez i Manoli Montalvo // Guió i adaptació: Paco Pérez // Actor/actriu manipulador/a: Wenceslao Pérez i Susi Legidos // Tècnic de so i il·luminació: Paco Pérez // Títeres i marionetes: Manoli Montalvo i Susi Legidos// Direcciò: Paco Pérez // Banda sonora: Javier Díez// Producciò: La Carreta teatre
URL:https://familiespelvalencia.org/activitat/5277/
LOCATION:Teatre Cervantes\, C/ Gabriel Payà\, 18\, Petrer\, Vinalopó Mitjà\, 03610
CATEGORIES:Comarques del sud
ATTACH;FMTTYPE=image/jpeg:https://familiespelvalencia.org/wp-content/uploads/2025/12/dolphine-petrer.jpg
GEO:38.4843077;-0.772117
X-APPLE-STRUCTURED-LOCATION;VALUE=URI;X-ADDRESS=Teatre Cervantes C/ Gabriel Payà 18 Petrer Vinalopó Mitjà 03610;X-APPLE-RADIUS=500;X-TITLE=C/ Gabriel Payà\, 18:geo:-0.772117,38.4843077
END:VEVENT
BEGIN:VEVENT
DTSTART;TZID=Europe/Paris:20251229T183000
DTEND;TZID=Europe/Paris:20251229T201000
DTSTAMP:20260424T050246
CREATED:20251130T200858Z
LAST-MODIFIED:20251224T094915Z
UID:10000516-1767033000-1767039000@familiespelvalencia.org
SUMMARY:Cinema. Vaiana 2
DESCRIPTION:Monòver projecta Vaiana 2\, la continuació de l’aventura que va enamorar famílies arreu del món. En aquesta nova història\, Vaiana torna a la mar per viure una expedició plena de misteris\, cançons i emoció. Una pel·lícula que combina espectacularitat visual\, humor i valors com la amistat\, la valentia i la connexió amb la natura\, perfecta per a gaudir en família. \nDurada: 100 min \nMés informació: Ajuntament de Monòver
URL:https://familiespelvalencia.org/activitat/cinema-viana-2/
LOCATION:Casa de la Cultura.- Monòver\, Carrer Maestro Don Joaquín\, 8\, Monòver\, Vinalopó Mitjà\, 03640
CATEGORIES:Comarques del sud
ATTACH;FMTTYPE=image/png:https://familiespelvalencia.org/wp-content/uploads/2025/11/2025_12_26-Cinema-en-valencia_1.png
GEO:38.4407238;-0.8408788
X-APPLE-STRUCTURED-LOCATION;VALUE=URI;X-ADDRESS=Casa de la Cultura.- Monòver Carrer Maestro Don Joaquín 8 Monòver Vinalopó Mitjà 03640;X-APPLE-RADIUS=500;X-TITLE=Carrer Maestro Don Joaquín\, 8:geo:-0.8408788,38.4407238
END:VEVENT
END:VCALENDAR