BEGIN:VCALENDAR
VERSION:2.0
PRODID:-//FAMÍLIES PEL VALENCIÀ - ECPv6.15.20//NONSGML v1.0//EN
CALSCALE:GREGORIAN
METHOD:PUBLISH
X-WR-CALNAME:FAMÍLIES PEL VALENCIÀ
X-ORIGINAL-URL:https://familiespelvalencia.org
X-WR-CALDESC:Esdeveniments per FAMÍLIES PEL VALENCIÀ
REFRESH-INTERVAL;VALUE=DURATION:PT1H
X-Robots-Tag:noindex
X-PUBLISHED-TTL:PT1H
BEGIN:VTIMEZONE
TZID:Europe/Paris
BEGIN:DAYLIGHT
TZOFFSETFROM:+0100
TZOFFSETTO:+0200
TZNAME:CEST
DTSTART:20250330T010000
END:DAYLIGHT
BEGIN:STANDARD
TZOFFSETFROM:+0200
TZOFFSETTO:+0100
TZNAME:CET
DTSTART:20251026T010000
END:STANDARD
BEGIN:DAYLIGHT
TZOFFSETFROM:+0100
TZOFFSETTO:+0200
TZNAME:CEST
DTSTART:20260329T010000
END:DAYLIGHT
BEGIN:STANDARD
TZOFFSETFROM:+0200
TZOFFSETTO:+0100
TZNAME:CET
DTSTART:20261025T010000
END:STANDARD
BEGIN:DAYLIGHT
TZOFFSETFROM:+0100
TZOFFSETTO:+0200
TZNAME:CEST
DTSTART:20270328T010000
END:DAYLIGHT
BEGIN:STANDARD
TZOFFSETFROM:+0200
TZOFFSETTO:+0100
TZNAME:CET
DTSTART:20271031T010000
END:STANDARD
END:VTIMEZONE
BEGIN:VEVENT
DTSTART;TZID=Europe/Paris:20260407T120000
DTEND;TZID=Europe/Paris:20260407T130000
DTSTAMP:20260424T042240
CREATED:20260331T095119Z
LAST-MODIFIED:20260331T095119Z
UID:10001126-1775563200-1775566800@familiespelvalencia.org
SUMMARY:Pequeplanetari en viu
DESCRIPTION:En aquestes projeccions és el personal del planetari és qui\, des de la cúpula\, s’encarrega de recórrer el cel i proposar els continguts\, en lloc de les projeccions de planetari habituals. Descobrirem estrelles i constel·lacions del cel de Pasqua\, així com espectaculars recorreguts per la galàxia. No és necessari inscriure’s prèviament en l’activitat\, però sí que s’ha d’arreplegar l’entrada en taquilla des de mitja hora abans de l’inici. Aforament limitat \nEls menors han d’accedir a la sala acompanyats. | Activitat dirigida a públic infantil i familiar. Especialment dedicada a xiquets i xiquetes de fins a uns 10-12 anys \nMés informació: Planetari de Castelló
URL:https://familiespelvalencia.org/activitat/pequeplanetari-en-viu/2026-04-07/
LOCATION:Planetari de Castelló\, Passeig Marítim\, 1 (Grau de Castelló)\, Castelló\, Plana Alta\, 12100
CATEGORIES:Comarques del nord
ATTACH;FMTTYPE=image/png:https://familiespelvalencia.org/wp-content/uploads/2026/03/Pequeplanetari-val.png
GEO:39.9793318;0.022053
X-APPLE-STRUCTURED-LOCATION;VALUE=URI;X-ADDRESS=Planetari de Castelló Passeig Marítim 1 (Grau de Castelló) Castelló Plana Alta 12100;X-APPLE-RADIUS=500;X-TITLE=Passeig Marítim\, 1 (Grau de Castelló):geo:0.022053,39.9793318
END:VEVENT
BEGIN:VEVENT
DTSTART;TZID=Europe/Paris:20260407T130000
DTEND;TZID=Europe/Paris:20260407T133000
DTSTAMP:20260424T042240
CREATED:20260331T100226Z
LAST-MODIFIED:20260331T100226Z
UID:10001130-1775566800-1775568600@familiespelvalencia.org
SUMMARY:Planetari. Viatge de les Estreles
DESCRIPTION:Astéria\, una adorable estreleta de mar\, somia amb viure una aventura\, igual que el seu heroi\, el Capità Octopus. Un matí\, mentre contempla el cel estrelat que dóna pas a l’alba\, una nau espacial s’estavella al seu costat. A bord es troba Stella\, una intrèpida estrela fugaç que necessita urgentment combustible per a poder tornar a l’espai. Juntes\, s’embarquen en una emocionant cerca de metà en les profunditats de l’oceà. Durant el seu viatge\, Astéria li mostra a Stella la fascinant diversitat d’espècies marines\, mentre que Stella comparteix els seus coneixements sobre la Terra\, la Lluna i el Sol. A poc a poc\, descobreixen la màgica connexió que uneix la vida submarina amb la immensitat de l’espai. \nDurada 34 minuts \nMés informació i venda d’entrades: Planetari de Castelló
URL:https://familiespelvalencia.org/activitat/planetari-viatge-de-les-estreles/2026-04-07/
LOCATION:Planetari de Castelló\, Passeig Marítim\, 1 (Grau de Castelló)\, Castelló\, Plana Alta\, 12100
CATEGORIES:Comarques del nord
ATTACH;FMTTYPE=image/png:https://familiespelvalencia.org/wp-content/uploads/2026/03/Viatge-de-les-Estreles.png
GEO:39.9793318;0.022053
X-APPLE-STRUCTURED-LOCATION;VALUE=URI;X-ADDRESS=Planetari de Castelló Passeig Marítim 1 (Grau de Castelló) Castelló Plana Alta 12100;X-APPLE-RADIUS=500;X-TITLE=Passeig Marítim\, 1 (Grau de Castelló):geo:0.022053,39.9793318
END:VEVENT
BEGIN:VEVENT
DTSTART;TZID=Europe/Paris:20260407T170000
DTEND;TZID=Europe/Paris:20260407T173000
DTSTAMP:20260424T042240
CREATED:20260315T153749Z
LAST-MODIFIED:20260331T144619Z
UID:10001140-1775581200-1775583000@familiespelvalencia.org
SUMMARY:Documental al planetari. Voyager
DESCRIPTION:Aquest espectacle conta una història emocionant de la missió espacial més notable de la humanitat. En 1977 es van llançar dos sondes espacials per a explorar els planetes més llunyans del sistema solar: Júpiter\, Saturn\, Urà i Neptú\, així com les seues llunes més importants. Aquestes naus espacials van enriquir enormement el nostre coneixement d’aquests mons distants i desconeguts. Ara\, després de més de quatre dècades\, exploren l’espai interestel·lar. Com dos botelles llançades a l’oceà còsmic\, les dos sondes porten un missatge: un disc d’or amb enregistraments de la Terra\, destinat a qualsevol civilització alienígena. \nDurada: 27 minuts \nMés informació i venda d’entrades: Planetari de Castelló
URL:https://familiespelvalencia.org/activitat/documental-al-planetari-voyager/2026-04-07/
LOCATION:Planetari de Castelló\, Passeig Marítim\, 1 (Grau de Castelló)\, Castelló\, Plana Alta\, 12100
CATEGORIES:Comarques del nord
ATTACH;FMTTYPE=image/jpeg:https://familiespelvalencia.org/wp-content/uploads/2026/03/Voyager.jpg
GEO:39.9793318;0.022053
X-APPLE-STRUCTURED-LOCATION;VALUE=URI;X-ADDRESS=Planetari de Castelló Passeig Marítim 1 (Grau de Castelló) Castelló Plana Alta 12100;X-APPLE-RADIUS=500;X-TITLE=Passeig Marítim\, 1 (Grau de Castelló):geo:0.022053,39.9793318
END:VEVENT
BEGIN:VEVENT
DTSTART;TZID=Europe/Paris:20260408T120000
DTEND;TZID=Europe/Paris:20260408T123000
DTSTAMP:20260424T042240
CREATED:20260331T100226Z
LAST-MODIFIED:20260331T100226Z
UID:10001131-1775649600-1775651400@familiespelvalencia.org
SUMMARY:Planetari. Viatge de les Estreles
DESCRIPTION:Astéria\, una adorable estreleta de mar\, somia amb viure una aventura\, igual que el seu heroi\, el Capità Octopus. Un matí\, mentre contempla el cel estrelat que dóna pas a l’alba\, una nau espacial s’estavella al seu costat. A bord es troba Stella\, una intrèpida estrela fugaç que necessita urgentment combustible per a poder tornar a l’espai. Juntes\, s’embarquen en una emocionant cerca de metà en les profunditats de l’oceà. Durant el seu viatge\, Astéria li mostra a Stella la fascinant diversitat d’espècies marines\, mentre que Stella comparteix els seus coneixements sobre la Terra\, la Lluna i el Sol. A poc a poc\, descobreixen la màgica connexió que uneix la vida submarina amb la immensitat de l’espai. \nDurada 34 minuts \nMés informació i venda d’entrades: Planetari de Castelló
URL:https://familiespelvalencia.org/activitat/planetari-viatge-de-les-estreles/2026-04-08/
LOCATION:Planetari de Castelló\, Passeig Marítim\, 1 (Grau de Castelló)\, Castelló\, Plana Alta\, 12100
CATEGORIES:Comarques del nord
ATTACH;FMTTYPE=image/png:https://familiespelvalencia.org/wp-content/uploads/2026/03/Viatge-de-les-Estreles.png
GEO:39.9793318;0.022053
X-APPLE-STRUCTURED-LOCATION;VALUE=URI;X-ADDRESS=Planetari de Castelló Passeig Marítim 1 (Grau de Castelló) Castelló Plana Alta 12100;X-APPLE-RADIUS=500;X-TITLE=Passeig Marítim\, 1 (Grau de Castelló):geo:0.022053,39.9793318
END:VEVENT
BEGIN:VEVENT
DTSTART;TZID=Europe/Paris:20260408T170000
DTEND;TZID=Europe/Paris:20260408T173000
DTSTAMP:20260424T042240
CREATED:20260315T154656Z
LAST-MODIFIED:20260331T145833Z
UID:10001146-1775667600-1775669400@familiespelvalencia.org
SUMMARY:Documental al Planetari. Cel profund
DESCRIPTION:Documental que descriu allò que s’amaga darrere del fons negre de la nit. Les persones assistents podran viatjar a través de les meravelles que s’han descobert darrere d’aquest llenç negre sobre el qual es dibuixa la nit estrelada. Al llarg de 30 minuts es presenten les imatges més espectaculars obtingudes pels grans observatoris del món\, tant des de la superfície de la Terra com des de l’espai. Aquestes imatges ens parlen d’un univers fascinant i complex\, però d’una bellesa indescriptible. (Públic jove i general) \nDurada: 30 min \nMés informació: Planetari de Castelló
URL:https://familiespelvalencia.org/activitat/documental-al-planetari-cel-profund-3/2026-04-08/
LOCATION:Planetari de Castelló\, Passeig Marítim\, 1 (Grau de Castelló)\, Castelló\, Plana Alta\, 12100
CATEGORIES:Comarques del nord
ATTACH;FMTTYPE=image/jpeg:https://familiespelvalencia.org/wp-content/uploads/2026/01/cel-profund.jpg
GEO:39.9793318;0.022053
X-APPLE-STRUCTURED-LOCATION;VALUE=URI;X-ADDRESS=Planetari de Castelló Passeig Marítim 1 (Grau de Castelló) Castelló Plana Alta 12100;X-APPLE-RADIUS=500;X-TITLE=Passeig Marítim\, 1 (Grau de Castelló):geo:0.022053,39.9793318
END:VEVENT
BEGIN:VEVENT
DTSTART;TZID=Europe/Paris:20260409T120000
DTEND;TZID=Europe/Paris:20260409T130000
DTSTAMP:20260424T042240
CREATED:20260331T095119Z
LAST-MODIFIED:20260331T095119Z
UID:10001127-1775736000-1775739600@familiespelvalencia.org
SUMMARY:Pequeplanetari en viu
DESCRIPTION:En aquestes projeccions és el personal del planetari és qui\, des de la cúpula\, s’encarrega de recórrer el cel i proposar els continguts\, en lloc de les projeccions de planetari habituals. Descobrirem estrelles i constel·lacions del cel de Pasqua\, així com espectaculars recorreguts per la galàxia. No és necessari inscriure’s prèviament en l’activitat\, però sí que s’ha d’arreplegar l’entrada en taquilla des de mitja hora abans de l’inici. Aforament limitat \nEls menors han d’accedir a la sala acompanyats. | Activitat dirigida a públic infantil i familiar. Especialment dedicada a xiquets i xiquetes de fins a uns 10-12 anys \nMés informació: Planetari de Castelló
URL:https://familiespelvalencia.org/activitat/pequeplanetari-en-viu/2026-04-09/
LOCATION:Planetari de Castelló\, Passeig Marítim\, 1 (Grau de Castelló)\, Castelló\, Plana Alta\, 12100
CATEGORIES:Comarques del nord
ATTACH;FMTTYPE=image/png:https://familiespelvalencia.org/wp-content/uploads/2026/03/Pequeplanetari-val.png
GEO:39.9793318;0.022053
X-APPLE-STRUCTURED-LOCATION;VALUE=URI;X-ADDRESS=Planetari de Castelló Passeig Marítim 1 (Grau de Castelló) Castelló Plana Alta 12100;X-APPLE-RADIUS=500;X-TITLE=Passeig Marítim\, 1 (Grau de Castelló):geo:0.022053,39.9793318
END:VEVENT
BEGIN:VEVENT
DTSTART;TZID=Europe/Paris:20260409T170000
DTEND;TZID=Europe/Paris:20260409T173000
DTSTAMP:20260424T042240
CREATED:20260315T152755Z
LAST-MODIFIED:20260331T145353Z
UID:10001144-1775754000-1775755800@familiespelvalencia.org
SUMMARY:Documental al Planetari. Viatjant amb la llum
DESCRIPTION:A través de la conversa entre un xiquet i la seua mare\, Viatjant amb Llum aborda la importància de la llum en tots els àmbits de la nostra vida. La pel·lícula presenta diferents escenaris que revelen la complexitat de la llum i la seua influència directa en el nostre planeta. El Sol és l’estrela més pròxima a la Terra i genera l’energia que proporciona la llum i la calor necessaris per a la vida. L’estudi de la llum del Sol i d’altres estreles i galàxies permet desenvolupar diversos models que expliquen l’origen\, estructura i evolució de l’univers. No obstant això\, el Sol no és l’única font de llum natural. El foc ha acompanyat a la Terra des dels seus inicis i ha jugat un paper molt important en l’evolució de l’ésser humà\, tant és així que el seu descobriment per part de les societats primitives va canviar la seua forma de vida. Fins i tot la llum artificial i les seues aplicacions en medicina o comunicació revelen la relació entre humanitat\, vida i llum. \nPúblic: infantil i jove // Durada: 29 minuts \nMés informació i venda d’entrades: Planetari de Castelló
URL:https://familiespelvalencia.org/activitat/documental-al-planetari-viatjant-amb-la-llum-3/2026-04-09/
LOCATION:Planetari de Castelló\, Passeig Marítim\, 1 (Grau de Castelló)\, Castelló\, Plana Alta\, 12100
CATEGORIES:Comarques del nord
ATTACH;FMTTYPE=image/jpeg:https://familiespelvalencia.org/wp-content/uploads/2025/12/Viatjant-amb-la-llum.jpg
GEO:39.9793318;0.022053
X-APPLE-STRUCTURED-LOCATION;VALUE=URI;X-ADDRESS=Planetari de Castelló Passeig Marítim 1 (Grau de Castelló) Castelló Plana Alta 12100;X-APPLE-RADIUS=500;X-TITLE=Passeig Marítim\, 1 (Grau de Castelló):geo:0.022053,39.9793318
END:VEVENT
BEGIN:VEVENT
DTSTART;TZID=Europe/Paris:20260410T120000
DTEND;TZID=Europe/Paris:20260410T123000
DTSTAMP:20260424T042240
CREATED:20260331T100226Z
LAST-MODIFIED:20260331T100226Z
UID:10001132-1775822400-1775824200@familiespelvalencia.org
SUMMARY:Planetari. Viatge de les Estreles
DESCRIPTION:Astéria\, una adorable estreleta de mar\, somia amb viure una aventura\, igual que el seu heroi\, el Capità Octopus. Un matí\, mentre contempla el cel estrelat que dóna pas a l’alba\, una nau espacial s’estavella al seu costat. A bord es troba Stella\, una intrèpida estrela fugaç que necessita urgentment combustible per a poder tornar a l’espai. Juntes\, s’embarquen en una emocionant cerca de metà en les profunditats de l’oceà. Durant el seu viatge\, Astéria li mostra a Stella la fascinant diversitat d’espècies marines\, mentre que Stella comparteix els seus coneixements sobre la Terra\, la Lluna i el Sol. A poc a poc\, descobreixen la màgica connexió que uneix la vida submarina amb la immensitat de l’espai. \nDurada 34 minuts \nMés informació i venda d’entrades: Planetari de Castelló
URL:https://familiespelvalencia.org/activitat/planetari-viatge-de-les-estreles/2026-04-10/
LOCATION:Planetari de Castelló\, Passeig Marítim\, 1 (Grau de Castelló)\, Castelló\, Plana Alta\, 12100
CATEGORIES:Comarques del nord
ATTACH;FMTTYPE=image/png:https://familiespelvalencia.org/wp-content/uploads/2026/03/Viatge-de-les-Estreles.png
GEO:39.9793318;0.022053
X-APPLE-STRUCTURED-LOCATION;VALUE=URI;X-ADDRESS=Planetari de Castelló Passeig Marítim 1 (Grau de Castelló) Castelló Plana Alta 12100;X-APPLE-RADIUS=500;X-TITLE=Passeig Marítim\, 1 (Grau de Castelló):geo:0.022053,39.9793318
END:VEVENT
BEGIN:VEVENT
DTSTART;TZID=Europe/Paris:20260410T170000
DTEND;TZID=Europe/Paris:20260410T173000
DTSTAMP:20260424T042240
CREATED:20260315T153944Z
LAST-MODIFIED:20260331T150837Z
UID:10001159-1775840400-1775842200@familiespelvalencia.org
SUMMARY:Documental al Planetari. Beyond the Sun
DESCRIPTION:Més enllà del Sol\, més enllà del nostre sistema solar\, hi ha planetes que orbiten al voltant d’altres estrelles: els planetes extrasolars. En aquesta projecció acompanyarem Celeste en el seu viatge per a conéixer nous mons: alguns de gelats\, d’altres que orbiten dos estrelles… i aprendrem com es poden descobrir aquests planetes. \nPúblic: infantil i jove // Durada: 26 minuts \nMés informació: Planetari de Castelló
URL:https://familiespelvalencia.org/activitat/documental-al-planetari-beyond-the-sun-5/2026-04-10/
LOCATION:Planetari de Castelló\, Passeig Marítim\, 1 (Grau de Castelló)\, Castelló\, Plana Alta\, 12100
CATEGORIES:Comarques del nord
ATTACH;FMTTYPE=image/png:https://familiespelvalencia.org/wp-content/uploads/2025/12/beyond-the-sun.png
GEO:39.9793318;0.022053
X-APPLE-STRUCTURED-LOCATION;VALUE=URI;X-ADDRESS=Planetari de Castelló Passeig Marítim 1 (Grau de Castelló) Castelló Plana Alta 12100;X-APPLE-RADIUS=500;X-TITLE=Passeig Marítim\, 1 (Grau de Castelló):geo:0.022053,39.9793318
END:VEVENT
BEGIN:VEVENT
DTSTART;TZID=Europe/Paris:20260411T120000
DTEND;TZID=Europe/Paris:20260411T123000
DTSTAMP:20260424T042240
CREATED:20260315T153103Z
LAST-MODIFIED:20260331T150203Z
UID:10001152-1775908800-1775910600@familiespelvalencia.org
SUMMARY:Documental al Planetari. La xiqueta que sabia caminar al revés
DESCRIPTION:La xiqueta que sabia caminar al revés és un personatge molt especial. Coneix els secrets que guarda la Lluna\, sap escoltar les marees i sol parlar amb els arbres\, però el que més li agrada fer és menjar pastissos amb els seus amics mentre contempla el cel estrelat. Potser per això fa temps que va aprendre a caminar al revés\, per a poder tindre sempre el cel sota els peus. És un conte capgirat\, una història que vol convidar-nos a contemplar el que ens envolta des d’un nou punt de vista. Ací tot és diferent\, i allí on abans només véiem sòl\, ara potser podrem veure el cel. \nPúblic: infantil i jove // Durada: 27 minuts \nMés informació i venda d’entrades: Planetari de Castelló
URL:https://familiespelvalencia.org/activitat/documental-al-planetari-la-xiqueta-que-sabia-caminar-al-reves-7/2026-04-11/
LOCATION:Planetari de Castelló\, Passeig Marítim\, 1 (Grau de Castelló)\, Castelló\, Plana Alta\, 12100
CATEGORIES:Comarques del nord
ATTACH;FMTTYPE=image/jpeg:https://familiespelvalencia.org/wp-content/uploads/2025/12/La-xiqueta-que-sabia-caminar-al-reves.jpg
GEO:39.9793318;0.022053
X-APPLE-STRUCTURED-LOCATION;VALUE=URI;X-ADDRESS=Planetari de Castelló Passeig Marítim 1 (Grau de Castelló) Castelló Plana Alta 12100;X-APPLE-RADIUS=500;X-TITLE=Passeig Marítim\, 1 (Grau de Castelló):geo:0.022053,39.9793318
END:VEVENT
BEGIN:VEVENT
DTSTART;TZID=Europe/Paris:20260411T180000
DTEND;TZID=Europe/Paris:20260411T183000
DTSTAMP:20260424T042240
CREATED:20260315T154221Z
LAST-MODIFIED:20260331T150551Z
UID:10001156-1775930400-1775932200@familiespelvalencia.org
SUMMARY:Documental al Planetari. Dinosaures
DESCRIPTION:Com a quasi tots els xiquets\, a Celeste li fascinen els dinosaures. S’està preparant per a parlar en classe sobre la seua extinció quan Moon\, un màgic personatge replet de saviesa\, li planteja un dubte: i si et diguera que encara queden dinosaures entre nosaltres? Celeste acompanyarà a Moon en un viatge en el temps. Una apassionant aventura que els portarà a visitar la Terra en un passat molt\, molt remot. Veuran fascinants transformacions que han acompanyat a aquests éssers durant milions d’anys creant criatures gegants\, éssers cuirassats i super depredadors\, fins al dia en què el gran impacte va provocar una extinció massiva en la Terra. Però no tot està perdut. Celeste descobrirà la clau de la seua supervivència. \nPúblic: infantil i jove // Durada: 28 minuts \nMés informació i venda d’entrades: Planetari de Castelló
URL:https://familiespelvalencia.org/activitat/documental-al-planetari-dinosaures-10/2026-04-11/
LOCATION:Planetari de Castelló\, Passeig Marítim\, 1 (Grau de Castelló)\, Castelló\, Plana Alta\, 12100
CATEGORIES:Comarques del nord
ATTACH;FMTTYPE=image/jpeg:https://familiespelvalencia.org/wp-content/uploads/2025/12/dinosaures-castello.jpg
GEO:39.9793318;0.022053
X-APPLE-STRUCTURED-LOCATION;VALUE=URI;X-ADDRESS=Planetari de Castelló Passeig Marítim 1 (Grau de Castelló) Castelló Plana Alta 12100;X-APPLE-RADIUS=500;X-TITLE=Passeig Marítim\, 1 (Grau de Castelló):geo:0.022053,39.9793318
END:VEVENT
BEGIN:VEVENT
DTSTART;TZID=Europe/Paris:20260412T120000
DTEND;TZID=Europe/Paris:20260412T123000
DTSTAMP:20260424T042240
CREATED:20260331T100226Z
LAST-MODIFIED:20260331T100226Z
UID:10001133-1775995200-1775997000@familiespelvalencia.org
SUMMARY:Planetari. Viatge de les Estreles
DESCRIPTION:Astéria\, una adorable estreleta de mar\, somia amb viure una aventura\, igual que el seu heroi\, el Capità Octopus. Un matí\, mentre contempla el cel estrelat que dóna pas a l’alba\, una nau espacial s’estavella al seu costat. A bord es troba Stella\, una intrèpida estrela fugaç que necessita urgentment combustible per a poder tornar a l’espai. Juntes\, s’embarquen en una emocionant cerca de metà en les profunditats de l’oceà. Durant el seu viatge\, Astéria li mostra a Stella la fascinant diversitat d’espècies marines\, mentre que Stella comparteix els seus coneixements sobre la Terra\, la Lluna i el Sol. A poc a poc\, descobreixen la màgica connexió que uneix la vida submarina amb la immensitat de l’espai. \nDurada 34 minuts \nMés informació i venda d’entrades: Planetari de Castelló
URL:https://familiespelvalencia.org/activitat/planetari-viatge-de-les-estreles/2026-04-12/
LOCATION:Planetari de Castelló\, Passeig Marítim\, 1 (Grau de Castelló)\, Castelló\, Plana Alta\, 12100
CATEGORIES:Comarques del nord
ATTACH;FMTTYPE=image/png:https://familiespelvalencia.org/wp-content/uploads/2026/03/Viatge-de-les-Estreles.png
GEO:39.9793318;0.022053
X-APPLE-STRUCTURED-LOCATION;VALUE=URI;X-ADDRESS=Planetari de Castelló Passeig Marítim 1 (Grau de Castelló) Castelló Plana Alta 12100;X-APPLE-RADIUS=500;X-TITLE=Passeig Marítim\, 1 (Grau de Castelló):geo:0.022053,39.9793318
END:VEVENT
END:VCALENDAR