BEGIN:VCALENDAR
VERSION:2.0
PRODID:-//FAMÍLIES PEL VALENCIÀ - ECPv6.15.20//NONSGML v1.0//EN
CALSCALE:GREGORIAN
METHOD:PUBLISH
X-WR-CALNAME:FAMÍLIES PEL VALENCIÀ
X-ORIGINAL-URL:https://familiespelvalencia.org
X-WR-CALDESC:Esdeveniments per FAMÍLIES PEL VALENCIÀ
REFRESH-INTERVAL;VALUE=DURATION:PT1H
X-Robots-Tag:noindex
X-PUBLISHED-TTL:PT1H
BEGIN:VTIMEZONE
TZID:Europe/Paris
BEGIN:DAYLIGHT
TZOFFSETFROM:+0100
TZOFFSETTO:+0200
TZNAME:CEST
DTSTART:20250330T010000
END:DAYLIGHT
BEGIN:STANDARD
TZOFFSETFROM:+0200
TZOFFSETTO:+0100
TZNAME:CET
DTSTART:20251026T010000
END:STANDARD
BEGIN:DAYLIGHT
TZOFFSETFROM:+0100
TZOFFSETTO:+0200
TZNAME:CEST
DTSTART:20260329T010000
END:DAYLIGHT
BEGIN:STANDARD
TZOFFSETFROM:+0200
TZOFFSETTO:+0100
TZNAME:CET
DTSTART:20261025T010000
END:STANDARD
BEGIN:DAYLIGHT
TZOFFSETFROM:+0100
TZOFFSETTO:+0200
TZNAME:CEST
DTSTART:20270328T010000
END:DAYLIGHT
BEGIN:STANDARD
TZOFFSETFROM:+0200
TZOFFSETTO:+0100
TZNAME:CET
DTSTART:20271031T010000
END:STANDARD
END:VTIMEZONE
BEGIN:VEVENT
DTSTART;TZID=Europe/Paris:20260317T180000
DTEND;TZID=Europe/Paris:20260317T183000
DTSTAMP:20260424T044548
CREATED:20260315T152755Z
LAST-MODIFIED:20260331T145353Z
UID:10001056-1773770400-1773772200@familiespelvalencia.org
SUMMARY:Documental al Planetari. Viatjant amb la llum
DESCRIPTION:A través de la conversa entre un xiquet i la seua mare\, Viatjant amb Llum aborda la importància de la llum en tots els àmbits de la nostra vida. La pel·lícula presenta diferents escenaris que revelen la complexitat de la llum i la seua influència directa en el nostre planeta. El Sol és l’estrela més pròxima a la Terra i genera l’energia que proporciona la llum i la calor necessaris per a la vida. L’estudi de la llum del Sol i d’altres estreles i galàxies permet desenvolupar diversos models que expliquen l’origen\, estructura i evolució de l’univers. No obstant això\, el Sol no és l’única font de llum natural. El foc ha acompanyat a la Terra des dels seus inicis i ha jugat un paper molt important en l’evolució de l’ésser humà\, tant és així que el seu descobriment per part de les societats primitives va canviar la seua forma de vida. Fins i tot la llum artificial i les seues aplicacions en medicina o comunicació revelen la relació entre humanitat\, vida i llum. \nPúblic: infantil i jove // Durada: 29 minuts \nMés informació i venda d’entrades: Planetari de Castelló
URL:https://familiespelvalencia.org/activitat/documental-al-planetari-viatjant-amb-la-llum-3/2026-03-17/
LOCATION:Planetari de Castelló\, Passeig Marítim\, 1 (Grau de Castelló)\, Castelló\, Plana Alta\, 12100
CATEGORIES:Comarques del nord
ATTACH;FMTTYPE=image/jpeg:https://familiespelvalencia.org/wp-content/uploads/2025/12/Viatjant-amb-la-llum.jpg
GEO:39.9793318;0.022053
X-APPLE-STRUCTURED-LOCATION;VALUE=URI;X-ADDRESS=Planetari de Castelló Passeig Marítim 1 (Grau de Castelló) Castelló Plana Alta 12100;X-APPLE-RADIUS=500;X-TITLE=Passeig Marítim\, 1 (Grau de Castelló):geo:0.022053,39.9793318
END:VEVENT
BEGIN:VEVENT
DTSTART;TZID=Europe/Paris:20260318T113000
DTEND;TZID=Europe/Paris:20260318T130000
DTSTAMP:20260424T044548
CREATED:20260217T105621Z
LAST-MODIFIED:20260217T105621Z
UID:10000972-1773833400-1773838800@familiespelvalencia.org
SUMMARY:Concert. Trobadorets
DESCRIPTION:La festa està assegurada a Benicarló el dimecres 18 de març\, quan la Falla Mercat Vell acollirà una actuació matinal de Trobadorets\, una de les bandes més estimades pel públic familiar. A partir de les 11.30 h\, el carrer Joan Carles I s’omplirà de música\, moviment i bon humor\, amb un espectacle pensat perquè xiquets i xiquetes gaudisquen\, ballen i celebren les Falles en un ambient alegre i participatiu. Un matí perfecte per a les famílies que vulguen començar la jornada fallera amb energia i música en valencià.
URL:https://familiespelvalencia.org/activitat/concert-trobadorets-11/
LOCATION:Falla Mercat Vell\, carrer Joan Carles I\, Benicarló\, Baix Maestrat\, 12580
CATEGORIES:Comarques del nord
ATTACH;FMTTYPE=image/jpeg:https://familiespelvalencia.org/wp-content/uploads/2026/02/Trobadorets-Benicarlo.jpg
GEO:40.4126493;0.4243013
X-APPLE-STRUCTURED-LOCATION;VALUE=URI;X-ADDRESS=Falla Mercat Vell carrer Joan Carles I Benicarló Baix Maestrat 12580;X-APPLE-RADIUS=500;X-TITLE=carrer Joan Carles I:geo:0.4243013,40.4126493
END:VEVENT
BEGIN:VEVENT
DTSTART;TZID=Europe/Paris:20260321T180000
DTEND;TZID=Europe/Paris:20260321T190000
DTSTAMP:20260424T044548
CREATED:20260209T211625Z
LAST-MODIFIED:20260209T211735Z
UID:10000939-1774116000-1774119600@familiespelvalencia.org
SUMMARY:Teatre. Boira
DESCRIPTION:Últimament LLum està una mica ofuscada\, però res que no arregle una bona festa amb família\, amics i amigues. I per a fer-ho més especial encara\, li hem composat una cançó per al seu aniversari. \nEdat recomanada: A partir de 4 anys // Durada 50 minuts \nProducció: Escalante / Diputació de València // Direcció: Rebeca Valls // Intèrprets: Aina Gimeno / Rebeca Artal-Dato / Enric Romaguera / Marta Torres \nMés informació i venda d’entrades: Teatre Principal de Castelló
URL:https://familiespelvalencia.org/activitat/teatre-boira/
LOCATION:Teatre Principal.- Castelló de la Plana\, Pl. de la Pau\, s/n\, Castelló de la Plana\, Plana Alta\, 12001
CATEGORIES:Comarques del nord
ATTACH;FMTTYPE=image/jpeg:https://familiespelvalencia.org/wp-content/uploads/2026/02/Boira.jpg
GEO:39.9836257;-0.0379674
X-APPLE-STRUCTURED-LOCATION;VALUE=URI;X-ADDRESS=Teatre Principal.- Castelló de la Plana Pl. de la Pau s/n Castelló de la Plana Plana Alta 12001;X-APPLE-RADIUS=500;X-TITLE=Pl. de la Pau\, s/n:geo:-0.0379674,39.9836257
END:VEVENT
BEGIN:VEVENT
DTSTART;TZID=Europe/Paris:20260321T180000
DTEND;TZID=Europe/Paris:20260321T235900
DTSTAMP:20260424T044548
CREATED:20260321T064455Z
LAST-MODIFIED:20260321T064621Z
UID:10001087-1774116000-1774137540@familiespelvalencia.org
SUMMARY:III Vilafest. La pedra feta art
DESCRIPTION:Vilafamés torna a situar la cultura al centre amb la celebració del III Vilafafest\, un festival de música en valencià que aposta per reivindicar l’orgull rural\, la identitat dels pobles i la defensa del territori. La cita tindrà lloc el 21 de març a la Plaça la Tanca\, amb entrada gratuïta i un cartell d’artistes valencians de primer nivell.\nEl Vilafafest naix de la lluita veïnal contra l’especulació energètica i es consolida com un espai on música\, paisatge i art van de la mà\, enguany sota el lema «La pedra feta art»\, en diàleg amb el territori i el MACVAC. Una proposta cultural compromesa que reforça Vilafamés com a referent de ruralitat viva i cultura arrelada. \nMés informació: Ajuntament de Vilafamés
URL:https://familiespelvalencia.org/activitat/iii-vilafest-la-pedra-feta-art/
LOCATION:Vilafamés.- Plaça de la Tanca\, Plaça de la Tanca\, Vilafamés\, Plana Alta\, 12192
CATEGORIES:Comarques del nord
ATTACH;FMTTYPE=image/jpeg:https://familiespelvalencia.org/wp-content/uploads/2026/03/III-Vilafafest-2026.jpg
GEO:40.1177251;-0.0497627
X-APPLE-STRUCTURED-LOCATION;VALUE=URI;X-ADDRESS=Vilafamés.- Plaça de la Tanca Plaça de la Tanca Vilafamés Plana Alta 12192;X-APPLE-RADIUS=500;X-TITLE=Plaça de la Tanca:geo:-0.0497627,40.1177251
END:VEVENT
BEGIN:VEVENT
DTSTART;TZID=Europe/Paris:20260322T120000
DTEND;TZID=Europe/Paris:20260322T123000
DTSTAMP:20260424T044548
CREATED:20260315T154502Z
LAST-MODIFIED:20260331T100934Z
UID:10001078-1774180800-1774182600@familiespelvalencia.org
SUMMARY:Documental al Planetari. Explorant el sistema solar
DESCRIPTION:Producció espectacular que ens mostra els planetes veïns de la Terra. Aquest documental ens transporta\, en un viatge extraordinari\, a diferents escenaris del sistema solar interior i aconsegueix despertar la curiositat en el públic a l’hora d’entendre i apreciar aspectes de cossos com la Lluna\, Venus\, Mart\, asteroides i estrelles\, fins ara desconeguts per a la gran majoria. El Món Anell no fa referència a una estructura artificial com en la novel·la de Larry Niven\, sinó a Gliese 581g\, un exoplaneta que podria tindre una zona habitable en forma d’anell en tota la franja del capvespre. \nPúblic: jove // Durada: 24 minuts \nMés informació i venda d’entrades: Planetari de Castelló
URL:https://familiespelvalencia.org/activitat/documental-al-planetari-explorant-el-sistema-solar-9/2026-03-22/
LOCATION:Planetari de Castelló\, Passeig Marítim\, 1 (Grau de Castelló)\, Castelló\, Plana Alta\, 12100
CATEGORIES:Comarques del nord
ATTACH;FMTTYPE=image/png:https://familiespelvalencia.org/wp-content/uploads/2026/02/Explorant.png
GEO:39.9793318;0.022053
X-APPLE-STRUCTURED-LOCATION;VALUE=URI;X-ADDRESS=Planetari de Castelló Passeig Marítim 1 (Grau de Castelló) Castelló Plana Alta 12100;X-APPLE-RADIUS=500;X-TITLE=Passeig Marítim\, 1 (Grau de Castelló):geo:0.022053,39.9793318
END:VEVENT
BEGIN:VEVENT
DTSTART;TZID=Europe/Paris:20260322T120000
DTEND;TZID=Europe/Paris:20260322T133000
DTSTAMP:20260424T044548
CREATED:20260322T072545Z
LAST-MODIFIED:20260322T073725Z
UID:10001090-1774180800-1774186200@familiespelvalencia.org
SUMMARY:Concert. Tesa
DESCRIPTION:Tesa arribarà al Llavador d’Eslida dins del cicle Acústics al Llavador amb una proposta íntima i de proximitat en un espai patrimonial emblemàtic. En format acústic\, i acompanyada per Pere Rodenas a la guitarra i LïLMäR al saxo\, repassarà la seua trajectòria posant en primer pla la força de la paraula i la música en valencià. Una matinal pensada per a escoltar amb calma\, connectar amb les lletres i gaudir d’un concert proper i familiar\, en sintonia amb l’esperit d’aquest cicle que aposta per la cultura i la música de curta distància. \nPúblic jove i públic en general
URL:https://familiespelvalencia.org/activitat/concert-tesa/
LOCATION:Eslida.- Llavador\, Carrer del Llavador\, Eslida\, Plana Baixa\, 12528
CATEGORIES:Comarques del nord
ATTACH;FMTTYPE=image/jpeg:https://familiespelvalencia.org/wp-content/uploads/2026/03/Acustics-al-llavdor.jpg
GEO:39.8776762;-0.3050414
X-APPLE-STRUCTURED-LOCATION;VALUE=URI;X-ADDRESS=Eslida.- Llavador Carrer del Llavador Eslida Plana Baixa 12528;X-APPLE-RADIUS=500;X-TITLE=Carrer del Llavador:geo:-0.3050414,39.8776762
END:VEVENT
END:VCALENDAR