BEGIN:VCALENDAR
VERSION:2.0
PRODID:-//FAMÍLIES PEL VALENCIÀ - ECPv6.15.20//NONSGML v1.0//EN
CALSCALE:GREGORIAN
METHOD:PUBLISH
X-WR-CALNAME:FAMÍLIES PEL VALENCIÀ
X-ORIGINAL-URL:https://familiespelvalencia.org
X-WR-CALDESC:Esdeveniments per FAMÍLIES PEL VALENCIÀ
REFRESH-INTERVAL;VALUE=DURATION:PT1H
X-Robots-Tag:noindex
X-PUBLISHED-TTL:PT1H
BEGIN:VTIMEZONE
TZID:Europe/Paris
BEGIN:DAYLIGHT
TZOFFSETFROM:+0100
TZOFFSETTO:+0200
TZNAME:CEST
DTSTART:20250330T010000
END:DAYLIGHT
BEGIN:STANDARD
TZOFFSETFROM:+0200
TZOFFSETTO:+0100
TZNAME:CET
DTSTART:20251026T010000
END:STANDARD
BEGIN:DAYLIGHT
TZOFFSETFROM:+0100
TZOFFSETTO:+0200
TZNAME:CEST
DTSTART:20260329T010000
END:DAYLIGHT
BEGIN:STANDARD
TZOFFSETFROM:+0200
TZOFFSETTO:+0100
TZNAME:CET
DTSTART:20261025T010000
END:STANDARD
BEGIN:DAYLIGHT
TZOFFSETFROM:+0100
TZOFFSETTO:+0200
TZNAME:CEST
DTSTART:20270328T010000
END:DAYLIGHT
BEGIN:STANDARD
TZOFFSETFROM:+0200
TZOFFSETTO:+0100
TZNAME:CET
DTSTART:20271031T010000
END:STANDARD
END:VTIMEZONE
BEGIN:VEVENT
DTSTART;TZID=Europe/Paris:20260226T130000
DTEND;TZID=Europe/Paris:20260226T133000
DTSTAMP:20260424T044845
CREATED:20260207T075440Z
LAST-MODIFIED:20260207T075440Z
UID:10000933-1772110800-1772112600@familiespelvalencia.org
SUMMARY:Documental al Planetari. Beyond the Sun
DESCRIPTION:Més enllà del Sol\, més enllà del nostre sistema solar\, hi ha planetes que orbiten al voltant d’altres estrelles: els planetes extrasolars. En aquesta projecció acompanyarem Celeste en el seu viatge per a conéixer nous mons: alguns de gelats\, d’altres que orbiten dos estrelles… i aprendrem com es poden descobrir aquests planetes. \nPúblic: infantil i jove // Durada: 26 minuts \nMés informació: Planetari de Castelló
URL:https://familiespelvalencia.org/activitat/documental-al-planetari-beyond-the-sun-4/2026-02-26/
LOCATION:Planetari de Castelló\, Passeig Marítim\, 1 (Grau de Castelló)\, Castelló\, Plana Alta\, 12100
CATEGORIES:Comarques del nord
ATTACH;FMTTYPE=image/png:https://familiespelvalencia.org/wp-content/uploads/2025/12/beyond-the-sun.png
GEO:39.9793318;0.022053
X-APPLE-STRUCTURED-LOCATION;VALUE=URI;X-ADDRESS=Planetari de Castelló Passeig Marítim 1 (Grau de Castelló) Castelló Plana Alta 12100;X-APPLE-RADIUS=500;X-TITLE=Passeig Marítim\, 1 (Grau de Castelló):geo:0.022053,39.9793318
END:VEVENT
BEGIN:VEVENT
DTSTART;TZID=Europe/Paris:20260228T180000
DTEND;TZID=Europe/Paris:20260228T183000
DTSTAMP:20260424T044845
CREATED:20260207T064632Z
LAST-MODIFIED:20260207T064632Z
UID:10000925-1772301600-1772303400@familiespelvalencia.org
SUMMARY:Documental al Planetari. Dinosaures
DESCRIPTION:Com a quasi tots els xiquets\, a Celeste li fascinen els dinosaures. S’està preparant per a parlar en classe sobre la seua extinció quan Moon\, un màgic personatge replet de saviesa\, li planteja un dubte: i si et diguera que encara queden dinosaures entre nosaltres? Celeste acompanyarà a Moon en un viatge en el temps. Una apassionant aventura que els portarà a visitar la Terra en un passat molt\, molt remot. Veuran fascinants transformacions que han acompanyat a aquests éssers durant milions d’anys creant criatures gegants\, éssers cuirassats i super depredadors\, fins al dia en què el gran impacte va provocar una extinció massiva en la Terra. Però no tot està perdut. Celeste descobrirà la clau de la seua supervivència. \nPúblic: infantil i jove // Durada: 28 minuts \nMés informació i venda d’entrades: Planetari de Castelló
URL:https://familiespelvalencia.org/activitat/documental-al-planetari-dinosaures-9/2026-02-28/
LOCATION:Planetari de Castelló\, Passeig Marítim\, 1 (Grau de Castelló)\, Castelló\, Plana Alta\, 12100
CATEGORIES:Comarques del nord
ATTACH;FMTTYPE=image/jpeg:https://familiespelvalencia.org/wp-content/uploads/2025/12/dinosaures-castello.jpg
GEO:39.9793318;0.022053
X-APPLE-STRUCTURED-LOCATION;VALUE=URI;X-ADDRESS=Planetari de Castelló Passeig Marítim 1 (Grau de Castelló) Castelló Plana Alta 12100;X-APPLE-RADIUS=500;X-TITLE=Passeig Marítim\, 1 (Grau de Castelló):geo:0.022053,39.9793318
END:VEVENT
END:VCALENDAR