BEGIN:VCALENDAR
VERSION:2.0
PRODID:-//FAMÍLIES PEL VALENCIÀ - ECPv6.15.20//NONSGML v1.0//EN
CALSCALE:GREGORIAN
METHOD:PUBLISH
X-ORIGINAL-URL:https://familiespelvalencia.org
X-WR-CALDESC:Esdeveniments per FAMÍLIES PEL VALENCIÀ
REFRESH-INTERVAL;VALUE=DURATION:PT1H
X-Robots-Tag:noindex
X-PUBLISHED-TTL:PT1H
BEGIN:VTIMEZONE
TZID:Europe/Paris
BEGIN:DAYLIGHT
TZOFFSETFROM:+0100
TZOFFSETTO:+0200
TZNAME:CEST
DTSTART:20240331T010000
END:DAYLIGHT
BEGIN:STANDARD
TZOFFSETFROM:+0200
TZOFFSETTO:+0100
TZNAME:CET
DTSTART:20241027T010000
END:STANDARD
BEGIN:DAYLIGHT
TZOFFSETFROM:+0100
TZOFFSETTO:+0200
TZNAME:CEST
DTSTART:20250330T010000
END:DAYLIGHT
BEGIN:STANDARD
TZOFFSETFROM:+0200
TZOFFSETTO:+0100
TZNAME:CET
DTSTART:20251026T010000
END:STANDARD
BEGIN:DAYLIGHT
TZOFFSETFROM:+0100
TZOFFSETTO:+0200
TZNAME:CEST
DTSTART:20260329T010000
END:DAYLIGHT
BEGIN:STANDARD
TZOFFSETFROM:+0200
TZOFFSETTO:+0100
TZNAME:CET
DTSTART:20261025T010000
END:STANDARD
END:VTIMEZONE
BEGIN:VEVENT
DTSTART;TZID=Europe/Paris:20251209T180000
DTEND;TZID=Europe/Paris:20251209T190000
DTSTAMP:20260424T053853
CREATED:20251209T114308Z
LAST-MODIFIED:20251209T114308Z
UID:10000574-1765303200-1765306800@familiespelvalencia.org
SUMMARY:Presentació "Les lletres que estimen el valencià"
DESCRIPTION:Un llibre que ens convida a estimar les lletres i les paraules i a no oblidar mai que una llengua només viu si la utilitzem. \nAmb l’autor: Ricard Tàpera \nPresenta: Maria Nebot \n 
URL:https://familiespelvalencia.org/activitat/presentacio-les-lletres-que-estimen-el-valencia/
LOCATION:Abacus\, Castelló de la Plana\, C/Campoamor\, 30\, Castelló de la Plana\, La Plana Alta
CATEGORIES:Comarques del nord
ATTACH;FMTTYPE=image/jpeg:https://familiespelvalencia.org/wp-content/uploads/2025/12/conte-castello.jpg
GEO:39.9843709;-0.0363212
X-APPLE-STRUCTURED-LOCATION;VALUE=URI;X-ADDRESS=Abacus Castelló de la Plana C/Campoamor 30 Castelló de la Plana La Plana Alta;X-APPLE-RADIUS=500;X-TITLE=C/Campoamor\, 30:geo:-0.0363212,39.9843709
END:VEVENT
BEGIN:VEVENT
DTSTART;TZID=Europe/Paris:20251212T170000
DTEND;TZID=Europe/Paris:20251212T180000
DTSTAMP:20260424T053853
CREATED:20251210T122803Z
LAST-MODIFIED:20251210T122803Z
UID:10000586-1765558800-1765562400@familiespelvalencia.org
SUMMARY:Contacontes L'estrella de Nadal
DESCRIPTION: Continuem amb el Festival Contes i Llegendes 2025 en Borriol!  Us esperem aquest divendres 12 de desembre a les 17.00 h amb el contacontes L’estrella de Nadal\, de Paula te cuenta! Biblioteca Pública Municipal de Borriol Inscripcions fins al dia abans a la biblioteca o per correu electrònic a biblioteca@borriol.es\, remetent el formulari descarregable a  borriol.es/biblioteca \n\n\n\n Vine a gaudir de la màgia dels contes\, les llegendes i la fantasia!
URL:https://familiespelvalencia.org/activitat/contacontes-lestrella-de-nadal/
LOCATION:Biblioteca Muncipal de Borriol\, Av. Saragossa\, 100\, Borriol\, Plana Alta
CATEGORIES:Comarques del nord
ATTACH;FMTTYPE=image/jpeg:https://familiespelvalencia.org/wp-content/uploads/2025/12/lestrela-de-Nadal.jpg
GEO:40.0409383;-0.0693856
X-APPLE-STRUCTURED-LOCATION;VALUE=URI;X-ADDRESS=Biblioteca Muncipal de Borriol Av. Saragossa 100 Borriol Plana Alta;X-APPLE-RADIUS=500;X-TITLE=Av. Saragossa\, 100:geo:-0.0693856,40.0409383
END:VEVENT
BEGIN:VEVENT
DTSTART;TZID=Europe/Paris:20251213T110000
DTEND;TZID=Europe/Paris:20251213T190000
DTSTAMP:20260424T053853
CREATED:20251212T214647Z
LAST-MODIFIED:20251212T214647Z
UID:10000611-1765623600-1765652400@familiespelvalencia.org
SUMMARY:Per la Llengua. Activitats diverses
DESCRIPTION:Per la llengua\, construïm País Valencià celebra el 93é aniversari de les Normes de Castelló amb una jornada plena d’activitats. Les famílies podran gaudir al matí de la Fira d’entitats\, tallers creatius\, el contacontes d’Ana Garcia-Carbó i la mostra de muixerangues\, tot en un ambient festiu i reivindicatiu. A la vesprada\, la cita culmina amb la gran manifestació per la llengua.
URL:https://familiespelvalencia.org/activitat/per-la-llengua-activitats-diverses/
LOCATION:La Muralla Liberal.- Castelló\, Plaça de la Murall Liberal\, Castelló de la Plana\, Plana Alta\, 12003
CATEGORIES:Comarques del nord
ATTACH;FMTTYPE=image/png:https://familiespelvalencia.org/wp-content/uploads/2025/12/per-la-llengua.png
GEO:39.9882976;-0.0331352
X-APPLE-STRUCTURED-LOCATION;VALUE=URI;X-ADDRESS=La Muralla Liberal.- Castelló Plaça de la Murall Liberal Castelló de la Plana Plana Alta 12003;X-APPLE-RADIUS=500;X-TITLE=Plaça de la Murall Liberal:geo:-0.0331352,39.9882976
END:VEVENT
BEGIN:VEVENT
DTSTART;TZID=Europe/Paris:20251213T180000
DTEND;TZID=Europe/Paris:20251213T183000
DTSTAMP:20260424T053853
CREATED:20251204T094622Z
LAST-MODIFIED:20251204T094622Z
UID:10000551-1765648800-1765650600@familiespelvalencia.org
SUMMARY:Documental al Planetari. Dinosaures
DESCRIPTION:Com a quasi tots els xiquets\, a Celeste li fascinen els dinosaures. S’està preparant per a parlar en classe sobre la seua extinció quan Moon\, un màgic personatge replet de saviesa\, li planteja un dubte: i si et diguera que encara queden dinosaures entre nosaltres? Celeste acompanyarà a Moon en un viatge en el temps. Una apassionant aventura que els portarà a visitar la Terra en un passat molt\, molt remot. Veuran fascinants transformacions que han acompanyat a aquests éssers durant milions d’anys creant criatures gegants\, éssers cuirassats i super depredadors\, fins al dia en què el gran impacte va provocar una extinció massiva en la Terra. Però no tot està perdut. Celeste descobrirà la clau de la seua supervivència. \nPúblic: infantil i jove // Durada: 28 minuts \nMés informació i venda d’entrades: Planetari de Castelló
URL:https://familiespelvalencia.org/activitat/documental-al-planetari-dinosaures-2/
LOCATION:Planetari de Castelló\, Passeig Marítim\, 1 (Grau de Castelló)\, Castelló\, Plana Alta\, 12100
CATEGORIES:Comarques del nord
ATTACH;FMTTYPE=image/jpeg:https://familiespelvalencia.org/wp-content/uploads/2025/12/dinosaures-castello.jpg
GEO:39.9793318;0.022053
X-APPLE-STRUCTURED-LOCATION;VALUE=URI;X-ADDRESS=Planetari de Castelló Passeig Marítim 1 (Grau de Castelló) Castelló Plana Alta 12100;X-APPLE-RADIUS=500;X-TITLE=Passeig Marítim\, 1 (Grau de Castelló):geo:0.022053,39.9793318
END:VEVENT
BEGIN:VEVENT
DTSTART;TZID=Europe/Paris:20251214T120000
DTEND;TZID=Europe/Paris:20251214T123000
DTSTAMP:20260424T053853
CREATED:20251204T095749Z
LAST-MODIFIED:20251204T095749Z
UID:10000556-1765713600-1765715400@familiespelvalencia.org
SUMMARY:Documental al Planetari. Explorant el sistema solar
DESCRIPTION:Producció espectacular que ens mostra els planetes veïns de la Terra. Aquest documental ens transporta\, en un viatge extraordinari\, a diferents escenaris del sistema solar interior i aconsegueix despertar la curiositat en el públic a l’hora d’entendre i apreciar aspectes de cossos com la Lluna\, Venus\, Mart\, asteroides i estrelles\, fins ara desconeguts per a la gran majoria. El Món Anell no fa referència a una estructura artificial com en la novel·la de Larry Niven\, sinó a Gliese 581g\, un exoplaneta que podria tindre una zona habitable en forma d’anell en tota la franja del capvespre. \nPúblic: jove // Durada: 24 minuts \nMés informació i venda d’entrades: Planetari de Castelló
URL:https://familiespelvalencia.org/activitat/documental-al-planetari-explorant-el-sistema-solar-2/
LOCATION:Planetari de Castelló\, Passeig Marítim\, 1 (Grau de Castelló)\, Castelló\, Plana Alta\, 12100
CATEGORIES:Comarques del nord
GEO:39.9793318;0.022053
X-APPLE-STRUCTURED-LOCATION;VALUE=URI;X-ADDRESS=Planetari de Castelló Passeig Marítim 1 (Grau de Castelló) Castelló Plana Alta 12100;X-APPLE-RADIUS=500;X-TITLE=Passeig Marítim\, 1 (Grau de Castelló):geo:0.022053,39.9793318
END:VEVENT
BEGIN:VEVENT
DTSTART;TZID=Europe/Paris:20251214T120000
DTEND;TZID=Europe/Paris:20251214T130000
DTSTAMP:20260424T053853
CREATED:20251129T214126Z
LAST-MODIFIED:20251129T214126Z
UID:10000510-1765713600-1765717200@familiespelvalencia.org
SUMMARY:Concert de Trobadorets. 6a fira de les Arts
DESCRIPTION:Vos presentem la programació de la FIRA DE LES ARTS 2025 🧡 \nMúsica en directe\, djs\, taller d’empelts\, mercat d’intercanvi de llavors\, xerrada sobre sobiranìa alimentaria i actuació de @trobadorets per als més menuts i no tan menuts 😊 \nTot això amb la millor cervesa artesana i foodtrucks per a passar un cap de setmana de lo més complet! \n 
URL:https://familiespelvalencia.org/activitat/concert-de-trobadorets-6a-fira-de-les-arts/
LOCATION:Plaça la Tanca\, Plaça de la Tanca\, Vilafamés\, Plana Alta
CATEGORIES:Comarques del nord
GEO:40.1177251;-0.0497627
X-APPLE-STRUCTURED-LOCATION;VALUE=URI;X-ADDRESS=Plaça la Tanca Plaça de la Tanca Vilafamés Plana Alta;X-APPLE-RADIUS=500;X-TITLE=Plaça de la Tanca:geo:-0.0497627,40.1177251
END:VEVENT
END:VCALENDAR